{"text_format":"1","workbook":"xlsx","n_sheets":12,"sheets":["Summary","Funktionsweise","Bestätigung","Grunddaten","BAB","Zusammenzug","Umlageschlüssel","Erträge nach IBB-Kostenträger","Lohnsplitt BW_TS","Changelog","ToDo","System"],"not_rendered":{"charts":0,"images":11,"macros":1,"external_links":0,"defined_names":31,"comments":2,"pivot_tables":0},"unopened":[],"bounds":{"document_bytes":16777216,"sheet_cells":100000,"rows_first":2000,"rows_last":500,"rows_between":2000,"halvings":0,"cell_chars":16384,"cell_head_chars":4096},"cells_cut":0,"cells_raw":0,"read":"whole","date_system":"1900"}

{"sheet":"Summary","index":0,"n_rows":0,"n_cols":0,"rows_kept":0,"cut":false,"hidden":false,"merged":[]}

{"sheet":"Funktionsweise","index":1,"n_rows":127,"n_cols":1,"rows_kept":127,"cut":false,"hidden":false,"merged":[]}
["Funktionsweise BAB und zustätzliche Excel-Sheets"]
[]
[]
[]
[]
[]
[]
[]
[]
[]
[]
[]
[]
[]
[]
[]
[]
[]
[]
[]
[]
[]
[]
[]
[]
[]
[]
[]
[]
[]
[]
[]
[]
[]
[]
[]
[]
[]
[]
[]
[]
[]
[]
[]
[]
[]
[]
[]
[]
[]
[]
[]
[]
[]
[]
[]
[]
[]
[]
[]
[]
[]
[]
[]
[]
[]
[]
[]
[]
[]
[]
[]
[]
[]
[]
[]
[]
[]
[]
[]
[]
[]
[]
[]
[]
[]
[]
[]
[]
[]
[]
[]
[]
[]
[]
[]
[]
[]
[]
[]
[]
[]
[]
[]
[]
[]
[]
[]
[]
[]
[]
[]
[]
[]
[]
[]
[]
[]
[]
[]
[]
[]
[]
[]
[]
[]
[" "]

{"sheet":"Bestätigung","index":2,"n_rows":23,"n_cols":5,"rows_kept":23,"cut":false,"hidden":false,"merged":[[0,0,0,2],[11,0,11,2],[10,0,10,4],[22,0,22,2],[20,0,20,2],[19,0,19,2],[5,0,5,2],[3,0,3,2],[2,0,2,2],[1,0,1,2],[9,0,9,2],[8,0,8,2],[7,0,7,2],[6,0,6,2]]}
["Bestätigung zur Einreichung BAB zur Vorjahresrechnung"]
["Name der Trägerschaft ……………………………………………………………………"]
["Name der Institutuion ……………………………………………………………………"]
[]
["Mit der Unterschrift unten wird bestätigt, dass die Grundlage für die aufgestellte Kostenrechnung eine testierte (revidierte) Jahresrechung ist."]
[]
["Grundlage ist die Jahresrechung aus dem Jahr: ……………………………………………"]
["Anzahl eingereichte BAB: ……………………………………………………………………..",null,null,null,"Wenn mehrere BAB eingereicht werden: Bezeichnung der Organisationseinheiten, zu welchen unterschiedliche BAB eingereicht wurden: "]
[null,null,null,null,"……………………………………………………………………………………"]
[null,null,null,null,"…………………………………………………………………………………"]
["Mit der Unterschrift unten wird bestätigt, dass folgende Dokumentationen plausibilisiert sind und schriftlich eingereicht werden (sofern in einem führeren BAB nicht oder abweichend davon eingereicht):"]
["Bitte nicht zutreffendes streichen/löschen (wenn Leistung nicht vorhanden)."]
["Einreicht mit einem früheren BAB","Eingereicht mit aktuellem BAB"]
[null,null,"à Beschreibung der Methodik der Abgrenzung der Kosten/Erträge zur Hauptkostenstelle Nicht-IFEG-Leistungen"]
[null,null,"à Beschreibung der Methodik der Abgrenzung der Kosten/Erträge zur Hauptkostenstelle Andere Auftraggeber"]
[null,null,"à Dokumentation der Methodik der Zuteilung bzw. Abgrenzung der Kosten/Erträge zu Hauptkostenstelle Betreutes Wohnen, Betreute Tagesgestaltung, Begleitete Arbeit, Produktion"]
[null,null,"à Dokumentation der Methodik der Zuteilung bzw. Abgrenzung der Personalkosten/Erträge zu Betreuungs- und Objektkosten"]
[null,null,"à Beschreibung der Methodik der Zuteilung der Sachkosten zu Kostenstellen"]
[null,null,"à Beschreibung Umlageschlüssel "]
["Beschreibung: Kurze Beschreibung von Methode (Bsp: Nutzungszahlen, Bezifferung)"]
["Dokumentation: Detailliertes Aufzeigen von Daten in separatem Dokument"]
[]
["Ort/Datum: ………………………….",null,null,null,"Unterschrift Trägerschaft: ………………………………………..……………….."]

{"sheet":"Grunddaten","index":3,"n_rows":243,"n_cols":7,"rows_kept":243,"cut":false,"hidden":false,"merged":[[218,2,218,6],[161,2,161,6],[162,2,162,6],[163,2,163,6],[176,2,176,6],[169,2,169,6],[62,2,62,6],[63,2,63,6],[217,2,217,6],[181,2,181,6],[196,2,196,6],[99,2,99,6],[100,2,100,6],[65,2,65,6],[66,2,66,6],[210,2,210,6],[92,2,92,6],[87,2,87,6],[105,2,105,6],[69,2,69,6],[85,2,85,6],[86,2,86,6],[211,2,211,6],[77,2,77,6],[0,0,0,16383],[2,3,2,6],[9,2,9,6],[10,2,10,6],[1,3,1,6],[8,2,8,6],[6,2,6,6],[7,0,7,16383],[205,2,205,6],[185,2,185,6],[35,2,35,6],[29,2,29,6],[30,0,30,16383],[17,2,17,6],[52,2,52,6],[153,2,153,6],[128,2,128,6],[139,2,139,6],[43,2,43,6],[44,2,44,6],[40,2,40,6],[41,2,41,6],[36,2,36,6],[54,2,54,6],[64,2,64,6],[55,2,55,6],[56,2,56,6],[60,2,60,6],[57,2,57,6],[58,2,58,6],[61,2,61,6],[59,2,59,6],[15,2,15,6],[38,2,38,6],[31,2,31,6],[32,2,32,6],[33,2,33,6],[34,2,34,6],[16,2,16,6],[22,2,22,6],[23,2,23,6],[24,2,24,6],[37,2,37,6],[42,2,42,6],[53,2,53,6],[39,2,39,6],[21,2,21,6],[26,2,26,6],[89,2,89,6],[68,2,68,6],[71,2,71,6],[72,2,72,6],[93,2,93,6],[75,2,75,6],[94,2,94,6],[95,2,95,6],[78,2,78,6],[91,2,91,6],[199,2,199,6],[197,2,197,6],[189,2,189,6],[209,2,209,6],[206,2,206,6],[207,2,207,6],[208,2,208,6],[198,2,198,6],[200,2,200,6],[192,2,192,6],[194,2,194,6],[203,2,203,6],[204,2,204,6],[201,2,201,6],[202,2,202,6],[190,2,190,6],[195,2,195,6],[193,2,193,6],[191,2,191,6],[188,2,188,6],[186,2,186,6],[175,2,175,6],[182,2,182,6],[160,2,160,6],[164,2,164,6],[166,2,166,6],[150,2,150,6],[157,2,157,6],[151,2,151,6],[154,2,154,6],[155,2,155,6],[165,2,165,6],[187,2,187,6],[177,2,177,6],[179,2,179,6],[180,2,180,6],[159,2,159,6],[156,2,156,6],[184,2,184,6],[170,2,170,6],[183,2,183,6],[172,2,172,6],[173,2,173,6],[11,2,11,6],[12,2,12,6],[13,2,13,6],[14,2,14,6],[18,2,18,6],[19,2,19,6],[20,2,20,6],[117,2,117,6],[129,2,129,6],[126,2,126,6],[118,2,118,6],[119,2,119,6],[120,2,120,6],[121,2,121,6],[124,2,124,6],[127,2,127,6],[116,0,116,6],[122,2,122,6],[123,2,123,6],[115,2,115,6],[101,2,101,6],[102,2,102,6],[107,2,107,6],[103,2,103,6],[212,2,212,6],[213,2,213,6],[214,2,214,6],[215,2,215,6],[216,2,216,6],[27,2,27,6],[45,2,45,6],[25,2,25,6],[28,2,28,6],[148,2,148,6],[132,2,132,6],[135,2,135,6],[136,2,136,6],[140,2,140,6],[137,2,137,6],[134,2,134,6],[138,2,138,6],[133,2,133,6],[143,2,143,6],[141,2,141,6],[144,2,144,6],[146,2,146,6],[145,2,145,6],[149,2,149,6],[46,2,46,6],[47,2,47,6],[48,2,48,6],[49,2,49,6],[50,2,50,6],[51,2,51,6],[106,2,106,6],[104,2,104,6],[96,2,96,6],[88,2,88,6],[70,2,70,6],[79,2,79,6],[90,2,90,6],[73,2,73,6],[81,2,81,6],[82,2,82,6],[83,2,83,6],[84,2,84,6],[80,2,80,6],[67,2,67,6],[97,2,97,6],[98,2,98,6],[74,2,74,6],[76,2,76,6],[174,2,174,6],[178,2,178,6],[108,2,108,6],[109,2,109,6],[110,2,110,6],[111,2,111,6],[112,2,112,6],[113,2,113,6],[114,2,114,6],[130,2,130,6],[131,2,131,6],[167,2,167,6],[125,2,125,6],[147,2,147,6],[171,2,171,6],[168,2,168,6],[158,2,158,6],[152,2,152,6],[142,2,142,6],[219,2,219,6],[220,2,220,6],[221,2,221,6],[222,2,222,6],[223,2,223,6],[224,2,224,6],[225,2,225,6],[226,2,226,6],[227,2,227,6]]}
["Grunddaten Kostenrechnung"]
[null,null,"Trägerschaft"]
[null,null,"Einrichtung"]
[null,null,"Jahr"]
[null,null,"Erstelldatum"]
[]
[]
["Vorkostenstellen"]
[null,10,"Kapitaldienst"]
[null,11,"Reserve"]
[null,12,"Reserve"]
[null,13,"Reserve"]
[null,14,"Reserve"]
[null,15,"Reserve"]
[null,16,"Reserve"]
[null,20,"Gebäude"]
[null,21,"Reserve"]
[null,22,"Reserve"]
[null,23,"Reserve"]
[null,24,"Reserve"]
[null,25,"Reserve"]
[null,26,"Reserve"]
[null,30,"Abschreibungen \n(nur BL) "]
[null,31,"Reserve"]
[null,32,"Reserve"]
[null,33,"Reserve"]
[null,34,"Reserve"]
[null,35,"Reserve"]
[null,36,"Reserve"]
[]
["Hilfskostenstellen"]
[null,100,"Leitung & Verwaltung","Leitung & Verwaltung","Leitung & Verwaltung","Leitung & Verwaltung","Leitung & Verwaltung"]
[null,101,"Reserve","Reserve","Reserve","Reserve","Reserve"]
[null,102,"Reserve","Reserve","Reserve","Reserve","Reserve"]
[null,103,"Reserve","Reserve","Reserve","Reserve","Reserve"]
[null,104,"Reserve","Reserve","Reserve","Reserve","Reserve"]
[null,105,"Reserve","Reserve","Reserve","Reserve","Reserve"]
[null,106,"Reserve","Reserve","Reserve","Reserve","Reserve"]
[null,200,"Transportdienst","Transport- dienst","Transport- dienst","Transport- dienst","Transport- dienst"]
[null,201,"Reserve","Reserve","Reserve","Reserve","Reserve"]
[null,202,"Reserve","Reserve","Reserve","Reserve","Reserve"]
[null,203,"Reserve","Reserve","Reserve","Reserve","Reserve"]
[null,204,"Reserve","Reserve","Reserve","Reserve","Reserve"]
[null,205,"Reserve","Reserve","Reserve","Reserve","Reserve"]
[null,206,"Reserve","Reserve","Reserve","Reserve","Reserve"]
[null,210,"Transport inkl. Betreuung zu und von TS"]
[null,211,"Reserve"]
[null,212,"Reserve"]
[null,213,"Reserve"]
[null,214,"Reserve"]
[null,215,"Reserve"]
[null,216,"Reserve"]
[null,300,"Technischer Dienst / Hauswartung","Technischer Dienst / Hauswartung","Technischer Dienst / Hauswartung","Technischer Dienst / Hauswartung","Technischer Dienst / Hauswartung"]
[null,301,"Reserve","Reserve","Reserve","Reserve","Reserve"]
[null,302,"Reserve","Reserve","Reserve","Reserve","Reserve"]
[null,303,"Reserve","Reserve","Reserve","Reserve","Reserve"]
[null,304,"Reserve","Reserve","Reserve","Reserve","Reserve"]
[null,305,"Reserve","Reserve","Reserve","Reserve","Reserve"]
[null,306,"Reserve","Reserve","Reserve","Reserve","Reserve"]
[null,400,"Reinigung / Haushalt","Reinigung","Reinigung","Reinigung","Reinigung"]
[null,401,"Reserve","Reserve","Reserve","Reserve","Reserve"]
[null,402,"Reserve","Reserve","Reserve","Reserve","Reserve"]
[null,403,"Reserve","Reserve","Reserve","Reserve","Reserve"]
[null,404,"Reserve","Reserve","Reserve","Reserve","Reserve"]
[null,405,"Reserve","Reserve","Reserve","Reserve","Reserve"]
[null,406,"Reserve","Reserve","Reserve","Reserve","Reserve"]
[null,500,"Wäscherei","Wäscherei","Wäscherei","Wäscherei","Wäscherei"]
[null,501,"Reserve","Reserve","Reserve","Reserve","Reserve"]
[null,502,"Reserve","Reserve","Reserve","Reserve","Reserve"]
[null,503,"Reserve","Reserve","Reserve","Reserve","Reserve"]
[null,504,"Reserve","Reserve","Reserve","Reserve","Reserve"]
[null,505,"Reserve","Reserve","Reserve","Reserve","Reserve"]
[null,506,"Reserve","Reserve","Reserve","Reserve","Reserve"]
[null,600,"Verpflegung","Verpflegung","Verpflegung","Verpflegung","Verpflegung"]
[null,601,"Reserve","Reserve","Reserve","Reserve","Reserve"]
[null,602,"Reserve","Reserve","Reserve","Reserve","Reserve"]
[null,603,"Reserve","Reserve","Reserve","Reserve","Reserve"]
[null,604,"Reserve","Reserve","Reserve","Reserve","Reserve"]
[null,605,"Reserve","Reserve","Reserve","Reserve","Reserve"]
[null,606,"Reserve","Reserve","Reserve","Reserve","Reserve"]
[null,610,"Betreuung und Verpflegung über Mittag (nur TS)"]
[null,611,"Reserve","Reserve","Reserve","Reserve","Reserve"]
[null,612,"Reserve","Reserve","Reserve","Reserve","Reserve"]
[null,613,"Reserve","Reserve","Reserve","Reserve","Reserve"]
[null,614,"Reserve","Reserve","Reserve","Reserve","Reserve"]
[null,615,"Reserve","Reserve","Reserve","Reserve","Reserve"]
[null,616,"Reserve","Reserve","Reserve","Reserve","Reserve"]
[null,700,"Med.-therap. Massnah.","med.-therap. Massnah.","med.-therap. Massnah.","med.-therap. Massnah.","med.-therap. Massnah."]
[null,701,"Reserve","Reserve","Reserve","Reserve","Reserve"]
[null,702,"Reserve"]
[null,703,"Reserve"]
[null,704,"Reserve"]
[null,705,"Reserve"]
[null,706,"Reserve"]
[null,800,"Päd.-therap. Massnah."]
[null,801,"Reserve"]
[null,802,"Reserve"]
[null,803,"Reserve"]
[null,804,"Reserve"]
[null,805,"Reserve"]
[null,806,"Reserve"]
[null,900,"Taschengeld BT"]
[null,901,"Reserve"]
[null,902,"Reserve"]
[null,903,"Reserve"]
[null,904,"Reserve"]
[null,905,"Reserve"]
[null,906,"Reserve"]
[null,1000,"Diverses"]
[null,1001,"Reserve"]
[null,1002,"Reserve"]
[null,1003,"Reserve"]
[null,1004,"Reserve"]
[null,1005,"Reserve"]
[null,1006,"Reserve"]
[]
["Leistungsangebote (Hauptkostenstellen bzw. Kostenträger)"]
[null,11000,"Betreutes Wohnen"]
[null,11001,"Reserve"]
[null,11002,"Reserve"]
[null,11003,"Reserve"]
[null,11004,"Reserve"]
[null,11005,"Reserve"]
[null,11006,"Reserve"]
[null,11007,"Reserve"]
[null,11008,"Reserve"]
[null,11009,"Reserve"]
[null,11010,"BW Corona"]
[null,11011,"Reserve Corona"]
[null,11012,"Reserve Corona"]
[null,11013,"Reserve Corona"]
[null,11014,"Reserve Corona"]
[null,11015,"Reserve Corona"]
[null,11016,"Reserve Corona"]
[null,11017,"Reserve Corona"]
[null,11018,"Reserve Corona"]
[null,11019,"Reserve Corona"]
[null,11100,"Betreute Tagesgestaltung "]
[null,11101,"Reserve"]
[null,11102,"Reserve"]
[null,11103,"Reserve"]
[null,11104,"Reserve"]
[null,11105,"Reserve"]
[null,11106,"Reserve"]
[null,11107,"Reserve"]
[null,11108,"Reserve"]
[null,11109,"Reserve"]
[null,11110,"BT Corona"]
[null,11111,"Reserve Corona"]
[null,11112,"Reserve Corona"]
[null,11113,"Reserve Corona"]
[null,12000,"Begleitete Arbeit"]
[null,12001,"Reserve"]
[null,12002,"Reserve"]
[null,12003,"Reserve"]
[null,12004,"Reserve"]
[null,12005,"Reserve"]
[null,12006,"Reserve"]
[null,12007,"Reserve"]
[null,12008,"Reserve"]
[null,12009,"Reserve"]
[null,12010,"BA Corona"]
[null,12011,"Reserve Corona"]
[null,12012,"Reserve Corona"]
[null,12013,"Reserve Corona "]
[null,13000,"Produktion"]
[null,13001,"Reserve"]
[null,13002,"Reserve"]
[null,13003,"Reserve"]
[null,13004,"Reserve"]
[null,13005,"Reserve"]
[null,13006,"Reserve"]
[null,13010,"Produktion Corona"]
[null,14000,"Nicht-IFEG Leistungen (AWB)"]
[null,14001,"Reserve"]
[null,14002,"Reserve"]
[null,14003,"Reserve"]
[null,14004,"Nicht-IFEG Leistungen Corona"]
[null,14005,"Sonder-/ Zusatzbedarf"]
[null,14006,"Reserve"]
[null,14007,"Reserve"]
[null,14008,"Reserve"]
[null,14009,"Reserve"]
[null,14010,"Reserve"]
[null,14900,"Leistungen für andere Auftraggeber"]
[null,14901,"Reserve"]
[null,14902,"Reserve"]
[null,14903,"Reserve"]
[null,14904,"Reserve"]
[null,14905,"KVG-Leistungen"]
[null,14906,"Reserve"]
[null,14907,"Reserve"]
[null,14908,"Reserve"]
[null,14909,"Reserve"]
[null,14910,"Reserve"]
[null,15000,"Nebenbetriebe"]
[null,15001,"Reserve"]
[null,15002,"Reserve"]
[null,15003,"Reserve"]
[null,15004,"Reserve"]
[null,15005,"Reserve"]
[null,15006,"Reserve"]
[null,15007,"Reserve"]
[null,15008,"Reserve"]
[null,15009,"Reserve"]
[null,15010,"Reserve"]
[null,16000,"Trägerschaft"]
[null,16001,"Reserve"]
[null,16002,"Reserve"]
[null,16003,"Reserve"]
[null,16004,"Reserve"]
[null,16005,"Reserve"]
[null,16006,"Reserve"]
[null,16007,"Reserve"]
[null,16008,"Reserve"]
[null,16009,"Reserve"]
[null,16010,"Reserve"]
[null,19000,"Diverses"]
[null,19001,"Reserve"]
[null,19002,"Reserve"]
[null,19003,"Reserve"]
[null,19004,"Reserve"]
[null,19005,"Reserve"]
[null,19006,"Reserve"]
[null,19007,"Reserve"]
[null,19008,"Reserve"]
[null,19009,"Reserve"]
[null,19010,"Reserve"]
[]
[]
[]
[]
[]
[]
[null,11010,"Mehrkosten\nCovid-19 BW"]
[]
[null,11110,"Mehrkosten \nCovid-19 BT"]
[null,null,"Nicht-IFEG Leistungen (AWB)"]
[null,12010,"Mehrkosten \nCovid-19 BA"]
[]
[null,13010,"Mehrkosten \nCovid-19 Produktion"]
[null,14000]
[null,14004,"Mehrkosten Covid-19 (nicht-IFEG Leistungen)"]

{"sheet":"BAB","index":4,"n_rows":546,"n_cols":241,"rows_kept":281,"cut":true,"hidden":false,"merged":[[0,7,0,27],[0,28,0,111],[0,112,0,222],[0,224,0,239],[1,0,2,1],[1,2,2,2],[1,3,2,3],[1,4,2,4],[1,5,2,5],[1,6,2,6]],"bounds":{"rows_first":125,"rows_last":31,"rows_between":125,"halvings":4}}
[null,null,null,null,null,null,null,"Vorkostenstellen",null,null,null,null,null,null,null,null,null,null,null,null,null,null,null,null,null,null,null,null,"Hilfskostenstellen",null,null,null,null,null,null,null,null,null,null,null,null,null,null,null,null,null,null,null,null,null,null,null,null,null,null,null,null,null,null,null,null,null,null,null,null,null,null,null,null,null,null,null,null,null,null,null,null,null,null,null,null,null,null,null,null,null,null,null,null,null,null,null,null,null,null,null,null,null,null,null,null,null,null,null,null,null,null,null,null,null,null,null,"Hauptkostenstellen",null,null,null,null,null,null,null,null,null,null,null,null,null,null,null,null,null,null,null,null,null,null,null,null,null,null,null,null,null,null,null,null,null,null,null,null,null,null,null,null,null,null,null,null,null,null,null,null,null,null,null,null,null,null,null,null,null,null,null,null,null,null,null,null,null,null,null,null,null,null,null,null,null,null,null,null,null,null,null,null,null,null,null,null,null,null,null,null,null,null,null,null,null,null,null,null,null,null,null,null,null,null,null,null,null,null,null,null,null,null,null,"Zusammenzug mehrerer gleichartiger Hauptkostenstellen"]
["Konti aus FiBu \nCURAVIVA-Kontenplan                 ",null,"Testierte Fibu","Abgrenzung/\nUmgliederung","Kosten / Erlöse KORE","Kontrollen\n(noch zuzuweisen/ umzulegen)","Bemerkung zu Buchung/Umlage",10,11,12,13,14,15,16,20,21,22,23,24,25,26,30,31,32,33,34,35,36,100,101,102,103,104,105,106,200,201,202,203,204,205,206,210,211,212,213,214,215,216,300,301,302,303,304,305,306,400,401,402,403,404,405,406,500,501,502,503,504,504,505,600,601,602,603,604,605,606,610,611,612,613,614,615,616,700,701,702,703,704,705,706,800,801,802,803,804,805,806,900,901,902,903,904,905,906,1000,1001,1002,1003,1004,1005,1006,11000,11001,11002,11003,11004,11005,11006,11007,11008,11009,11010,11011,11012,11013,11014,11015,11016,11017,11018,11019,11100,11101,11102,11103,11104,11105,11106,11107,11108,11109,11110,11111,11112,11113,12000,12001,12002,12003,12004,12005,12006,12007,12008,12009,12010,12011,12012,12013,13000,13001,13002,13003,13004,13005,13006,13010,14000,14001,14002,14003,14004,14005,14006,14007,14008,14009,14010,14900,14901,14902,14903,14904,14905,14906,14907,14908,14909,14910,15000,15001,15002,15003,15004,15005,15006,15007,15008,15009,15010,16000,16001,16002,16003,16004,16005,16006,16007,16008,16009,16010,19000,19001,19002,19003,19004,19005,19006,19007,19008,19009,19010,null,11000,11010,11100,11110,12000,12010,13000,13010,14000,14004,14005,14900,14905,15000,16000,19000]
[null,null,null,null,null,null,null,"Kapitaldienst","Reserve","Reserve","Reserve","Reserve","Reserve","Reserve","Gebäude","Reserve","Reserve","Reserve","Reserve","Reserve","Reserve","Abschreibungen \n(nur BL) ","Reserve","Reserve","Reserve","Reserve","Reserve","Reserve","Leitung & Verwaltung","Reserve","Reserve","Reserve","Reserve","Reserve","Reserve","Transportdienst","Reserve","Reserve","Reserve","Reserve","Reserve","Reserve","Transport inkl. Betreuung zu und von TS","Reserve","Reserve","Reserve","Reserve","Reserve","Reserve","Technischer Dienst / Hauswartung","Reserve","Reserve","Reserve","Reserve","Reserve","Reserve","Reinigung / Haushalt","Reserve","Reserve","Reserve","Reserve","Reserve","Reserve","Wäscherei","Reserve","Reserve","Reserve","Reserve","Reserve","Reserve","Verpflegung","Reserve","Reserve","Reserve","Reserve","Reserve","Reserve","Betreuung und Verpflegung über Mittag (nur TS)","Reserve","Reserve","Reserve","Reserve","Reserve","Reserve","Med.-therap. Massnah.","Reserve","Reserve","Reserve","Reserve","Reserve","Reserve","Päd.-therap. Massnah.","Reserve","Reserve","Reserve","Reserve","Reserve","Reserve","Taschengeld BT","Reserve","Reserve","Reserve","Reserve","Reserve","Reserve","Diverses","Reserve","Reserve","Reserve","Reserve","Reserve","Reserve","Betreutes Wohnen","Reserve","Reserve","Reserve","Reserve","Reserve","Reserve","Reserve","Reserve","Reserve","BW Corona","Reserve Corona","Reserve Corona","Reserve Corona","Reserve Corona","Reserve Corona","Reserve Corona","Reserve Corona","Reserve Corona","Reserve Corona","Betreute Tagesgestaltung ","Reserve","Reserve","Reserve","Reserve","Reserve","Reserve","Reserve","Reserve","Reserve","BT Corona","Reserve Corona","Reserve Corona","Reserve Corona","Begleitete Arbeit","Reserve","Reserve","Reserve","Reserve","Reserve","Reserve","Reserve","Reserve","Reserve","BA Corona","Reserve Corona","Reserve Corona","Reserve Corona ","Produktion","Reserve","Reserve","Reserve","Reserve","Reserve","Reserve","Produktion Corona","Nicht-IFEG Leistungen (AWB)","Reserve","Reserve","Reserve","Nicht-IFEG Leistungen Corona","Sonder-/ Zusatzbedarf","Reserve","Reserve","Reserve","Reserve","Reserve","Leistungen für andere Auftraggeber","Reserve","Reserve","Reserve","Reserve","KVG-Leistungen","Reserve","Reserve","Reserve","Reserve","Reserve","Nebenbetriebe","Reserve","Reserve","Reserve","Reserve","Reserve","Reserve","Reserve","Reserve","Reserve","Reserve","Trägerschaft","Reserve","Reserve","Reserve","Reserve","Reserve","Reserve","Reserve","Reserve","Reserve","Reserve","Diverses","Reserve","Reserve","Reserve","Reserve","Reserve","Reserve","Reserve","Reserve","Reserve","Reserve",null,"Betreutes Wohnen","Mehrkosten\nCovid-19 BW","Betreute Tagesgestaltung","Mehrkosten \nCovid-19 BT","Begleitete Arbeit ","Mehrkosten \nCovid-19 BA","Produktion ","Mehrkosten \nCovid-19 Produktion","Nicht-IFEG Leistungen (AWB)","Mehrkosten Covid-19 (nicht-IFEG Leistungen)","Sonder-/ Zusatzbedarf","Leistungen für andere Auftraggeber","KVG-Leistungen","Nebenbetriebe","Trägerschaft","Diverses","Total\nVor- und Hilfskostenstellen"]
[null,"Personalaufwand",{"$f":"SUM(C5,C11,C17,C24,C28,C33,C37,C39,C41,C45,C52,C60)","v":0},{"$f":"SUM(D5,D11,D17,D24,D28,D33,D37,D39,D41,D45,D52,D60)","v":0},{"$f":"SUM(C4:D4)","v":0},{"$f":"IF(SUM(H4:HO4)=E4,\"i.o.\",E4-SUM(H4:HO4))","v":"i.o."},null,{"$f":"SUM(H5,H11,H17,H24,H28,H33,H37,H39,H41,H45,H52,H60)","v":0},0,0,0,0,0,0,0,0,0,0,0,0,0,0,0,0,0,0,0,0,0,0,0,0,0,0,0,0,0,0,0,0,0,0,0,0,0,0,0,0,0,0,0,0,0,0,0,0,0,0,0,0,0,0,0,0,0,0,0,0,0,0,0,{"$f":"SUM(BT5,BT11,BT17,BT24,BT28,BT33,BT37,BT39,BT41,BT45,BT52,BT60)","v":0},0,0,0,0,0,0,0,0,0,0,0,0,0,0,0,0,0,0,0,0,0,0,0,0,0,0,0,0,0,0,0,0,0,0,0,0,0,0,0,0,0,0,0,0,0,0,0,0,0,0,0,0,0,0,0,0,0,0,0,0,0,0,0,{"$f":"SUM(EF5,EF11,EF17,EF24,EF28,EF33,EF37,EF39,EF41,EF45,EF52,EF60)","v":0},0,0,0,0,0,0,0,0,0,0,0,0,0,0,0,0,0,0,0,0,0,0,0,0,0,0,0,0,0,0,0,0,0,0,0,0,0,0,0,0,0,0,0,0,0,0,0,0,0,0,0,0,0,0,0,0,0,0,0,0,0,0,0,{"$f":"SUM(GR5,GR11,GR17,GR24,GR28,GR33,GR37,GR39,GR41,GR45,GR52,GR60)","v":0},0,0,0,0,0,0,0,0,0,0,0,0,0,{"$f":"SUM(HF5,HF11,HF17,HF24,HF28,HF33,HF37,HF45,HF52,HF60)","v":0},0,0,0,0,0,0,0,0,0,null,{"$f":"IF(COUNT(DI4:DR4)=0,\"\",SUM(DI4:DR4))","v":0},{"$f":"IF(COUNT(DS4:EB4)=0,\"\",SUM(DS4:EB4))","v":0},{"$f":"IF(COUNT(EC4:EL4)=0,\"\",SUM(EC4:EL4))","v":0},{"$f":"IF(COUNT(EM4:EP4)=0,\"\",SUM(EM4:EP4))","v":0},{"$f":"IF(COUNT(EQ4:EZ4)=0,\"\",SUM(EQ4:EZ4))","v":0},{"$f":"IF(COUNT(FA4:FD4)=0,\"\",SUM(FA4:FD4))","v":0},{"$f":"IF(COUNT(FE4:FK4)=0,\"\",SUM(FE4:FK4))","v":0},{"$f":"IF(COUNT(FL4:FL4)=0,\"\",SUM(FL4:FL4))","v":0},{"$f":"IF(COUNT(FM4:FP4)=0,\"\",SUM(FM4:FP4))","v":0},{"$f":"IF(COUNT(FQ4:FQ4)=0,\"\",SUM(FQ4:FQ4))","v":0},{"$f":"IF(COUNT(FR4:FW4)=0,\"\",SUM(FR4:FW4))","v":0},{"$f":"IF(COUNT(FX4:GB4)=0,\"\",SUM(FX4:GB4))","v":0},{"$f":"IF(COUNT(GC4:GH4)=0,\"\",SUM(GC4:GH4))","v":0},{"$f":"IF(COUNT(GI4:GS4)=0,\"\",SUM(GI4:GS4))","v":0},{"$f":"IF(COUNT(GT4:HD4)=0,\"\",SUM(GT4:HD4))","v":0},{"$f":"IF(COUNT(HE4:HO4)=0,\"\",SUM(HE4:HO4))","v":0},{"$f":"IF(COUNT(H4:DH4)=0,\"\",SUM(H4:DH4))","v":0}]
[300,"Lohn Ausbildung",{"$f":"SUM(C6:C10)","v":0},{"$f":"SUM(D6:D10)","v":0},{"$f":"SUM(C5:D5)","v":0},"i.o.",null,{"$f":"SUM(H6:H10)","v":0},{"$f":"SUM(I6:I10)","v":0},0,0,0,0,0,0,0,0,0,0,0,0,0,0,0,0,0,0,0,0,0,0,0,0,0,0,0,0,0,0,0,0,0,0,0,0,0,0,0,0,0,0,0,0,0,0,0,0,0,0,0,0,0,0,0,0,0,0,0,0,0,0,0,{"$f":"SUM(BU6:BU10)","v":0},0,0,0,0,0,0,0,0,0,0,0,0,0,0,0,0,0,0,0,0,0,0,0,0,0,0,0,0,0,0,0,0,0,0,0,0,0,0,0,0,0,0,0,0,0,0,0,0,0,0,{"$f":"SUM(DT6:DT10)","v":0},0,0,0,0,0,0,0,0,0,0,0,0,0,0,0,0,0,0,0,{"$f":"SUM(EN6:EN10)","v":0},0,{"$f":"SUM(EP6:EP10)","v":0},0,0,0,0,0,0,0,0,0,{"$f":"SUM(EZ6:EZ10)","v":0},0,{"$f":"SUM(FB6:FB10)","v":0},0,{"$f":"SUM(FD6:FD10)","v":0},0,0,0,0,0,0,0,0,0,0,0,0,0,0,0,0,0,0,0,0,0,0,0,0,0,0,0,0,0,0,0,0,0,0,0,0,0,0,0,0,0,0,0,0,0,0,0,{"$f":"SUM(GZ6:GZ10)","v":0},0,0,0,0,0,0,0,0,0,0,0,{"$f":"SUM(HL6:HL10)","v":0},0,0,0,null,{"$f":"IF(COUNT(DI5:DR5)=0,\"\",SUM(DI5:DR5))","v":0},0,0,0,0,0,0,0,0,0,0,0,0,{"$f":"IF(COUNT(GI5:GS5)=0,\"\",SUM(GI5:GS5))","v":0},{"$f":"IF(COUNT(GT5:HD5)=0,\"\",SUM(GT5:HD5))","v":0},{"$f":"IF(COUNT(HE5:HO5)=0,\"\",SUM(HE5:HO5))","v":0},0]
[3000,"Löhne Auszubildende und Löhne Lehrer",0,0,{"$f":"SUM(C6:D6)","v":0},"i.o.",null,null,null,null,null,null,null,null,null,null,null,null,null,null,null,null,null,null,null,null,null,null,0,0,0,0,0,0,0,0,0,0,0,0,0,0,0,0,0,0,0,0,0,0,0,0,0,0,0,0,0,0,0,0,0,0,0,0,0,0,0,0,0,0,0,0,0,0,0,0,0,0,0,0,0,0,0,0,0,0,0,0,0,0,0,null,null,null,null,null,null,null,null,null,null,null,null,null,null,null,null,null,null,null,null,null,0,0,0,0,0,0,0,0,0,0,0,0,0,0,0,0,0,0,0,0,0,0,0,0,0,0,0,0,0,0,0,0,0,0,0,0,0,0,0,0,0,0,0,0,0,0,0,0,0,0,0,0,0,0,0,0,0,0,0,0,0,0,0,0,0,0,0,0,0,0,0,0,0,0,0,0,0,0,0,0,0,0,0,0,0,0,0,0,0,0,0,0,0,0,0,0,0,0,0,0,0,0,0,0,0,0,0,0,0,0,0,null,0,0,0,0,0,0,0,0,0,0,0,0,0,{"$f":"IF(COUNT(GI6:GS6)=0,\"\",SUM(GI6:GS6))","v":0},{"$f":"IF(COUNT(GT6:HD6)=0,\"\",SUM(GT6:HD6))","v":0},{"$f":"IF(COUNT(HE6:HO6)=0,\"\",SUM(HE6:HO6))","v":0},0]
[3001,"Löhne Auszubildende",0,0,{"$f":"SUM(C7:D7)","v":0},"i.o.",null,null,null,null,null,null,null,null,null,null,null,null,null,null,null,null,null,null,null,null,null,null,0,0,0,0,0,0,0,0,0,0,0,0,0,0,0,0,0,0,0,0,0,0,0,0,0,0,0,0,0,0,0,0,0,0,0,0,0,0,0,0,0,0,0,0,0,0,0,0,0,0,0,0,0,0,0,0,0,0,0,0,0,0,0,null,null,null,null,null,null,null,null,null,null,null,null,null,null,null,null,null,null,null,null,null,0,0,0,0,0,0,0,0,0,0,0,0,0,0,0,0,0,0,0,0,0,0,0,0,0,0,0,0,0,0,0,0,0,0,0,0,0,0,0,0,0,0,0,0,0,0,0,0,0,0,0,0,0,0,0,0,0,0,0,0,0,0,0,0,0,0,0,0,0,0,0,0,0,0,0,0,0,0,0,0,0,0,0,0,0,0,0,0,0,0,0,0,0,0,0,0,0,0,0,0,0,0,0,0,0,0,0,0,0,0,0,null,0,0,0,0,0,0,0,0,0,0,0,0,0,{"$f":"IF(COUNT(GI7:GS7)=0,\"\",SUM(GI7:GS7))","v":0},{"$f":"IF(COUNT(GT7:HD7)=0,\"\",SUM(GT7:HD7))","v":0},{"$f":"IF(COUNT(HE7:HO7)=0,\"\",SUM(HE7:HO7))","v":0},0]
[3020,"Löhne Lehrer Kinder",0,0,{"$f":"SUM(C8:D8)","v":0},"i.o.",null,null,null,null,null,null,null,null,null,null,null,null,null,null,null,null,null,null,null,null,null,null,null,null,null,null,null,null,null,null,null,null,null,null,null,null,null,null,null,null,null,null,null,null,null,null,null,null,null,null,null,null,null,null,null,null,null,null,null,null,null,null,null,null,null,null,null,null,null,null,null,null,null,null,null,null,null,null,null,null,null,null,null,null,null,null,null,null,null,null,null,null,null,null,null,null,null,null,null,null,null,null,null,null,null,null,null,null,null,null,null,null,null,null,null,null,null,null,null,null,null,null,null,null,null,null,null,null,null,null,null,null,null,null,null,null,null,null,null,null,null,null,null,null,null,null,null,null,null,null,null,null,null,null,0,0,0,0,0,0,0,0,0,0,0,0,0,0,0,0,0,0,0,0,0,0,0,0,0,0,0,0,0,0,0,0,0,0,0,0,0,0,0,0,0,0,0,0,0,0,0,0,0,0,0,0,0,0,0,0,0,0,0,0,0,0,0,null,"","","","","","",0,0,0,0,0,0,0,0,0,0,""]
[3030,"Löhne Lehrer Kinder Integration ",0,0,0,"i.o.",null,null,null,null,null,null,null,null,null,null,null,null,null,null,null,null,null,null,null,null,null,null,null,null,null,null,null,null,null,null,null,null,null,null,null,null,null,null,null,null,null,null,null,null,null,null,null,null,null,null,null,null,null,null,null,null,null,null,null,null,null,null,null,null,null,null,null,null,null,null,null,null,null,null,null,null,null,null,null,null,null,null,null,null,null,null,null,null,null,null,null,null,null,null,null,null,null,null,null,null,null,null,null,null,null,null,null,null,null,null,null,null,null,null,null,null,null,null,null,null,null,null,null,null,null,null,null,null,null,null,null,null,null,null,null,null,null,null,null,null,null,null,null,null,null,null,null,null,null,null,null,null,null,null,0,0,0,0,0,0,0,0,0,0,0,0,0,0,0,0,0,0,0,0,0,0,0,0,0,0,0,0,0,0,0,0,0,0,0,0,0,0,0,0,0,0,0,0,0,0,0,0,0,0,0,0,0,0,0,0,0,0,0,0,0,0,0,null,"","","","","","",0,0,0,0,0,0,0,0,0,0,""]
[3080,"Löhne Schulleitung",0,0,0,"i.o.",null,null,null,null,null,null,null,null,null,null,null,null,null,null,null,null,null,null,null,null,null,null,null,null,null,null,null,null,null,null,null,null,null,null,null,null,null,null,null,null,null,null,null,null,null,null,null,null,null,null,null,null,null,null,null,null,null,null,null,null,null,null,null,null,null,null,null,null,null,null,null,null,null,null,null,null,null,null,null,null,null,null,null,null,null,null,null,null,null,null,null,null,null,null,null,null,null,null,null,null,null,null,null,null,null,null,null,null,null,null,null,null,null,null,null,null,null,null,null,null,null,null,null,null,null,null,null,null,null,null,null,null,null,null,null,null,null,null,null,null,null,null,null,null,null,null,null,null,null,null,null,null,null,null,0,0,0,0,0,0,0,0,0,0,0,0,0,0,0,0,0,0,0,0,0,0,0,0,0,0,0,0,0,0,0,0,0,0,0,0,0,0,0,0,0,0,0,0,0,0,0,0,0,0,0,0,0,0,0,0,0,0,0,0,0,0,0,null,"","","","","","",0,0,0,0,0,0,0,0,0,0,""]
[310,"Lohn Betreuung",{"$f":"SUM(C12:C16)","v":0},{"$f":"SUM(D12:D16)","v":0},0,"i.o.",null,{"$f":"SUM(H12:H16)","v":0},{"$f":"SUM(I12:I16)","v":0},0,0,0,0,0,0,0,0,0,0,0,0,0,0,0,0,0,0,0,0,0,0,0,0,0,0,0,0,0,0,0,0,0,0,0,0,0,0,0,0,0,0,0,0,0,0,0,0,0,0,0,0,0,0,0,0,0,0,0,0,0,0,0,{"$f":"SUM(BU12:BU16)","v":0},0,0,0,0,0,0,0,0,0,0,0,0,0,0,0,0,0,0,0,0,0,0,0,0,0,0,0,0,0,0,0,0,0,0,0,0,0,0,0,0,0,0,0,0,0,0,0,0,0,0,{"$f":"SUM(DT12:DT16)","v":0},0,0,0,0,0,0,0,0,0,0,0,0,0,0,0,0,0,0,0,{"$f":"SUM(EN12:EN16)","v":0},0,{"$f":"SUM(EP12:EP16)","v":0},0,0,0,0,0,0,0,0,0,{"$f":"SUM(EZ12:EZ16)","v":0},0,{"$f":"SUM(FB12:FB16)","v":0},0,{"$f":"SUM(FD12:FD16)","v":0},0,0,0,0,0,0,0,0,0,0,0,0,0,0,0,0,0,0,0,0,0,0,0,0,0,0,0,0,0,0,0,0,0,0,0,0,0,0,0,0,0,0,0,0,0,0,0,0,0,0,0,0,0,0,0,0,0,0,0,{"$f":"SUM(HL12:HL16)","v":0},0,0,0,null,0,0,0,0,0,0,0,0,0,0,0,0,0,0,0,0,0]
[3100,"Betreuung",0,0,{"$f":"SUM(C12:D12)","v":0},"i.o.",null,null,null,null,null,null,null,null,null,null,null,null,null,null,null,null,null,null,null,null,null,null,0,0,0,0,0,0,0,null,null,null,null,null,null,null,0,0,0,0,0,0,0,null,null,null,null,null,null,null,null,null,null,null,null,null,null,null,null,null,null,null,null,null,null,null,null,null,null,null,null,0,0,0,0,0,0,0,null,null,null,null,null,null,null,null,null,null,null,null,null,null,null,null,null,null,null,null,null,null,null,null,null,null,null,null,0,0,0,0,0,0,0,0,0,0,0,0,0,0,0,0,0,0,0,0,0,0,0,0,0,0,0,0,0,0,0,0,0,0,0,0,0,0,0,0,0,0,0,0,0,0,0,0,0,0,0,0,0,0,0,0,0,0,0,0,0,0,0,0,0,0,0,0,0,0,0,0,0,0,0,0,0,0,0,0,0,0,0,0,0,0,0,0,0,0,0,0,0,0,0,0,0,0,0,0,0,0,0,0,0,0,0,0,0,0,0,null,0,0,0,0,0,0,0,0,0,0,0,0,0,0,0,0,0]
[3110,"Löhne Betreuung Erwachsene",0,0,0,"i.o.",null,null,null,null,null,null,null,null,null,null,null,null,null,null,null,null,null,null,null,null,null,null,null,null,null,null,null,null,null,null,null,null,null,null,null,null,0,0,0,0,0,0,0,null,null,null,null,null,null,null,null,null,null,null,null,null,null,null,null,null,null,null,null,null,null,null,null,null,null,null,null,0,0,0,0,0,0,0,null,null,null,null,null,null,null,null,null,null,null,null,null,null,null,null,null,null,null,null,null,null,null,null,null,null,null,null,0,0,0,0,0,0,0,0,0,0,0,0,0,0,0,0,0,0,0,0,0,0,0,0,0,0,0,0,0,0,0,0,0,0,0,0,0,0,0,0,0,0,0,0,0,0,0,0,0,0,0,0,0,0,0,0,0,0,0,0,0,0,0,0,0,0,0,0,0,0,0,0,0,0,0,0,0,0,0,0,0,0,0,0,0,0,0,0,0,0,0,0,0,0,0,0,0,0,0,0,0,0,0,0,0,0,0,0,0,0,0,null,0,0,0,0,0,0,0,0,0,0,0,0,0,0,0,0,0]
[3120,"Löhne Betreuung Kinder",0,0,0,"i.o.",null,null,null,null,null,null,null,null,null,null,null,null,null,null,null,null,null,null,null,null,null,null,null,null,null,null,null,null,null,null,null,null,null,null,null,null,null,null,null,null,null,null,null,null,null,null,null,null,null,null,null,null,null,null,null,null,null,null,null,null,null,null,null,null,null,null,null,null,null,null,null,null,null,null,null,null,null,null,null,null,null,null,null,null,null,null,null,null,null,null,null,null,null,null,null,null,null,null,null,null,null,null,null,null,null,null,null,null,null,null,null,null,null,null,null,null,null,null,null,null,null,null,null,null,null,null,null,null,null,null,null,null,null,null,null,null,null,null,null,null,null,null,null,null,null,null,null,null,null,null,null,null,null,null,0,0,0,0,0,0,0,0,0,0,0,0,0,0,0,0,0,0,0,0,0,0,0,0,0,0,0,0,0,0,0,0,0,0,0,0,0,0,0,0,0,0,0,0,0,0,0,0,0,0,0,0,0,0,0,0,0,0,0,0,0,0,0,null,"","","","","","",0,0,0,0,0,0,0,0,0,0,""]
[3130,"Löhne Betreuung Kinder Integration",0,0,0,"i.o.",null,null,null,null,null,null,null,null,null,null,null,null,null,null,null,null,null,null,null,null,null,null,null,null,null,null,null,null,null,null,null,null,null,null,null,null,null,null,null,null,null,null,null,null,null,null,null,null,null,null,null,null,null,null,null,null,null,null,null,null,null,null,null,null,null,null,null,null,null,null,null,null,null,null,null,null,null,null,null,null,null,null,null,null,null,null,null,null,null,null,null,null,null,null,null,null,null,null,null,null,null,null,null,null,null,null,null,null,null,null,null,null,null,null,null,null,null,null,null,null,null,null,null,null,null,null,null,null,null,null,null,null,null,null,null,null,null,null,null,null,null,null,null,null,null,null,null,null,null,null,null,null,null,null,0,0,0,0,0,0,0,0,0,0,0,0,0,0,0,0,0,0,0,0,0,0,0,0,0,0,0,0,0,0,0,0,0,0,0,0,0,0,0,0,0,0,0,0,0,0,0,0,0,0,0,0,0,0,0,0,0,0,0,0,0,0,0,null,"","","","","","",0,0,0,0,0,0,0,0,0,0,""]
[3180,"Löhne Betreuungsleitung",0,0,0,"i.o.",null,null,null,null,null,null,null,null,null,null,null,null,null,null,null,null,null,null,null,null,null,null,0,0,0,0,0,0,0,null,null,null,null,null,null,null,0,0,0,0,0,0,0,null,null,null,null,null,null,null,null,null,null,null,null,null,null,null,null,null,null,null,null,null,null,null,null,null,null,null,null,0,0,0,0,0,0,0,null,null,null,null,null,null,null,null,null,null,null,null,null,null,null,null,null,null,null,null,null,null,null,null,null,null,null,null,0,0,0,0,0,0,0,0,0,0,0,0,0,0,0,0,0,0,0,0,0,0,0,0,0,0,0,0,0,0,0,0,0,0,0,0,0,0,0,0,0,0,0,0,0,0,0,0,0,0,0,0,0,0,0,0,0,0,0,0,0,0,0,0,0,0,0,0,0,0,0,0,0,0,0,0,0,0,0,0,0,0,0,0,0,0,0,0,0,0,0,0,0,0,0,0,0,0,0,0,0,0,0,0,0,0,0,0,0,0,0,null,0,0,0,0,0,0,0,0,0,0,0,0,0,0,0,0,0]
[320,"Lohn Therapiepersonal",{"$f":"SUM(C18:C23)","v":0},{"$f":"SUM(D18:D23)","v":0},0,"i.o.",null,{"$f":"SUM(H18:H23)","v":0},{"$f":"SUM(I18:I23)","v":0},0,0,0,0,0,0,0,0,0,0,0,0,0,0,0,0,0,0,0,0,0,0,0,0,0,0,0,0,0,0,0,0,0,0,0,0,0,0,0,0,0,0,0,0,0,0,0,0,0,0,0,0,0,0,0,0,0,0,0,0,0,0,0,{"$f":"SUM(BU18:BU23)","v":0},0,0,0,0,0,0,0,0,0,0,0,0,0,0,0,0,0,0,0,0,0,0,0,0,0,0,0,0,0,0,0,0,0,0,0,0,0,0,0,0,0,0,0,0,0,0,0,0,0,0,{"$f":"SUM(DT18:DT23)","v":0},0,0,0,0,0,0,0,0,0,0,0,0,0,0,0,0,0,0,0,{"$f":"SUM(EN18:EN23)","v":0},0,{"$f":"SUM(EP18:EP23)","v":0},0,0,0,0,0,0,0,0,0,{"$f":"SUM(EZ18:EZ23)","v":0},0,{"$f":"SUM(FB18:FB23)","v":0},0,{"$f":"SUM(FD18:FD23)","v":0},0,0,0,0,0,0,0,0,0,0,0,0,0,0,0,0,0,0,0,0,0,0,0,0,0,0,0,0,0,0,0,0,0,0,0,0,0,0,0,0,0,0,0,0,0,0,0,{"$f":"SUM(GZ18:GZ23)","v":0},0,0,0,0,0,0,0,0,0,0,0,{"$f":"SUM(HL18:HL23)","v":0},0,0,0,null,0,0,0,0,0,0,0,0,0,0,0,0,0,0,0,0,0]
[3200,"Therapie",0,0,0,"i.o.",null,null,null,null,null,null,null,null,null,null,null,null,null,null,null,null,null,null,null,null,null,null,null,null,null,null,null,null,null,null,null,null,null,null,null,null,null,null,null,null,null,null,null,null,null,null,null,null,null,null,null,null,null,null,null,null,null,null,null,null,null,null,null,null,null,null,null,null,null,null,null,null,null,null,null,null,null,null,0,0,0,0,0,0,0,null,null,null,null,null,null,null,null,null,null,null,null,null,null,null,null,null,null,null,null,null,0,0,0,0,0,0,0,0,0,0,0,0,0,0,0,0,0,0,0,0,0,0,0,0,0,0,0,0,0,0,0,0,0,0,0,0,0,0,0,0,0,0,0,0,0,0,0,0,0,0,0,0,0,0,0,0,0,0,0,0,0,0,0,0,0,0,0,0,0,0,0,0,0,0,0,0,0,0,0,0,0,0,0,0,0,0,0,0,0,0,0,0,0,0,0,0,0,0,0,0,0,0,0,0,0,0,0,0,0,0,0,null,0,0,0,0,0,0,0,0,0,0,0,0,0,0,0,0,0]
[3210,"Löhne Therapie Erwachsene",0,0,0,"i.o.",null,null,null,null,null,null,null,null,null,null,null,null,null,null,null,null,null,null,null,null,null,null,null,null,null,null,null,null,null,null,null,null,null,null,null,null,null,null,null,null,null,null,null,null,null,null,null,null,null,null,null,null,null,null,null,null,null,null,null,null,null,null,null,null,null,null,null,null,null,null,null,null,null,null,null,null,null,null,0,0,0,0,0,0,0,null,null,null,null,null,null,null,null,null,null,null,null,null,null,null,null,null,null,null,null,null,0,0,0,0,0,0,0,0,0,0,0,0,0,0,0,0,0,0,0,0,0,0,0,0,0,0,0,0,0,0,0,0,0,0,0,0,0,0,0,0,0,0,0,0,0,0,0,0,0,0,0,0,0,0,0,0,0,0,0,0,0,0,0,0,0,0,0,0,0,0,0,0,0,0,0,0,0,0,0,0,0,0,0,0,0,0,0,0,0,0,0,0,0,0,0,0,0,0,0,0,0,0,0,0,0,0,0,0,0,0,0,null,0,0,0,0,0,0,0,0,0,0,0,0,0,0,0,0,0]
[3220,"Löhne Therapie Kinder  ",0,0,0,"i.o.",null,null,null,null,null,null,null,null,null,null,null,null,null,null,null,null,null,null,null,null,null,null,null,null,null,null,null,null,null,null,null,null,null,null,null,null,null,null,null,null,null,null,null,null,null,null,null,null,null,null,null,null,null,null,null,null,null,null,null,null,null,null,null,null,null,null,null,null,null,null,null,null,null,null,null,null,null,null,null,null,null,null,null,null,null,null,null,null,null,null,null,null,null,null,null,null,null,null,null,null,null,null,null,null,null,null,null,null,null,null,null,null,null,null,null,null,null,null,null,null,null,null,null,null,null,null,null,null,null,null,null,null,null,null,null,null,null,null,null,null,null,null,null,null,null,null,null,null,null,null,null,null,null,null,0,0,0,0,0,0,0,0,0,0,0,0,0,0,0,0,0,0,0,0,0,0,0,0,0,0,0,0,0,0,0,0,0,0,0,0,0,0,0,0,0,0,0,0,0,0,0,0,0,0,0,0,0,0,0,0,0,0,0,0,0,0,0,null,"","","","","","",0,0,0,0,0,0,0,0,0,0,""]
[3221,"Löhne Therapie Kinder Medizinische Massnahmen IV",0,0,0,"i.o.",null,null,null,null,null,null,null,null,null,null,null,null,null,null,null,null,null,null,null,null,null,null,null,null,null,null,null,null,null,null,null,null,null,null,null,null,null,null,null,null,null,null,null,null,null,null,null,null,null,null,null,null,null,null,null,null,null,null,null,null,null,null,null,null,null,null,null,null,null,null,null,null,null,null,null,null,null,null,null,null,null,null,null,null,null,null,null,null,null,null,null,null,null,null,null,null,null,null,null,null,null,null,null,null,null,null,null,null,null,null,null,null,null,null,null,null,null,null,null,null,null,null,null,null,null,null,null,null,null,null,null,null,null,null,null,null,null,null,null,null,null,null,null,null,null,null,null,null,null,null,null,null,null,null,0,0,0,0,0,0,0,0,0,0,0,0,0,0,0,0,0,0,0,0,0,0,0,0,0,0,0,0,0,0,0,0,0,0,0,0,0,0,0,0,0,0,0,0,0,0,0,0,0,0,0,0,0,0,0,0,0,0,0,0,0,0,0,null,"","","","","","",0,0,0,0,0,0,0,0,0,0,""]
[3230,"Löhne Therapie Kinder Integration",0,0,0,"i.o.",null,null,null,null,null,null,null,null,null,null,null,null,null,null,null,null,null,null,null,null,null,null,null,null,null,null,null,null,null,null,null,null,null,null,null,null,null,null,null,null,null,null,null,null,null,null,null,null,null,null,null,null,null,null,null,null,null,null,null,null,null,null,null,null,null,null,null,null,null,null,null,null,null,null,null,null,null,null,null,null,null,null,null,null,null,null,null,null,null,null,null,null,null,null,null,null,null,null,null,null,null,null,null,null,null,null,null,null,null,null,null,null,null,null,null,null,null,null,null,null,null,null,null,null,null,null,null,null,null,null,null,null,null,null,null,null,null,null,null,null,null,null,null,null,null,null,null,null,null,null,null,null,null,null,0,0,0,0,0,0,0,0,0,0,0,0,0,0,0,0,0,0,0,0,0,0,0,0,0,0,0,0,0,0,0,0,0,0,0,0,0,0,0,0,0,0,0,0,0,0,0,0,0,0,0,0,0,0,0,0,0,0,0,0,0,0,0,null,"","","","","","",0,0,0,0,0,0,0,0,0,0,""]
[3280,"Löhne Therapie Leitung",0,0,0,"i.o.",null,null,null,null,null,null,null,null,null,null,null,null,null,null,null,null,null,null,null,null,null,null,0,0,0,0,0,0,0,null,null,null,null,null,null,null,null,null,null,null,null,null,null,null,null,null,null,null,null,null,null,null,null,null,null,null,null,null,null,null,null,null,null,null,null,null,null,null,null,null,null,null,null,null,null,null,null,null,0,0,0,0,0,0,0,null,null,null,null,null,null,null,null,null,null,null,null,null,null,null,null,null,null,null,null,null,0,0,0,0,0,0,0,0,0,0,0,0,0,0,0,0,0,0,0,0,0,0,0,0,0,0,0,0,0,0,0,0,0,0,0,0,0,0,0,0,0,0,0,0,0,0,0,0,0,0,0,0,0,0,0,0,0,0,0,0,0,0,0,0,0,0,0,0,0,0,0,0,0,0,0,0,0,0,0,0,0,0,0,0,0,0,0,0,0,0,0,0,0,0,0,0,0,0,0,0,0,0,0,0,0,0,0,0,0,0,0,null,0,0,0,0,0,0,0,0,0,0,0,0,0,0,0,0,0]
[330,"Lohn Leitung und Verwaltung",{"$f":"SUM(C25:C27)","v":0},{"$f":"SUM(D25:D27)","v":0},0,"i.o.",null,{"$f":"SUM(H25:H27)","v":0},{"$f":"SUM(I25:I27)","v":0},0,0,0,0,0,0,0,0,0,0,0,0,0,0,0,0,0,0,0,0,0,0,0,0,0,0,0,0,0,0,0,0,0,0,0,0,0,0,0,0,0,0,0,0,0,0,0,0,0,0,0,0,0,0,0,0,0,0,0,0,0,0,0,{"$f":"SUM(BU25:BU27)","v":0},0,0,0,0,0,0,0,0,0,0,0,0,0,0,0,0,0,0,0,0,0,0,0,0,0,0,0,0,0,0,0,0,0,0,0,0,0,0,0,0,0,0,0,0,0,0,0,0,0,0,{"$f":"SUM(DT25:DT27)","v":0},0,0,0,0,0,0,0,0,0,0,0,0,0,0,0,0,0,0,0,{"$f":"SUM(EN25:EN27)","v":0},0,{"$f":"SUM(EP25:EP27)","v":0},0,0,0,0,0,0,0,0,0,{"$f":"SUM(EZ25:EZ27)","v":0},0,{"$f":"SUM(FB25:FB27)","v":0},0,{"$f":"SUM(FD25:FD27)","v":0},0,0,0,0,0,0,0,0,0,0,0,0,0,0,0,0,0,0,0,0,0,0,0,0,0,0,0,0,0,0,0,0,0,0,0,0,0,0,0,0,0,0,0,0,0,0,0,0,0,0,0,0,0,0,0,0,0,0,0,{"$f":"SUM(HL25:HL27)","v":0},0,0,0,null,0,0,0,0,0,0,0,0,0,0,0,0,0,0,0,0,0]
[3300,"Leitung & Verwaltung",0,0,0,"i.o.",null,null,null,null,null,null,null,null,null,null,null,null,null,null,null,null,null,null,null,null,null,null,0,0,0,0,0,0,0,null,null,null,null,null,null,null,null,null,null,null,null,null,null,null,null,null,null,null,null,null,null,null,null,null,null,null,null,null,null,null,null,null,null,null,null,null,null,null,null,null,null,null,null,null,null,null,null,null,null,null,null,null,null,null,null,null,null,null,null,null,null,null,null,null,null,null,null,null,null,null,null,null,null,null,null,null,0,0,0,0,0,0,0,0,0,0,0,0,0,0,0,0,0,0,0,0,0,0,0,0,0,0,0,0,0,0,0,0,0,0,0,0,0,0,0,0,0,0,0,0,0,0,0,0,0,0,0,0,0,0,0,0,0,0,0,0,0,0,0,0,0,0,0,0,0,0,0,0,0,0,0,0,0,0,0,0,0,0,0,0,0,0,0,0,0,0,0,0,0,0,0,0,0,0,0,0,0,0,0,0,0,0,0,0,0,0,0,null,0,0,0,0,0,0,0,0,0,0,0,0,0,0,0,0,0]
[3310,"Löhne Heimleiter/Geschäftsführer",0,0,0,"i.o.",null,null,null,null,null,null,null,null,null,null,null,null,null,null,null,null,null,null,null,null,null,null,0,0,0,0,0,0,0,null,null,null,null,null,null,null,null,null,null,null,null,null,null,null,null,null,null,null,null,null,null,null,null,null,null,null,null,null,null,null,null,null,null,null,null,null,null,null,null,null,null,null,null,null,null,null,null,null,null,null,null,null,null,null,null,null,null,null,null,null,null,null,null,null,null,null,null,null,null,null,null,null,null,null,null,null,0,0,0,0,0,0,0,0,0,0,0,0,0,0,0,0,0,0,0,0,0,0,0,0,0,0,0,0,0,0,0,0,0,0,0,0,0,0,0,0,0,0,0,0,0,0,0,0,0,0,0,0,0,0,0,0,0,0,0,0,0,0,0,0,0,0,0,0,0,0,0,0,0,0,0,0,0,0,0,0,0,0,0,0,0,0,0,0,0,0,0,0,0,0,0,0,0,0,0,0,0,0,0,0,0,0,0,0,0,0,0,null,0,0,0,0,0,0,0,0,0,0,0,0,0,0,0,0,0]
[3320,"Löhne Verwaltung/Administration",0,0,0,"i.o.",null,null,null,null,null,null,null,null,null,null,null,null,null,null,null,null,null,null,null,null,null,null,0,0,0,0,0,0,0,null,null,null,null,null,null,null,null,null,null,null,null,null,null,null,null,null,null,null,null,null,null,null,null,null,null,null,null,null,null,null,null,null,null,null,null,null,null,null,null,null,null,null,null,null,null,null,null,null,null,null,null,null,null,null,null,null,null,null,null,null,null,null,null,null,null,null,null,null,null,null,null,null,null,null,null,null,0,0,0,0,0,0,0,0,0,0,0,0,0,0,0,0,0,0,0,0,0,0,0,0,0,0,0,0,0,0,0,0,0,0,0,0,0,0,0,0,0,0,0,0,0,0,0,0,0,0,0,0,0,0,0,0,0,0,0,0,0,0,0,0,0,0,0,0,0,0,0,0,0,0,0,0,0,0,0,0,0,0,0,0,0,0,0,0,0,0,0,0,0,0,0,0,0,0,0,0,0,0,0,0,0,0,0,0,0,0,0,null,0,0,0,0,0,0,0,0,0,0,0,0,0,0,0,0,0]
[340,"Lohn Ökonomie und Hausdienst",{"$f":"SUM(C29:C32)","v":0},{"$f":"SUM(D29:D32)","v":0},0,"i.o.",null,{"$f":"SUM(H29:H32)","v":0},{"$f":"SUM(I29:I32)","v":0},0,0,0,0,0,0,0,0,0,0,0,0,0,0,0,0,0,0,0,0,0,0,0,0,0,0,0,0,0,0,0,0,0,0,0,0,0,0,0,0,0,0,0,0,0,0,0,0,0,0,0,0,0,0,0,0,0,0,0,0,0,0,0,{"$f":"SUM(BU29:BU32)","v":0},0,0,0,0,0,0,0,0,0,0,0,0,0,0,0,0,0,0,0,0,0,0,0,0,0,0,0,0,0,0,0,0,0,0,0,0,0,0,0,0,0,0,0,0,0,0,0,0,0,0,{"$f":"SUM(DT29:DT32)","v":0},0,0,0,0,0,0,0,0,0,0,0,0,0,0,0,0,0,0,0,{"$f":"SUM(EN29:EN32)","v":0},0,{"$f":"SUM(EP29:EP32)","v":0},0,0,0,0,0,0,0,0,0,{"$f":"SUM(EZ29:EZ32)","v":0},0,{"$f":"SUM(FB29:FB32)","v":0},0,{"$f":"SUM(FD29:FD32)","v":0},0,0,0,0,0,0,0,0,0,0,0,0,0,0,0,0,0,0,0,0,0,0,0,0,0,0,0,0,0,0,0,0,0,0,0,0,0,0,0,0,0,0,0,0,0,0,0,{"$f":"SUM(GZ29:GZ32)","v":0},0,0,0,0,0,0,0,0,0,0,0,{"$f":"SUM(HL29:HL32)","v":0},0,0,0,null,0,0,0,0,0,0,0,0,0,0,0,0,0,0,0,0,0]
[3400,"Ökonomie & Hausdienst",0,0,0,"i.o.",null,null,null,null,null,null,null,null,null,null,null,null,null,null,null,null,null,null,null,null,null,null,null,null,null,null,null,null,null,null,null,null,null,null,null,null,null,null,null,null,null,null,null,null,null,null,null,null,null,null,0,0,0,0,0,0,0,0,0,0,0,0,0,0,0,0,0,0,0,0,0,0,0,0,0,0,0,0,null,null,null,null,null,null,null,null,null,null,null,null,null,null,null,null,null,null,null,null,null,null,null,null,null,null,null,null,0,0,0,0,0,0,0,0,0,0,0,0,0,0,0,0,0,0,0,0,0,0,0,0,0,0,0,0,0,0,0,0,0,0,0,0,0,0,0,0,0,0,0,0,0,0,0,0,0,0,0,0,0,0,0,0,0,0,0,0,0,0,0,0,0,0,0,0,0,0,0,0,0,0,0,0,0,0,0,0,0,0,0,0,0,0,0,0,0,0,0,0,0,0,0,0,0,0,0,0,0,0,0,0,0,0,0,0,0,0,0,null,0,0,0,0,0,0,0,0,0,0,0,0,0,0,0,0,0]
[3410,"Löhne Reinigungsdienst",0,0,0,"i.o.",null,null,null,null,null,null,null,null,null,null,null,null,null,null,null,null,null,null,null,null,null,null,null,null,null,null,null,null,null,null,null,null,null,null,null,null,null,null,null,null,null,null,null,null,null,null,null,null,null,null,0,0,0,0,0,0,0,null,null,null,null,null,null,null,null,null,null,null,null,null,null,null,null,null,null,null,null,null,null,null,null,null,null,null,null,null,null,null,null,null,null,null,null,null,null,null,null,null,null,null,null,null,null,null,null,null,0,0,0,0,0,0,0,0,0,0,0,0,0,0,0,0,0,0,0,0,0,0,0,0,0,0,0,0,0,0,0,0,0,0,0,0,0,0,0,0,0,0,0,0,0,0,0,0,0,0,0,0,0,0,0,0,0,0,0,0,0,0,0,0,0,0,0,0,0,0,0,0,0,0,0,0,0,0,0,0,0,0,0,0,0,0,0,0,0,0,0,0,0,0,0,0,0,0,0,0,0,0,0,0,0,0,0,0,0,0,0,null,0,0,0,0,0,0,0,0,0,0,0,0,0,0,0,0,0]
[3420,"Löhne Wäscherei / Lingerie",0,0,0,"i.o.",null,null,null,null,null,null,null,null,null,null,null,null,null,null,null,null,null,null,null,null,null,null,null,null,null,null,null,null,null,null,null,null,null,null,null,null,null,null,null,null,null,null,null,null,null,null,null,null,null,null,null,null,null,null,null,null,null,0,0,0,0,0,0,0,null,null,null,null,null,null,null,null,null,null,null,null,null,null,null,null,null,null,null,null,null,null,null,null,null,null,null,null,null,null,null,null,null,null,null,null,null,null,null,null,null,null,0,0,0,0,0,0,0,0,0,0,0,0,0,0,0,0,0,0,0,0,0,0,0,0,0,0,0,0,0,0,0,0,0,0,0,0,0,0,0,0,0,0,0,0,0,0,0,0,0,0,0,0,0,0,0,0,0,0,0,0,0,0,0,0,0,0,0,0,0,0,0,0,0,0,0,0,0,0,0,0,0,0,0,0,0,0,0,0,0,0,0,0,0,0,0,0,0,0,0,0,0,0,0,0,0,0,0,0,0,0,0,null,0,0,0,0,0,0,0,0,0,0,0,0,0,0,0,0,0]
[3430,"Löhne Küche",0,0,0,"i.o.",null,null,null,null,null,null,null,null,null,null,null,null,null,null,null,null,null,null,null,null,null,null,null,null,null,null,null,null,null,null,null,null,null,null,null,null,null,null,null,null,null,null,null,null,null,null,null,null,null,null,null,null,null,null,null,null,null,null,null,null,null,null,null,null,0,0,0,0,0,0,0,0,0,0,0,0,0,0,null,null,null,null,null,null,null,null,null,null,null,null,null,null,null,null,null,null,null,null,null,null,null,null,null,null,null,null,0,0,0,0,0,0,0,0,0,0,0,0,0,0,0,0,0,0,0,0,0,0,0,0,0,0,0,0,0,0,0,0,0,0,0,0,0,0,0,0,0,0,0,0,0,0,0,0,0,0,0,0,0,0,0,0,0,0,0,0,0,0,0,0,0,0,0,0,0,0,0,0,0,0,0,0,0,0,0,0,0,0,0,0,0,0,0,0,0,0,0,0,0,0,0,0,0,0,0,0,0,0,0,0,0,0,0,0,0,0,0,null,0,0,0,0,0,0,0,0,0,0,0,0,0,0,0,0,0]
[350,"Lohn Technische Dienste (inkl. Gärtnerei)",{"$f":"SUM(C34:C36)","v":0},{"$f":"SUM(D34:D36)","v":0},0,"i.o.",null,{"$f":"SUM(H34:H36)","v":0},{"$f":"SUM(I34:I36)","v":0},0,0,0,0,0,0,0,0,0,0,0,0,0,0,0,0,0,0,0,0,0,0,0,0,0,0,0,0,0,0,0,0,0,0,0,0,0,0,0,0,0,0,0,0,0,0,0,0,0,0,0,0,0,0,0,0,0,0,0,0,0,0,0,{"$f":"SUM(BU34:BU36)","v":0},0,0,0,0,0,0,0,0,0,0,0,0,0,0,0,0,0,0,0,0,0,0,0,0,0,0,0,0,0,0,0,0,0,0,0,0,0,0,0,0,0,0,0,0,0,0,0,0,0,0,{"$f":"SUM(DT34:DT36)","v":0},0,0,0,0,0,0,0,0,0,0,0,0,0,0,0,0,0,0,0,{"$f":"SUM(EN34:EN36)","v":0},0,{"$f":"SUM(EP34:EP36)","v":0},0,0,0,0,0,0,0,0,0,{"$f":"SUM(EZ34:EZ36)","v":0},0,{"$f":"SUM(FB34:FB36)","v":0},0,{"$f":"SUM(FD34:FD36)","v":0},0,0,0,0,0,0,0,0,0,0,0,0,0,0,0,0,0,0,0,0,0,0,0,0,0,0,0,0,0,0,0,0,0,0,0,0,0,0,0,0,0,0,0,0,0,0,0,0,0,0,0,0,0,0,0,0,0,0,0,{"$f":"SUM(HL34:HL36)","v":0},0,0,0,null,0,0,0,0,0,0,0,0,0,0,0,0,0,0,0,0,0]
[3500,"Technische Dienste",0,0,0,"i.o.",null,null,null,null,null,null,null,null,null,null,null,null,null,null,null,null,null,null,null,null,null,null,null,null,null,null,null,null,null,0,0,0,0,0,0,0,0,0,0,0,0,0,0,0,0,0,0,0,0,0,null,null,null,null,null,null,null,null,null,null,null,null,null,null,null,null,null,null,null,null,null,null,null,null,null,null,null,null,null,null,null,null,null,null,null,null,null,null,null,null,null,null,null,null,null,null,null,null,null,null,null,null,null,null,null,null,0,0,0,0,0,0,0,0,0,0,0,0,0,0,0,0,0,0,0,0,0,0,0,0,0,0,0,0,0,0,0,0,0,0,0,0,0,0,0,0,0,0,0,0,0,0,0,0,0,0,0,0,0,0,0,0,0,0,0,0,0,0,0,0,0,0,0,0,0,0,0,0,0,0,0,0,0,0,0,0,0,0,0,0,0,0,0,0,0,0,0,0,0,0,0,0,0,0,0,0,0,0,0,0,0,0,0,0,0,0,0,null,0,0,0,0,0,0,0,0,0,0,0,0,0,0,0,0,0]
[3510,"Löhne Chauffeur",0,0,0,"i.o.",null,null,null,null,null,null,null,null,null,null,null,null,null,null,null,null,null,null,null,null,null,null,null,null,null,null,null,null,null,0,0,0,0,0,0,0,0,0,0,0,0,0,0,null,null,null,null,null,null,null,null,null,null,null,null,null,null,null,null,null,null,null,null,null,null,null,null,null,null,null,null,null,null,null,null,null,null,null,null,null,null,null,null,null,null,null,null,null,null,null,null,null,null,null,null,null,null,null,null,null,null,null,null,null,null,null,0,0,0,0,0,0,0,0,0,0,0,0,0,0,0,0,0,0,0,0,0,0,0,0,0,0,0,0,0,0,0,0,0,0,0,0,0,0,0,0,0,0,0,0,0,0,0,0,0,0,0,0,0,0,0,0,0,0,0,0,0,0,0,0,0,0,0,0,0,0,0,0,0,0,0,0,0,0,0,0,0,0,0,0,0,0,0,0,0,0,0,0,0,0,0,0,0,0,0,0,0,0,0,0,0,0,0,0,0,0,0,null,0,0,0,0,0,0,0,0,0,0,0,0,0,0,0,0,0]
[3520,"Löhne Technische Leitung, Handwerker, Gärtner",0,0,0,{"$f":"IF(SUM(H36:HO36)=E36,\"i.o.\",E36-SUM(H36:HO36))","v":"i.o."},null,null,null,null,null,null,null,null,null,null,null,null,null,null,null,null,null,null,null,null,null,null,null,null,null,null,null,null,null,null,null,null,null,null,null,null,null,null,null,null,null,null,null,0,0,0,0,0,0,0,null,null,null,null,null,null,null,null,null,null,null,null,null,null,null,null,null,null,null,null,null,null,null,null,null,null,null,null,null,null,null,null,null,null,null,null,null,null,null,null,null,null,null,null,null,null,null,null,null,null,null,null,null,null,null,null,0,0,0,0,0,0,0,0,0,0,0,0,0,0,0,0,0,0,0,0,0,0,0,0,0,0,0,0,0,0,0,0,0,0,0,0,0,0,0,0,0,0,0,0,0,0,0,0,0,0,0,0,0,0,0,0,0,0,0,0,0,0,0,0,0,0,0,0,0,0,0,0,0,0,0,0,0,0,0,0,0,0,0,0,0,0,0,0,0,0,0,0,0,0,0,0,0,0,0,0,0,0,0,0,0,0,0,0,0,0,0,null,{"$f":"IF(COUNT(DI36:DR36)=0,\"\",SUM(DI36:DR36))","v":0},{"$f":"IF(COUNT(DS36:EB36)=0,\"\",SUM(DS36:EB36))","v":0},{"$f":"IF(COUNT(EC36:EL36)=0,\"\",SUM(EC36:EL36))","v":0},{"$f":"IF(COUNT(EM36:EP36)=0,\"\",SUM(EM36:EP36))","v":0},{"$f":"IF(COUNT(EQ36:EZ36)=0,\"\",SUM(EQ36:EZ36))","v":0},{"$f":"IF(COUNT(FA36:FD36)=0,\"\",SUM(FA36:FD36))","v":0},{"$f":"IF(COUNT(FE36:FK36)=0,\"\",SUM(FE36:FK36))","v":0},{"$f":"IF(COUNT(FL36:FL36)=0,\"\",SUM(FL36:FL36))","v":0},{"$f":"IF(COUNT(FM36:FP36)=0,\"\",SUM(FM36:FP36))","v":0},{"$f":"IF(COUNT(FQ36:FQ36)=0,\"\",SUM(FQ36:FQ36))","v":0},{"$f":"IF(COUNT(FR36:FW36)=0,\"\",SUM(FR36:FW36))","v":0},{"$f":"IF(COUNT(FX36:GB36)=0,\"\",SUM(FX36:GB36))","v":0},{"$f":"IF(COUNT(GC36:GH36)=0,\"\",SUM(GC36:GH36))","v":0},0,0,0,{"$f":"IF(COUNT(H36:DH36)=0,\"\",SUM(H36:DH36))","v":0}]
[360,"Lohn Tagesstruktur Personal ohne Begleitauftrag",{"$f":"SUM(C38:C38)","v":0},{"$f":"SUM(D38:D38)","v":0},0,"i.o.",null,{"$f":"SUM(H38:H38)","v":0},0,0,0,0,0,0,0,0,0,0,0,0,0,0,0,0,0,0,0,0,0,0,0,0,0,0,0,0,0,0,0,0,0,0,0,0,0,0,0,0,0,0,0,0,0,0,0,0,0,0,0,0,0,0,0,0,0,0,0,0,0,0,0,{"$f":"SUM(BT38:BT38)","v":0},0,0,0,0,0,0,0,0,0,0,0,0,0,0,0,0,0,0,0,0,0,0,0,0,0,0,0,0,0,0,0,0,0,0,0,0,0,0,0,0,0,0,0,0,0,0,0,0,0,0,0,0,0,0,0,0,0,0,0,0,0,0,0,{"$f":"SUM(EF38:EF38)","v":0},0,0,0,0,0,0,0,0,0,0,0,0,0,0,0,0,0,0,0,0,0,0,0,0,0,0,0,0,0,0,0,0,0,0,0,0,0,0,0,0,0,0,0,0,0,0,0,0,0,0,0,0,0,0,0,0,0,0,0,0,0,0,0,{"$f":"SUM(GR38:GR38)","v":0},0,0,0,0,0,0,0,0,0,0,0,0,0,0,0,0,0,0,0,0,0,0,0,null,0,0,0,0,0,0,0,0,0,0,0,0,0,0,0,0,0]
[3600,"Löhne MA ohne IV-Rente & ohne Begleitauftrag (produktiv)",0,0,0,"i.o.",null,null,null,null,null,null,null,null,null,null,null,null,null,null,null,null,null,null,null,null,null,null,null,null,null,null,null,null,null,null,null,null,null,null,null,null,null,null,null,null,null,null,null,null,null,null,null,null,null,null,null,null,null,null,null,null,null,null,null,null,null,null,null,null,null,null,null,null,null,null,null,null,null,null,null,null,null,null,null,null,null,null,null,null,null,null,null,null,null,null,null,null,null,null,null,null,null,null,null,null,null,null,null,null,null,null,null,null,null,null,null,null,null,null,null,null,null,null,null,null,null,null,null,null,null,null,null,null,null,null,null,null,null,null,null,null,null,null,null,null,0,0,0,0,0,0,0,0,0,0,0,0,0,0,0,0,0,0,0,0,0,0,0,0,0,0,0,0,0,0,0,0,0,0,0,0,0,0,0,0,0,0,0,0,0,0,0,0,0,0,0,0,0,0,0,0,0,0,0,0,0,0,0,0,0,0,0,0,0,0,0,0,0,0,0,0,0,null,"","","","",0,0,0,0,0,0,0,0,0,0,0,0,""]
[362,"Lohn Tagesstruktur Personal mit Begleitauftrag",{"$f":"SUM(C40)","v":0},{"$f":"SUM(D40)","v":0},{"$f":"SUM(E40)","v":0},{"$f":"IF(SUM(H39:HO39)=E39,\"i.o.\",E39-SUM(H39:HO39))","v":"i.o."},null,{"$f":"SUM(H40:H40)","v":0},0,0,0,0,0,0,0,0,0,0,0,0,0,0,0,0,0,0,0,0,0,0,0,0,0,0,0,0,0,0,0,0,0,0,0,0,0,0,0,0,0,0,0,0,0,0,0,0,0,0,0,0,0,0,0,0,0,0,0,0,0,0,0,{"$f":"SUM(BT40:BT40)","v":0},0,0,0,0,0,0,0,0,0,0,0,0,0,0,0,0,0,0,0,0,0,0,0,0,0,0,0,0,0,0,0,0,0,0,0,0,0,0,0,0,0,0,0,0,0,0,0,0,0,0,0,0,0,0,0,0,0,0,0,0,0,0,0,{"$f":"SUM(EF40:EF40)","v":0},0,0,0,0,0,0,0,0,0,0,0,0,0,0,0,0,0,0,0,0,0,0,0,0,0,0,0,0,0,0,0,0,0,0,0,0,0,0,0,0,0,0,0,0,0,0,0,0,0,0,0,0,0,0,0,0,0,0,0,0,0,0,0,{"$f":"SUM(GR40:GR40)","v":0},0,0,0,0,0,0,0,0,0,0,0,0,0,0,0,0,0,0,0,0,0,0,0,null,{"$f":"IF(COUNT(DI39:DR39)=0,\"\",SUM(DI39:DR39))","v":0},{"$f":"IF(COUNT(DS39:EB39)=0,\"\",SUM(DS39:EB39))","v":0},{"$f":"IF(COUNT(EC39:EL39)=0,\"\",SUM(EC39:EL39))","v":0},{"$f":"IF(COUNT(EM39:EP39)=0,\"\",SUM(EM39:EP39))","v":0},{"$f":"IF(COUNT(EQ39:EZ39)=0,\"\",SUM(EQ39:EZ39))","v":0},{"$f":"IF(COUNT(FA39:FD39)=0,\"\",SUM(FA39:FD39))","v":0},{"$f":"IF(COUNT(FE39:FK39)=0,\"\",SUM(FE39:FK39))","v":0},{"$f":"IF(COUNT(FL39:FL39)=0,\"\",SUM(FL39:FL39))","v":0},{"$f":"IF(COUNT(FM39:FP39)=0,\"\",SUM(FM39:FP39))","v":0},{"$f":"IF(COUNT(FQ39:FQ39)=0,\"\",SUM(FQ39:FQ39))","v":0},{"$f":"IF(COUNT(FR39:FW39)=0,\"\",SUM(FR39:FW39))","v":0},{"$f":"IF(COUNT(FX39:GB39)=0,\"\",SUM(FX39:GB39))","v":0},{"$f":"IF(COUNT(GC39:GH39)=0,\"\",SUM(GC39:GH39))","v":0},{"$f":"IF(COUNT(GI39:GS39)=0,\"\",SUM(GI39:GS39))","v":0},{"$f":"IF(COUNT(GT39:HD39)=0,\"\",SUM(GT39:HD39))","v":0},{"$f":"IF(COUNT(HE39:HO39)=0,\"\",SUM(HE39:HO39))","v":0},{"$f":"IF(COUNT(H39:DH39)=0,\"\",SUM(H39:DH39))","v":0}]
[3620,"Löhne MA ohne IV-Rente & mit Begleitauftrag",0,0,{"$f":"SUM(C40:D40)","v":0},"i.o.",null,null,null,null,null,null,null,null,null,null,null,null,null,null,null,null,null,null,null,null,null,null,null,null,null,null,null,null,null,null,null,null,null,null,null,null,null,null,null,null,null,null,null,null,null,null,null,null,null,null,null,null,null,null,null,null,null,null,null,null,null,null,null,null,null,null,null,null,null,null,null,null,null,null,null,null,null,null,null,null,null,null,null,null,null,null,null,null,null,null,null,null,null,null,null,null,null,null,null,null,null,null,null,null,null,null,null,null,null,null,null,null,null,null,null,null,null,null,null,null,null,null,null,null,null,null,0,0,0,0,0,0,0,0,0,0,0,0,0,0,null,null,null,null,null,null,null,null,null,null,null,null,null,null,0,0,0,0,0,0,0,0,0,0,0,0,0,0,0,0,0,0,0,0,0,0,0,0,0,0,0,0,0,0,0,0,0,0,0,0,0,0,0,0,0,0,0,0,0,0,0,0,0,0,0,0,0,0,0,0,0,0,0,0,0,0,0,null,"","",0,0,"","",0,0,0,0,0,0,0,0,0,0,""]
[365,"Lohn und Entschädigungen Tagesstruktur MA mit IV-Rente und Löhne Auszubildende Eingliederung",{"$f":"SUM(C42:C44)","v":0},{"$f":"SUM(D42:D44)","v":0},{"$f":"SUM(E42:E44)","v":0},"i.o.",null,{"$f":"SUM(H42:H44)","v":0},0,0,0,0,0,0,0,0,0,0,0,0,0,0,0,0,0,0,0,0,0,0,0,0,0,0,0,0,0,0,0,0,0,0,0,0,0,0,0,0,0,0,0,0,0,0,0,0,0,0,0,0,0,0,0,0,0,0,0,0,0,0,0,{"$f":"SUM(BT42:BT44)","v":0},0,0,0,0,0,0,0,0,0,0,0,0,0,0,0,0,0,0,0,0,0,0,0,0,0,0,0,0,0,0,0,0,0,0,0,0,0,0,0,0,0,0,0,0,0,0,0,0,0,0,0,0,0,0,0,0,0,0,0,0,0,0,0,{"$f":"SUM(EF42:EF44)","v":0},0,0,0,0,0,0,0,0,0,0,0,0,0,0,0,0,0,0,0,0,0,0,0,0,0,0,0,0,0,0,0,0,0,0,0,0,0,0,0,0,0,0,0,0,0,0,0,0,0,0,0,0,0,0,0,0,0,0,0,0,0,0,0,{"$f":"SUM(GR42:GR44)","v":0},0,0,0,0,0,0,0,0,0,0,0,0,0,{"$f":"SUM(HF42:HF42)","v":0},0,0,0,0,0,0,0,0,0,null,0,0,0,0,0,0,0,0,0,0,0,0,0,0,0,0,0]
[3650,"Löhne/Entschädigung MA mit IV-Rente Begleitete Arbeit",0,0,0,"i.o.",null,null,null,null,null,null,null,null,null,null,null,null,null,null,null,null,null,null,null,null,null,null,null,null,null,null,null,null,null,null,null,null,null,null,null,null,null,null,null,null,null,null,null,null,null,null,null,null,null,null,null,null,null,null,null,null,null,null,null,null,null,null,null,null,null,null,null,null,null,null,null,null,null,null,null,null,null,null,null,null,null,null,null,null,null,null,null,null,null,null,null,null,null,null,null,null,null,null,null,null,null,null,null,null,null,null,null,null,null,null,null,null,null,null,null,null,null,null,null,null,null,null,null,null,null,null,null,null,null,null,null,null,null,null,null,null,null,null,null,null,null,null,null,null,null,null,null,null,null,null,null,null,null,null,0,0,0,0,0,0,0,0,0,0,0,0,0,0,0,0,0,0,0,0,0,0,0,0,0,0,0,0,0,0,0,0,0,0,0,0,0,0,0,0,0,0,0,0,0,0,0,0,0,0,0,0,0,0,0,0,0,0,0,0,0,0,0,null,"","","","","","",0,0,0,0,0,0,0,0,0,0,""]
[3651,"Löhne Auszubildende Eingliederung",0,0,0,"i.o.",null,null,null,null,null,null,null,null,null,null,null,null,null,null,null,null,null,null,null,null,null,null,0,0,0,0,0,0,0,0,0,0,0,0,0,0,0,0,0,0,0,0,0,0,0,0,0,0,0,0,0,0,0,0,0,0,0,0,0,0,0,0,0,0,0,0,0,0,0,0,0,0,0,0,0,0,0,0,null,null,null,null,null,null,null,null,null,null,null,null,null,null,0,0,0,0,0,0,0,0,0,0,0,0,0,0,null,null,null,null,null,null,null,null,null,null,null,null,null,null,null,null,null,null,null,null,null,null,null,null,null,null,null,null,null,null,null,null,null,null,null,null,null,null,null,null,null,null,null,null,null,null,null,null,0,0,0,0,0,0,0,0,0,0,0,0,0,0,0,0,0,0,0,0,0,0,0,0,0,0,0,0,0,0,0,0,0,0,0,0,0,0,0,0,0,0,0,0,0,0,0,0,0,0,0,0,0,0,0,0,0,0,0,0,0,0,0,null,"","","","","","",0,0,0,0,0,0,0,0,0,0,0]
[3660,"Taschengeld/Entschädigung MA mit IV-Rente Betreute Tagesgestaltung",0,0,{"$f":"SUM(C44:D44)","v":0},{"$f":"IF(SUM(H44:HO44)=E44,\"i.o.\",E44-SUM(H44:HO44))","v":"i.o."},null,null,null,null,null,null,null,null,null,null,null,null,null,null,null,null,null,null,null,null,null,null,0,0,0,0,0,0,0,0,0,0,0,0,0,0,0,0,0,0,0,0,0,0,0,0,0,0,0,0,0,0,0,0,0,0,0,0,0,0,0,0,0,0,0,0,0,0,0,0,0,0,0,0,0,0,0,0,null,null,null,null,null,null,null,null,null,null,null,null,null,null,0,0,0,0,0,0,0,0,0,0,0,0,0,0,null,null,null,null,null,null,null,null,null,null,null,null,null,null,null,null,null,null,null,null,null,null,null,null,null,null,null,null,null,null,null,null,null,null,null,null,null,null,null,null,null,null,null,null,null,null,null,null,0,0,0,0,0,0,0,0,0,0,0,0,0,0,0,0,0,0,0,0,0,0,0,0,0,0,0,0,0,0,0,0,0,0,0,0,0,0,0,0,0,0,0,0,0,0,0,0,0,0,0,0,0,0,0,0,0,0,0,0,0,0,0,null,{"$f":"IF(COUNT(DI44:DR44)=0,\"\",SUM(DI44:DR44))","v":""},{"$f":"IF(COUNT(DS44:EB44)=0,\"\",SUM(DS44:EB44))","v":""},{"$f":"IF(COUNT(EC44:EL44)=0,\"\",SUM(EC44:EL44))","v":""},{"$f":"IF(COUNT(EM44:EP44)=0,\"\",SUM(EM44:EP44))","v":""},{"$f":"IF(COUNT(EQ44:EZ44)=0,\"\",SUM(EQ44:EZ44))","v":""},{"$f":"IF(COUNT(FA44:FD44)=0,\"\",SUM(FA44:FD44))","v":""},{"$f":"IF(COUNT(FE44:FK44)=0,\"\",SUM(FE44:FK44))","v":0},{"$f":"IF(COUNT(FL44:FL44)=0,\"\",SUM(FL44:FL44))","v":0},{"$f":"IF(COUNT(FM44:FP44)=0,\"\",SUM(FM44:FP44))","v":0},{"$f":"IF(COUNT(FQ44:FQ44)=0,\"\",SUM(FQ44:FQ44))","v":0},{"$f":"IF(COUNT(FR44:FW44)=0,\"\",SUM(FR44:FW44))","v":0},{"$f":"IF(COUNT(FX44:GB44)=0,\"\",SUM(FX44:GB44))","v":0},{"$f":"IF(COUNT(GC44:GH44)=0,\"\",SUM(GC44:GH44))","v":0},{"$f":"IF(COUNT(GI44:GS44)=0,\"\",SUM(GI44:GS44))","v":0},{"$f":"IF(COUNT(GT44:HD44)=0,\"\",SUM(GT44:HD44))","v":0},{"$f":"IF(COUNT(HE44:HO44)=0,\"\",SUM(HE44:HO44))","v":0},{"$f":"IF(COUNT(H44:DH44)=0,\"\",SUM(H44:DH44))","v":0}]
[370,"Sozialleistungen",{"$f":"SUM(C46:C51)","v":0},{"$f":"SUM(D46:D51)","v":0},0,"i.o.",null,{"$f":"SUM(H46:H51)","v":0},{"$f":"SUM(I46:I51)","v":0},0,0,0,0,0,0,0,0,0,0,0,0,0,0,0,0,0,0,0,0,0,0,0,0,0,0,0,0,0,0,0,0,0,0,0,0,0,0,0,0,0,0,0,0,0,0,0,0,0,0,0,0,0,0,0,0,0,0,0,0,0,0,0,{"$f":"SUM(BU46:BU51)","v":0},0,0,0,0,0,0,0,0,0,0,0,0,0,0,0,0,0,0,0,0,0,0,0,0,0,0,0,0,0,0,0,0,0,0,0,0,0,0,0,0,0,0,0,0,0,0,0,0,0,0,{"$f":"SUM(DT46:DT51)","v":0},0,0,0,0,0,0,0,0,0,0,0,0,0,0,0,0,0,0,0,{"$f":"SUM(EN46:EN51)","v":0},0,{"$f":"SUM(EP46:EP51)","v":0},0,0,0,0,0,0,0,0,0,{"$f":"SUM(EZ46:EZ51)","v":0},0,{"$f":"SUM(FB46:FB51)","v":0},0,{"$f":"SUM(FD46:FD51)","v":0},0,0,0,0,0,0,0,0,0,0,0,0,0,0,0,0,0,0,0,0,0,0,0,0,0,0,0,0,0,0,0,0,0,0,0,0,0,0,0,0,0,0,0,0,0,0,0,0,0,0,0,0,0,0,0,0,0,0,0,{"$f":"SUM(HL46:HL51)","v":0},0,0,0,null,0,0,0,0,0,0,0,0,0,0,0,0,0,0,0,0,0]
[3700,"AHV, ALV, FAK Mitarbeitende",0,0,0,"i.o.",null,null,null,null,null,null,null,null,null,null,null,null,null,null,null,null,null,null,null,null,null,null,0,0,0,0,0,0,0,0,0,0,0,0,0,0,0,0,0,0,0,0,0,0,0,0,0,0,0,0,0,0,0,0,0,0,0,0,0,0,0,0,0,0,0,0,0,0,0,0,0,0,0,0,0,0,0,0,0,0,0,0,0,0,0,0,0,0,0,0,0,0,0,0,0,0,0,0,0,0,0,0,0,0,0,0,0,0,0,0,0,0,0,0,0,0,0,0,0,0,0,0,0,0,0,0,0,0,0,0,0,0,0,0,0,0,0,0,0,0,0,0,0,0,0,0,0,0,0,0,0,0,0,0,0,0,0,0,0,0,0,0,0,0,0,0,0,0,0,0,0,0,0,0,0,0,0,0,0,0,0,0,0,0,0,0,0,0,0,0,0,0,0,0,0,0,0,0,0,0,0,0,0,0,0,0,0,0,0,0,0,0,0,0,0,0,0,null,0,0,0,0,0,0,0,0,0,0,0,0,0,0,0,0,0]
[3710,"Pensionskasse (BVG) Mitarbeitende",0,0,0,"i.o.",null,null,null,null,null,null,null,null,null,null,null,null,null,null,null,null,null,null,null,null,null,null,0,0,0,0,0,0,0,0,0,0,0,0,0,0,0,0,0,0,0,0,0,0,0,0,0,0,0,0,0,0,0,0,0,0,0,0,0,0,0,0,0,0,0,0,0,0,0,0,0,0,0,0,0,0,0,0,0,0,0,0,0,0,0,0,0,0,0,0,0,0,0,0,0,0,0,0,0,0,0,0,0,0,0,0,0,0,0,0,0,0,0,0,0,0,0,0,0,0,0,0,0,0,0,0,0,0,0,0,0,0,0,0,0,0,0,0,0,0,0,0,0,0,0,0,0,0,0,0,0,0,0,0,0,0,0,0,0,0,0,0,0,0,0,0,0,0,0,0,0,0,0,0,0,0,0,0,0,0,0,0,0,0,0,0,0,0,0,0,0,0,0,0,0,0,0,0,0,0,0,0,0,0,0,0,0,0,0,0,0,0,0,0,0,0,0,null,0,0,0,0,0,0,0,0,0,0,0,0,0,0,0,0,0]
[3720,"Unfallversicherung (UVG) Mitarbeitende",0,0,0,"i.o.",null,null,null,null,null,null,null,null,null,null,null,null,null,null,null,null,null,null,null,null,null,null,0,0,0,0,0,0,0,0,0,0,0,0,0,0,0,0,0,0,0,0,0,0,0,0,0,0,0,0,0,0,0,0,0,0,0,0,0,0,0,0,0,0,0,0,0,0,0,0,0,0,0,0,0,0,0,0,0,0,0,0,0,0,0,0,0,0,0,0,0,0,0,0,0,0,0,0,0,0,0,0,0,0,0,0,0,0,0,0,0,0,0,0,0,0,0,0,0,0,0,0,0,0,0,0,0,0,0,0,0,0,0,0,0,0,0,0,0,0,0,0,0,0,0,0,0,0,0,0,0,0,0,0,0,0,0,0,0,0,0,0,0,0,0,0,0,0,0,0,0,0,0,0,0,0,0,0,0,0,0,0,0,0,0,0,0,0,0,0,0,0,0,0,0,0,0,0,0,0,0,0,0,0,0,0,0,0,0,0,0,0,0,0,0,0,0,null,0,0,0,0,0,0,0,0,0,0,0,0,0,0,0,0,0]
[3730,"Krankentaggeldversicherung",0,0,0,"i.o.",null,null,null,null,null,null,null,null,null,null,null,null,null,null,null,null,null,null,null,null,null,null,0,0,0,0,0,0,0,0,0,0,0,0,0,0,0,0,0,0,0,0,0,0,0,0,0,0,0,0,0,0,0,0,0,0,0,0,0,0,0,0,0,0,0,0,0,0,0,0,0,0,0,0,0,0,0,0,0,0,0,0,0,0,0,0,0,0,0,0,0,0,0,0,0,0,0,0,0,0,0,0,0,0,0,0,0,0,0,0,0,0,0,0,0,0,0,0,0,0,0,0,0,0,0,0,0,0,0,0,0,0,0,0,0,0,0,0,0,0,0,0,0,0,0,0,0,0,0,0,0,0,0,0,0,0,0,0,0,0,0,0,0,0,0,0,0,0,0,0,0,0,0,0,0,0,0,0,0,0,0,0,0,0,0,0,0,0,0,0,0,0,0,0,0,0,0,0,0,0,0,0,0,0,0,0,0,0,0,0,0,0,0,0,0,0,0,null,0,0,0,0,0,0,0,0,0,0,0,0,0,0,0,0,0]
[3780,"Sozialleistungen Betreute",0,0,0,"i.o.",null,null,null,null,null,null,null,null,null,null,null,null,null,null,null,null,null,null,null,null,null,null,null,null,null,null,null,null,null,null,null,null,null,null,null,null,null,null,null,null,null,null,null,null,null,null,null,null,null,null,null,null,null,null,null,null,null,null,null,null,null,null,null,null,null,null,null,null,null,null,null,null,null,null,null,null,null,null,null,null,null,null,null,null,null,null,null,null,null,null,null,null,null,null,null,null,null,null,null,null,null,null,null,null,null,null,null,null,null,null,null,null,null,null,null,null,null,null,null,null,null,null,null,null,null,null,null,null,null,null,null,null,null,null,null,null,null,null,null,null,null,null,null,null,null,null,null,null,null,null,null,null,null,null,0,0,0,0,0,0,0,0,0,0,0,0,0,0,0,0,0,0,0,0,0,0,0,0,0,0,0,0,0,0,0,0,0,0,0,0,0,0,0,0,0,0,0,0,0,0,0,0,0,0,0,0,0,0,0,0,0,0,0,0,0,0,0,null,"","","","","","",0,0,0,0,0,0,0,0,0,0,""]
[3790,"Übrige Sozialleistungen",0,0,0,"i.o.",null,null,null,null,null,null,null,null,null,null,null,null,null,null,null,null,null,null,null,null,null,null,0,0,0,0,0,0,0,0,0,0,0,0,0,0,null,null,null,null,null,null,null,0,0,0,0,0,0,0,0,0,0,0,0,0,0,0,0,0,0,0,0,0,0,0,0,0,0,0,0,0,0,0,0,0,0,0,0,0,0,0,0,0,0,0,0,0,0,0,0,0,0,0,0,0,0,0,0,0,0,0,0,0,0,0,0,0,0,0,0,0,0,0,0,0,0,0,0,0,0,0,0,0,0,0,0,0,0,0,0,0,0,0,0,0,0,0,0,0,0,0,0,0,0,0,0,0,0,0,0,0,0,0,0,0,0,0,0,0,0,0,0,0,0,0,0,0,0,0,0,0,0,0,0,0,0,0,0,0,0,0,0,0,0,0,0,0,0,0,0,0,0,0,0,0,0,0,0,0,0,0,0,0,0,0,0,0,0,0,0,0,0,0,0,0,0,null,0,0,0,0,0,0,0,0,0,0,0,0,0,0,0,0,0]
[380,"Personalnebenaufwand",{"$f":"SUM(C53:C59)","v":0},{"$f":"SUM(D53:D59)","v":0},0,"i.o.",null,{"$f":"SUM(H53:H59)","v":0},{"$f":"SUM(I53:I59)","v":0},0,0,0,0,0,0,0,0,0,0,0,0,0,0,0,0,0,0,0,0,0,0,0,0,0,0,0,0,0,0,0,0,0,0,0,0,0,0,0,0,0,0,0,0,0,0,0,0,0,0,0,0,0,0,0,0,0,0,0,0,0,0,0,{"$f":"SUM(BU53:BU59)","v":0},0,0,0,0,0,0,0,0,0,0,0,0,0,0,0,0,0,0,0,0,0,0,0,0,0,0,0,0,0,0,0,0,0,0,0,0,0,0,0,0,0,0,0,0,0,0,0,0,0,0,{"$f":"SUM(DT53:DT59)","v":0},0,0,0,0,0,0,0,0,0,0,0,0,0,0,0,0,0,0,0,{"$f":"SUM(EN53:EN59)","v":0},0,{"$f":"SUM(EP53:EP59)","v":0},0,0,0,0,0,0,0,0,0,{"$f":"SUM(EZ53:EZ59)","v":0},0,{"$f":"SUM(FB53:FB59)","v":0},0,{"$f":"SUM(FD53:FD59)","v":0},0,0,0,0,0,0,0,0,0,0,0,0,0,0,0,0,0,0,0,0,0,0,0,0,0,0,0,0,0,0,0,0,0,0,0,0,0,0,0,0,0,0,0,0,0,0,0,0,0,0,0,0,0,0,0,0,0,0,0,{"$f":"SUM(HL53:HL59)","v":0},0,0,0,null,0,0,0,0,0,0,0,0,0,0,0,0,0,0,0,0,0]
[3800,"Personalsuche",0,0,0,"i.o.",null,null,null,null,null,null,null,null,null,null,null,null,null,null,null,null,null,null,null,null,null,null,0,0,0,0,0,0,0,0,0,0,0,0,0,0,0,0,0,0,0,0,0,0,0,0,0,0,0,0,0,0,0,0,0,0,0,0,0,0,0,0,0,0,0,0,0,0,0,0,0,0,0,0,0,0,0,0,0,0,0,0,0,0,0,0,0,0,0,0,0,0,0,0,0,0,0,0,0,0,0,0,0,0,0,0,0,0,0,0,0,0,0,0,0,0,0,0,0,0,0,0,0,0,0,0,0,0,0,0,0,0,0,0,0,0,0,0,0,0,0,0,0,0,0,0,0,0,0,0,0,0,0,0,0,0,0,0,0,0,0,0,0,0,0,0,0,0,0,0,0,0,0,0,0,0,0,0,0,0,0,0,0,0,0,0,0,0,0,0,0,0,0,0,0,0,0,0,0,0,0,0,0,0,0,0,0,0,0,0,0,0,0,0,0,0,0,null,0,0,0,0,0,0,0,0,0,0,0,0,0,0,0,0,0]
[3810,"Aus- & Fortbildung",0,0,0,"i.o.",null,null,null,null,null,null,null,null,null,null,null,null,null,null,null,null,null,null,null,null,null,null,0,0,0,0,0,0,0,0,0,0,0,0,0,0,0,0,0,0,0,0,0,0,0,0,0,0,0,0,0,0,0,0,0,0,0,0,0,0,0,0,0,0,0,0,0,0,0,0,0,0,0,0,0,0,0,0,0,0,0,0,0,0,0,0,0,0,0,0,0,0,0,0,0,0,0,0,0,0,0,0,0,0,0,0,0,0,0,0,0,0,0,0,0,0,0,0,0,0,0,0,0,0,0,0,0,0,0,0,0,0,0,0,0,0,0,0,0,0,0,0,0,0,0,0,0,0,0,0,0,0,0,0,0,0,0,0,0,0,0,0,0,0,0,0,0,0,0,0,0,0,0,0,0,0,0,0,0,0,0,0,0,0,0,0,0,0,0,0,0,0,0,0,0,0,0,0,0,0,0,0,0,0,0,0,0,0,0,0,0,0,0,0,0,0,0,null,0,0,0,0,0,0,0,0,0,0,0,0,0,0,0,0,0]
[3811,"Aus- und Fortbildung Betreute",0,0,0,"i.o.",null,null,null,null,null,null,null,null,null,null,null,null,null,null,null,null,null,null,null,null,null,null,0,0,0,0,0,0,0,0,0,0,0,0,0,0,0,0,0,0,0,0,0,0,0,0,0,0,0,0,0,0,0,0,0,0,0,0,0,0,0,0,0,0,0,0,0,0,0,0,0,0,0,0,0,0,0,0,0,0,0,0,0,0,0,0,0,0,0,0,0,0,0,0,0,0,0,0,0,0,0,0,0,0,0,0,null,null,null,null,null,null,null,null,null,null,null,null,null,null,null,null,null,null,null,null,null,null,null,null,null,null,null,null,null,null,null,null,null,null,null,null,null,null,null,null,null,null,null,null,null,null,null,null,0,0,0,0,0,0,0,0,0,0,0,0,0,0,0,0,0,0,0,0,0,0,0,0,0,0,0,0,0,0,0,0,0,0,0,0,0,0,0,0,0,0,0,0,0,0,0,0,0,0,0,0,0,0,0,0,0,0,0,0,0,0,0,null,"","","","","","",0,0,0,0,0,0,0,0,0,0,0]
[3812,"Schulgelder Auszubildende",0,0,0,"i.o.",null,null,null,null,null,null,null,null,null,null,null,null,null,null,null,null,null,null,null,null,null,null,0,0,0,0,0,0,0,0,0,0,0,0,0,0,0,0,0,0,0,0,0,0,0,0,0,0,0,0,0,0,0,0,0,0,0,0,0,0,0,0,0,0,0,0,0,0,0,0,0,0,0,0,0,0,0,0,0,0,0,0,0,0,0,0,0,0,0,0,0,0,0,0,0,0,0,0,0,0,0,0,0,0,0,0,0,0,0,0,0,0,0,0,0,0,0,0,0,0,0,0,0,0,0,0,0,0,0,0,0,0,0,0,0,0,0,0,0,0,0,0,0,0,0,0,0,0,0,0,0,0,0,0,0,0,0,0,0,0,0,0,0,0,0,0,0,0,0,0,0,0,0,0,0,0,0,0,0,0,0,0,0,0,0,0,0,0,0,0,0,0,0,0,0,0,0,0,0,0,0,0,0,0,0,0,0,0,0,0,0,0,0,0,0,0,0,null,0,0,0,0,0,0,0,0,0,0,0,0,0,0,0,0,0]
[3820,"Personalanlässe",0,0,0,"i.o.",null,null,null,null,null,null,null,null,null,null,null,null,null,null,null,null,null,null,null,null,null,null,0,0,0,0,0,0,0,0,0,0,0,0,0,0,0,0,0,0,0,0,0,0,0,0,0,0,0,0,0,0,0,0,0,0,0,0,0,0,0,0,0,0,0,0,0,0,0,0,0,0,0,0,0,0,0,0,0,0,0,0,0,0,0,0,0,0,0,0,0,0,0,0,0,0,0,0,0,0,0,0,0,0,0,0,0,0,0,0,0,0,0,0,0,0,0,0,0,0,0,0,0,0,0,0,0,0,0,0,0,0,0,0,0,0,0,0,0,0,0,0,0,0,0,0,0,0,0,0,0,0,0,0,0,0,0,0,0,0,0,0,0,0,0,0,0,0,0,0,0,0,0,0,0,0,0,0,0,0,0,0,0,0,0,0,0,0,0,0,0,0,0,0,0,0,0,0,0,0,0,0,0,0,0,0,0,0,0,0,0,0,0,0,0,0,0,null,0,0,0,0,0,0,0,0,0,0,0,0,0,0,0,0,0]
[3890,"Übriger Personalnebenaufwand",0,0,0,"i.o.",null,null,null,null,null,null,null,null,null,null,null,null,null,null,null,null,null,null,null,null,null,null,0,0,0,0,0,0,0,0,0,0,0,0,0,0,0,0,0,0,0,0,0,0,0,0,0,0,0,0,0,0,0,0,0,0,0,0,0,0,0,0,0,0,0,0,0,0,0,0,0,0,0,0,0,0,0,0,0,0,0,0,0,0,0,0,0,0,0,0,0,0,0,0,0,0,0,0,0,0,0,0,0,0,0,0,0,0,0,0,0,0,0,0,0,0,0,0,0,0,0,0,0,0,0,0,0,0,0,0,0,0,0,0,0,0,0,0,0,0,0,0,0,0,0,0,0,0,0,0,0,0,0,0,0,0,0,0,0,0,0,0,0,0,0,0,0,0,0,0,0,0,0,0,0,0,0,0,0,0,0,0,0,0,0,0,0,0,0,0,0,0,0,0,0,0,0,0,0,0,0,0,0,0,0,0,0,0,0,0,0,0,0,0,0,0,0,null,0,0,0,0,0,0,0,0,0,0,0,0,0,0,0,0,0]
[3891,"Verpflegungs- und Transportentschädigungen",0,0,0,"i.o.",null,null,null,null,null,null,null,null,null,null,null,null,null,null,null,null,null,null,null,null,null,null,0,0,0,0,0,0,0,0,0,0,0,0,0,0,0,0,0,0,0,0,0,0,0,0,0,0,0,0,0,0,0,0,0,0,0,0,0,0,0,0,0,0,0,0,0,0,0,0,0,0,0,0,0,0,0,0,0,0,0,0,0,0,0,0,0,0,0,0,0,0,0,0,0,0,0,0,0,0,0,0,0,0,0,0,0,0,0,0,0,0,0,0,0,0,0,0,0,0,0,0,0,0,0,0,0,0,0,0,0,0,0,0,0,0,0,0,0,0,0,0,0,0,0,0,0,0,0,0,0,0,0,0,0,0,0,0,0,0,0,0,0,0,0,0,0,0,0,0,0,0,0,0,0,0,0,0,0,0,0,0,0,0,0,0,0,0,0,0,0,0,0,0,0,0,0,0,0,0,0,0,0,0,0,0,0,0,0,0,0,0,0,0,0,0,0,null,0,0,0,0,0,0,0,0,0,0,0,0,0,0,0,0,0]
[390,"Honorare für Leistungen Dritter",{"$f":"SUM(C61:C68)","v":0},{"$f":"SUM(D61:D68)","v":0},0,"i.o.",null,{"$f":"SUM(H61:H68)","v":0},{"$f":"SUM(I61:I68)","v":0},0,0,0,0,0,0,0,0,0,0,0,0,0,0,0,0,0,0,0,0,0,0,0,0,0,0,0,0,0,0,0,0,0,0,0,0,0,0,0,0,0,0,0,0,0,0,0,0,0,0,0,0,0,0,0,0,0,0,0,0,0,0,0,{"$f":"SUM(BU61:BU68)","v":0},0,0,0,0,0,0,0,0,0,0,0,0,0,0,0,0,0,0,0,0,0,0,0,0,0,0,0,0,0,0,0,0,0,0,0,0,0,0,0,0,0,0,0,0,0,0,0,0,0,0,{"$f":"SUM(DT61:DT68)","v":0},0,0,0,0,0,0,0,0,0,0,0,0,0,0,0,0,0,0,0,{"$f":"SUM(EN61:EN68)","v":0},0,{"$f":"SUM(EP61:EP68)","v":0},0,0,0,0,0,0,0,0,0,{"$f":"SUM(EZ61:EZ68)","v":0},0,{"$f":"SUM(FB61:FB68)","v":0},0,{"$f":"SUM(FD61:FD68)","v":0},0,0,0,0,0,0,0,0,0,0,0,0,0,0,0,0,0,0,0,0,0,0,0,0,0,0,0,0,0,0,0,0,0,0,0,0,0,0,0,0,0,0,0,0,0,0,0,0,0,0,0,0,0,0,0,0,0,0,0,{"$f":"SUM(HL61:HL68)","v":0},0,0,0,null,0,0,0,0,0,0,0,0,0,0,0,0,0,0,0,0,0]
[3900,"Honorare für Leistungen Dritter \n(nicht sozialleistungspflichtig)",0,0,0,"i.o.",null,null,null,null,null,null,null,null,null,null,null,null,null,null,null,null,null,null,null,null,null,null,0,0,0,0,0,0,0,0,0,0,0,0,0,0,0,0,0,0,0,0,0,0,0,0,0,0,0,0,0,0,0,0,0,0,0,0,0,0,0,0,0,0,0,0,0,0,0,0,0,0,0,0,0,0,0,0,0,0,0,0,0,0,0,0,0,0,0,0,0,0,0,0,0,0,0,0,0,0,0,0,0,0,0,0,0,0,0,0,0,0,0,0,0,0,0,0,0,0,0,0,0,0,0,0,0,0,0,0,0,0,0,0,0,0,0,0,0,0,0,0,0,0,0,0,0,0,0,0,0,0,0,0,0,0,0,0,0,0,0,0,0,0,0,0,0,0,0,0,0,0,0,0,0,0,0,0,0,0,0,0,0,0,0,0,0,0,0,0,0,0,0,0,0,0,0,0,0,0,0,0,0,0,0,0,0,0,0,0,0,0,0,0,0,0,0,null,0,0,0,0,0,0,0,0,0,0,0,0,0,0,0,0,0]
[3901,"Temporäres Personal",0,0,0,"i.o.",null,null,null,null,null,null,null,null,null,null,null,null,null,null,null,null,null,null,null,null,null,null,0,0,0,0,0,0,0,0,0,0,0,0,0,0,0,0,0,0,0,0,0,0,0,0,0,0,0,0,0,0,0,0,0,0,0,0,0,0,0,0,0,0,0,0,0,0,0,0,0,0,0,0,0,0,0,0,0,0,0,0,0,0,0,0,0,0,0,0,0,0,0,0,0,0,0,0,0,0,0,0,0,0,0,0,0,0,0,0,0,0,0,0,0,0,0,0,0,0,0,0,0,0,0,0,0,0,0,0,0,0,0,0,0,0,0,0,0,0,0,0,0,0,0,0,0,0,0,0,0,0,0,0,0,0,0,0,0,0,0,0,0,0,0,0,0,0,0,0,0,0,0,0,0,0,0,0,0,0,0,0,0,0,0,0,0,0,0,0,0,0,0,0,0,0,0,0,0,0,0,0,0,0,0,0,0,0,0,0,0,0,0,0,0,0,0,null,0,0,0,0,0,0,0,0,0,0,0,0,0,0,0,0,0]
[3902,"Supervision",0,0,0,"i.o.",null,null,null,null,null,null,null,null,null,null,null,null,null,null,null,null,null,null,null,null,null,null,0,0,0,0,0,0,0,0,0,0,0,0,0,0,0,0,0,0,0,0,0,0,0,0,0,0,0,0,0,0,0,0,0,0,0,0,0,0,0,0,0,0,0,0,0,0,0,0,0,0,0,0,0,0,0,0,0,0,0,0,0,0,0,0,0,0,0,0,0,0,0,0,0,0,0,0,0,0,0,0,0,0,0,0,0,0,0,0,0,0,0,0,0,0,0,0,0,0,0,0,0,0,0,0,0,0,0,0,0,0,0,0,0,0,0,0,0,0,0,0,0,0,0,0,0,0,0,0,0,0,0,0,0,0,0,0,0,0,0,0,0,0,0,0,0,0,0,0,0,0,0,0,0,0,0,0,0,0,0,0,0,0,0,0,0,0,0,0,0,0,0,0,0,0,0,0,0,0,0,0,0,0,0,0,0,0,0,0,0,0,0,0,0,0,0,null,0,0,0,0,0,0,0,0,0,0,0,0,0,0,0,0,0]
[3903,"Fachberatung",0,0,0,"i.o.",null,null,null,null,null,null,null,null,null,null,null,null,null,null,null,null,null,null,null,null,null,null,0,0,0,0,0,0,0,0,0,0,0,0,0,0,0,0,0,0,0,0,0,0,0,0,0,0,0,0,0,0,0,0,0,0,0,0,0,0,0,0,0,0,0,0,0,0,0,0,0,0,0,0,0,0,0,0,0,0,0,0,0,0,0,0,0,0,0,0,0,0,0,0,0,0,0,0,0,0,0,0,0,0,0,0,0,0,0,0,0,0,0,0,0,0,0,0,0,0,0,0,0,0,0,0,0,0,0,0,0,0,0,0,0,0,0,0,0,0,0,0,0,0,0,0,0,0,0,0,0,0,0,0,0,0,0,0,0,0,0,0,0,0,0,0,0,0,0,0,0,0,0,0,0,0,0,0,0,0,0,0,0,0,0,0,0,0,0,0,0,0,0,0,0,0,0,0,0,0,0,0,0,0,0,0,0,0,0,0,0,0,0,0,0,0,0,null,0,0,0,0,0,0,0,0,0,0,0,0,0,0,0,0,0]
[3904,"Ausbildung Kinder",0,0,0,"i.o.",null,null,null,null,null,null,null,null,null,null,null,null,null,null,null,null,null,null,null,null,null,null,null,null,null,null,null,null,null,null,null,null,null,null,null,null,null,null,null,null,null,null,null,null,null,null,null,null,null,null,null,null,null,null,null,null,null,null,null,null,null,null,null,null,null,null,null,null,null,null,null,null,null,null,null,null,null,null,null,null,null,null,null,null,null,null,null,null,null,null,null,null,null,null,null,null,null,null,null,null,null,null,null,null,null,null,null,null,null,null,null,null,null,null,null,null,null,null,null,null,null,null,null,null,null,null,null,null,null,null,null,null,null,null,null,null,null,null,null,null,null,null,null,null,null,null,null,null,null,null,null,null,null,null,0,0,0,0,0,0,0,0,0,0,0,0,0,0,0,0,0,0,0,0,0,0,0,0,0,0,0,0,0,0,0,0,0,0,0,0,0,0,0,0,0,0,0,0,0,0,0,0,0,0,0,0,0,0,0,0,0,0,0,0,0,0,0,null,"","","","","","",0,0,0,0,0,0,0,0,0,0,""]
[3910,"Betreuung Kinder",0,0,0,"i.o.",null,null,null,null,null,null,null,null,null,null,null,null,null,null,null,null,null,null,null,null,null,null,null,null,null,null,null,null,null,null,null,null,null,null,null,null,null,null,null,null,null,null,null,null,null,null,null,null,null,null,null,null,null,null,null,null,null,null,null,null,null,null,null,null,null,null,null,null,null,null,null,null,null,null,null,null,null,null,null,null,null,null,null,null,null,null,null,null,null,null,null,null,null,null,null,null,null,null,null,null,null,null,null,null,null,null,null,null,null,null,null,null,null,null,null,null,null,null,null,null,null,null,null,null,null,null,null,null,null,null,null,null,null,null,null,null,null,null,null,null,null,null,null,null,null,null,null,null,null,null,null,null,null,null,0,0,0,0,0,0,0,0,0,0,0,0,0,0,0,0,0,0,0,0,0,0,0,0,0,0,0,0,0,0,0,0,0,0,0,0,0,0,0,0,0,0,0,0,0,0,0,0,0,0,0,0,0,0,0,0,0,0,0,0,0,0,0,null,"","","","","","",0,0,0,0,0,0,0,0,0,0,""]
[3920,"Therapie Kinder",0,0,0,"i.o.",null,null,null,null,null,null,null,null,null,null,null,null,null,null,null,null,null,null,null,null,null,null,null,null,null,null,null,null,null,null,null,null,null,null,null,null,null,null,null,null,null,null,null,null,null,null,null,null,null,null,null,null,null,null,null,null,null,null,null,null,null,null,null,null,null,null,null,null,null,null,null,null,null,null,null,null,null,null,null,null,null,null,null,null,null,null,null,null,null,null,null,null,null,null,null,null,null,null,null,null,null,null,null,null,null,null,null,null,null,null,null,null,null,null,null,null,null,null,null,null,null,null,null,null,null,null,null,null,null,null,null,null,null,null,null,null,null,null,null,null,null,null,null,null,null,null,null,null,null,null,null,null,null,null,0,0,0,0,0,0,0,0,0,0,0,0,0,0,0,0,0,0,0,0,0,0,0,0,0,0,0,0,0,0,0,0,0,0,0,0,0,0,0,0,0,0,0,0,0,0,0,0,0,0,0,0,0,0,0,0,0,0,0,0,0,0,0,null,"","","","","","",0,0,0,0,0,0,0,0,0,0,""]
[3950,"Technische Dienste",0,0,0,"i.o.",null,null,null,null,null,null,null,null,null,null,null,null,null,null,null,null,null,null,null,null,null,null,null,null,null,null,null,null,null,null,null,null,null,null,null,null,null,null,null,null,null,null,null,0,0,0,0,0,0,0,null,null,null,null,null,null,null,null,null,null,null,null,null,null,null,null,null,null,null,null,null,null,null,null,null,null,null,null,null,null,null,null,null,null,null,null,null,null,null,null,null,null,null,null,null,null,null,null,null,null,null,null,null,null,null,null,0,0,0,0,0,0,0,0,0,0,0,0,0,0,0,0,0,0,0,0,0,0,0,0,0,0,0,0,0,0,0,0,0,0,0,0,0,0,0,0,0,0,0,0,0,0,0,0,0,0,0,0,0,0,0,0,0,0,0,0,0,0,0,0,0,0,0,0,0,0,0,0,0,0,0,0,0,0,0,0,0,0,0,0,0,0,0,0,0,0,0,0,0,0,0,0,0,0,0,0,0,0,0,0,0,0,0,0,0,0,0,null,0,0,0,0,0,0,0,0,0,0,0,0,0,0,0,0,0]
[null,"Sachaufwand",{"$f":"SUM(C70,C72,C75,C80,C87,C94,C96,C98,C100,C102,C109,C118,C125,C127,C129,C131,C137,C159,C174,C183,C104,C111)","v":0},{"$f":"SUM(D70,D72,D75,D80,D87,D94,D96,D98,D100,D102,D109,D118,D125,D127,D129,D131,D137,D159,D174,D183,D104,D111)","v":0},0,"i.o.",null,{"$f":"SUM(H70,H72,H75,H80,H87,H94,H96,H98,H100,H102,H109,H118,H125,H127,H129,H131,H137,H159,H174,H183,H104,H111)","v":0},0,0,0,0,0,0,0,0,0,0,0,0,0,0,0,0,0,0,0,0,0,0,0,0,0,0,0,0,0,0,0,0,0,0,0,0,0,0,0,0,0,0,0,0,0,0,0,0,0,0,0,0,0,0,0,0,0,0,0,0,0,0,0,{"$f":"SUM(BT70,BT72,BT75,BT80,BT87,BT94,BT96,BT98,BT100,BT102,BT109,BT118,BT125,BT127,BT129,BT131,BT137,BT159,BT174,BT183,BT104,BT111)","v":0},0,0,0,0,0,0,0,0,0,0,0,0,0,0,0,0,0,0,0,0,0,0,0,0,0,0,0,0,0,0,0,0,0,0,0,0,0,0,0,0,0,0,0,0,0,0,0,0,0,0,0,0,0,0,0,0,0,0,0,0,0,0,0,{"$f":"SUM(EF70,EF72,EF75,EF80,EF87,EF94,EF96,EF98,EF100,EF102,EF109,EF118,EF125,EF127,EF129,EF131,EF137,EF159,EF174,EF183,EF104,EF111)","v":0},0,0,0,0,0,0,0,0,0,0,0,0,0,0,0,0,0,0,0,0,0,0,0,0,0,0,0,0,0,0,0,0,0,0,0,0,0,0,0,0,0,0,0,0,0,0,0,0,0,0,0,0,0,0,0,0,0,0,0,0,0,0,0,{"$f":"SUM(GR70,GR72,GR75,GR80,GR87,GR94,GR96,GR98,GR100,GR102,GR109,GR118,GR125,GR127,GR129,GR131,GR137,GR159,GR174,GR183,GR104,GR111)","v":0},0,0,0,0,0,0,0,0,0,0,0,0,0,{"$f":"SUM(HF70,HF72,HF75,HF80,HF100,HF104,HF111,HF131,HF137,HF159,HF174,HF183)","v":0},0,0,0,0,0,0,0,0,0,null,0,0,0,0,0,0,0,0,0,0,0,0,0,0,0,0,0]
[400,"Medizinischer Bedarf",{"$f":"C71","v":0},{"$f":"D71","v":0},0,{"$f":"IF(SUM(H70:HO70)=E70,\"i.o.\",E70-SUM(H70:HO70))","v":"i.o."},null,{"$f":"SUM(H71)","v":0},{"$f":"SUM(I71)","v":0},0,0,0,0,0,0,0,0,0,0,0,0,0,0,0,0,0,0,0,0,0,0,0,0,0,0,0,0,0,0,0,0,0,0,0,0,0,0,0,0,0,0,0,0,0,0,0,0,0,0,0,0,0,0,0,0,0,0,0,0,0,0,0,{"$f":"SUM(BU71)","v":0},0,0,0,0,0,0,0,0,0,0,0,0,0,0,0,0,0,0,0,0,0,0,0,0,0,0,0,0,0,0,0,0,0,0,0,0,0,0,0,0,0,0,0,0,0,0,0,0,0,0,0,0,0,0,0,0,0,0,0,0,0,0,0,0,0,0,0,0,0,0,0,0,0,0,0,0,0,0,0,0,0,0,{"$f":"SUM(EZ71)","v":0},0,0,0,0,0,0,0,0,0,0,0,0,0,0,0,0,0,0,0,0,0,0,0,0,0,0,0,0,0,0,0,0,0,0,0,0,0,0,0,0,0,0,0,0,0,0,0,0,0,0,0,0,0,0,0,0,0,0,0,0,0,0,0,{"$f":"SUM(HL71)","v":0},0,0,0,null,{"$f":"IF(COUNT(DI70:DR70)=0,\"\",SUM(DI70:DR70))","v":0},{"$f":"IF(COUNT(DS70:EB70)=0,\"\",SUM(DS70:EB70))","v":0},{"$f":"IF(COUNT(EC70:EL70)=0,\"\",SUM(EC70:EL70))","v":0},{"$f":"IF(COUNT(EM70:EP70)=0,\"\",SUM(EM70:EP70))","v":0},{"$f":"IF(COUNT(EQ70:EZ70)=0,\"\",SUM(EQ70:EZ70))","v":0},{"$f":"IF(COUNT(FA70:FD70)=0,\"\",SUM(FA70:FD70))","v":0},{"$f":"IF(COUNT(FE70:FK70)=0,\"\",SUM(FE70:FK70))","v":0},{"$f":"IF(COUNT(FL70:FL70)=0,\"\",SUM(FL70:FL70))","v":0},{"$f":"IF(COUNT(FM70:FP70)=0,\"\",SUM(FM70:FP70))","v":0},{"$f":"IF(COUNT(FQ70:FQ70)=0,\"\",SUM(FQ70:FQ70))","v":0},{"$f":"IF(COUNT(FR70:FW70)=0,\"\",SUM(FR70:FW70))","v":0},{"$f":"IF(COUNT(FX70:GB70)=0,\"\",SUM(FX70:GB70))","v":0},{"$f":"IF(COUNT(GC70:GH70)=0,\"\",SUM(GC70:GH70))","v":0},0,0,0,{"$f":"IF(COUNT(H70:DH70)=0,\"\",SUM(H70:DH70))","v":0}]
[4000,"Medizinischer Bedarf (Verbrauchsmat./Labor)",0,0,0,"i.o.",null,null,null,null,null,null,null,null,null,null,null,null,null,null,null,null,null,null,null,null,null,null,0,0,0,0,0,0,0,0,0,0,0,0,0,0,0,0,0,0,0,0,0,0,0,0,0,0,0,0,0,0,0,0,0,0,0,0,0,0,0,0,0,0,0,0,0,0,0,0,0,0,0,0,0,0,0,0,0,0,0,0,0,0,0,0,0,0,0,0,0,0,0,0,0,0,0,0,0,0,0,0,0,0,0,0,0,0,0,0,0,0,0,0,0,0,0,0,0,0,0,0,0,0,0,0,0,0,0,0,0,0,0,0,0,0,0,0,0,0,0,0,0,0,0,0,0,0,0,0,0,0,0,0,0,0,0,0,0,0,0,0,0,0,0,0,0,0,0,0,0,0,0,0,0,0,0,0,0,0,0,0,0,0,0,0,0,0,0,0,0,0,0,0,0,0,0,0,0,0,0,0,0,0,0,0,0,0,0,0,0,0,0,0,0,0,0,null,0,0,0,0,0,0,0,0,0,0,0,0,0,0,0,0,0]
[410,"Lebensmittel und Getränke",{"$f":"SUM(C73:C74)","v":0},{"$f":"SUM(D73:D74)","v":0},0,"i.o.",null,{"$f":"SUM(H73:H74)","v":0},{"$f":"SUM(I73:I74)","v":0},0,0,0,0,0,0,0,0,0,0,0,0,0,0,0,0,0,0,0,0,0,0,0,0,0,0,0,0,0,0,0,0,0,0,0,0,0,0,0,0,0,0,0,0,0,0,0,0,0,0,0,0,0,0,0,0,0,0,0,0,0,0,0,{"$f":"SUM(BU73:BU74)","v":0},0,0,0,0,0,0,0,0,0,0,0,0,0,0,0,0,0,0,0,0,0,0,0,0,0,0,0,0,0,0,0,0,0,0,0,0,0,0,0,0,0,0,0,0,0,0,0,0,0,0,{"$f":"SUM(DT73:DT74)","v":0},0,0,0,0,0,0,0,0,0,0,0,0,0,0,0,0,0,0,0,{"$f":"SUM(EN73:EN74)","v":0},0,{"$f":"SUM(EP73:EP74)","v":0},0,0,0,0,0,0,0,0,0,{"$f":"SUM(EZ73:EZ74)","v":0},0,{"$f":"SUM(FB73:FB74)","v":0},0,{"$f":"SUM(FD73:FD74)","v":0},0,0,0,0,0,0,0,0,0,0,0,0,0,0,0,0,0,0,0,0,0,0,0,0,0,0,0,0,0,0,0,0,0,0,0,0,0,0,0,0,0,0,0,0,0,0,0,0,0,0,0,0,0,0,0,0,0,0,0,{"$f":"SUM(HL73:HL74)","v":0},0,0,0,null,0,0,0,0,0,0,0,0,0,0,0,0,0,0,0,0,0]
[4100,"Lebensmittel & Getränke",0,0,0,"i.o.",null,null,null,null,null,null,null,null,null,null,null,null,null,null,null,null,null,null,null,null,null,null,0,0,0,0,0,0,0,0,0,0,0,0,0,0,0,0,0,0,0,0,0,0,0,0,0,0,0,0,0,0,0,0,0,0,0,0,0,0,0,0,0,0,0,0,0,0,0,0,0,0,0,0,0,0,0,0,0,0,0,0,0,0,0,0,0,0,0,0,0,0,0,0,0,0,0,0,0,0,0,0,0,0,0,0,0,0,0,0,0,0,0,0,0,0,0,0,0,0,0,0,0,0,0,0,0,0,0,0,0,0,0,0,0,0,0,0,0,0,0,0,0,0,0,0,0,0,0,0,0,0,0,0,0,0,0,0,0,0,0,0,0,0,0,0,0,0,0,0,0,0,0,0,0,0,0,0,0,0,0,0,0,0,0,0,0,0,0,0,0,0,0,0,0,0,0,0,0,0,0,0,0,0,0,0,0,0,0,0,0,0,0,0,0,0,0,null,0,0,0,0,0,0,0,0,0,0,0,0,0,{"$f":"IF(COUNT(GI73:GS73)=0,\"\",SUM(GI73:GS73))","v":0},{"$f":"IF(COUNT(GT73:HD73)=0,\"\",SUM(GT73:HD73))","v":0},{"$f":"IF(COUNT(HE73:HO73)=0,\"\",SUM(HE73:HO73))","v":0},0]
[4160,"Bezug Mahlzeiten von Dritten",0,0,0,"i.o.",null,null,null,null,null,null,null,null,null,null,null,null,null,null,null,null,null,null,null,null,null,null,0,0,0,0,0,0,0,0,0,0,0,0,0,0,0,0,0,0,0,0,0,0,0,0,0,0,0,0,0,0,0,0,0,0,0,0,0,0,0,0,0,0,0,0,0,0,0,0,0,0,0,0,0,0,0,0,0,0,0,0,0,0,0,0,0,0,0,0,0,0,0,0,0,0,0,0,0,0,0,0,0,0,0,0,0,0,0,0,0,0,0,0,0,0,0,0,0,0,0,0,0,0,0,0,0,0,0,0,0,0,0,0,0,0,0,0,0,0,0,0,0,0,0,0,0,0,0,0,0,0,0,0,0,0,0,0,0,0,0,0,0,0,0,0,0,0,0,0,0,0,0,0,0,0,0,0,0,0,0,0,0,0,0,0,0,0,0,0,0,0,0,0,0,0,0,0,0,0,0,0,0,0,0,0,0,0,0,0,0,0,0,0,0,0,0,null,0,0,0,0,0,0,0,0,0,0,0,0,0,0,0,0,0]
[420,"Haushalt",{"$f":"SUM(C76:C79)","v":0},{"$f":"SUM(D76:D79)","v":0},{"$f":"SUM(C75:D75)","v":0},"i.o.",null,{"$f":"SUM(H76:H79)","v":0},{"$f":"SUM(I76:I79)","v":0},0,0,0,0,0,0,0,0,0,0,0,0,0,0,0,0,0,0,0,0,0,0,0,0,0,0,0,0,0,0,0,0,0,0,0,0,0,0,0,0,0,0,0,0,0,0,0,0,0,0,0,0,0,0,0,0,0,0,0,0,0,0,0,{"$f":"SUM(BU76:BU79)","v":0},0,0,0,0,0,0,0,0,0,0,0,0,0,0,0,0,0,0,0,0,0,0,0,0,0,0,0,0,0,0,0,0,0,0,0,0,0,0,0,0,0,0,0,0,0,0,0,0,0,0,{"$f":"SUM(DT76:DT79)","v":0},0,0,0,0,0,0,0,0,0,0,0,0,0,0,0,0,0,0,0,{"$f":"SUM(EN76:EN79)","v":0},0,{"$f":"SUM(EP76:EP79)","v":0},0,0,0,0,0,0,0,0,0,{"$f":"SUM(EZ76:EZ79)","v":0},0,{"$f":"SUM(FB76:FB79)","v":0},0,{"$f":"SUM(FD76:FD79)","v":0},0,0,0,0,0,0,0,0,0,0,0,0,0,0,0,0,0,0,0,0,0,0,0,0,0,0,0,0,0,0,0,0,0,0,0,0,0,0,0,0,0,0,0,0,0,0,0,0,0,0,0,0,0,0,0,0,0,0,0,{"$f":"SUM(HL76:HL79)","v":0},0,0,0,null,0,0,0,0,0,0,0,0,0,0,0,0,0,0,0,0,0]
[4200,"Textilien & Textilersatz",0,0,0,"i.o.",null,null,null,null,null,null,null,null,null,null,null,null,null,null,null,null,null,null,null,null,null,null,0,0,0,0,0,0,0,0,0,0,0,0,0,0,0,0,0,0,0,0,0,0,0,0,0,0,0,0,0,0,0,0,0,0,0,0,0,0,0,0,0,0,0,0,0,0,0,0,0,0,0,0,0,0,0,0,0,0,0,0,0,0,0,0,0,0,0,0,0,0,0,0,0,0,0,0,0,0,0,0,0,0,0,0,0,0,0,0,0,0,0,0,0,0,0,0,0,0,0,0,0,0,0,0,0,0,0,0,0,0,0,0,0,0,0,0,0,0,0,0,0,0,0,0,0,0,0,0,0,0,0,0,0,0,0,0,0,0,0,0,0,0,0,0,0,0,0,0,0,0,0,0,0,0,0,0,0,0,0,0,0,0,0,0,0,0,0,0,0,0,0,0,0,0,0,0,0,0,0,0,0,0,0,0,0,0,0,0,0,0,0,0,0,0,0,null,0,0,0,0,0,0,0,0,0,0,0,0,0,0,0,0,0]
[4210,"Haushaltsartikel",0,0,0,"i.o.",null,null,null,null,null,null,null,null,null,null,null,null,null,null,null,null,null,null,null,null,null,null,0,0,0,0,0,0,0,0,0,0,0,0,0,0,0,0,0,0,0,0,0,0,0,0,0,0,0,0,0,0,0,0,0,0,0,0,0,0,0,0,0,0,0,0,0,0,0,0,0,0,0,0,0,0,0,0,0,0,0,0,0,0,0,0,0,0,0,0,0,0,0,0,0,0,0,0,0,0,0,0,0,0,0,0,0,0,0,0,0,0,0,0,0,0,0,0,0,0,0,0,0,0,0,0,0,0,0,0,0,0,0,0,0,0,0,0,0,0,0,0,0,0,0,0,0,0,0,0,0,0,0,0,0,0,0,0,0,0,0,0,0,0,0,0,0,0,0,0,0,0,0,0,0,0,0,0,0,0,0,0,0,0,0,0,0,0,0,0,0,0,0,0,0,0,0,0,0,0,0,0,0,0,0,0,0,0,0,0,0,0,0,0,0,0,0,null,0,0,0,0,0,0,0,0,0,0,0,0,0,0,0,0,0]
[4220,"Wasch- & Reinigungsmittel",0,0,0,"i.o.",null,null,null,null,null,null,null,null,null,null,null,null,null,null,null,null,null,null,null,null,null,null,0,0,0,0,0,0,0,0,0,0,0,0,0,0,0,0,0,0,0,0,0,0,0,0,0,0,0,0,0,0,0,0,0,0,0,0,0,0,0,0,0,0,0,0,0,0,0,0,0,0,0,0,0,0,0,0,0,0,0,0,0,0,0,0,0,0,0,0,0,0,0,0,0,0,0,0,0,0,0,0,0,0,0,0,0,0,0,0,0,0,0,0,0,0,0,0,0,0,0,0,0,0,0,0,0,0,0,0,0,0,0,0,0,0,0,0,0,0,0,0,0,0,0,0,0,0,0,0,0,0,0,0,0,0,0,0,0,0,0,0,0,0,0,0,0,0,0,0,0,0,0,0,0,0,0,0,0,0,0,0,0,0,0,0,0,0,0,0,0,0,0,0,0,0,0,0,0,0,0,0,0,0,0,0,0,0,0,0,0,0,0,0,0,0,0,null,0,0,0,0,0,0,0,0,0,0,0,0,0,0,0,0,0]
[4250,"Hauswirtschaftliche Fremdleistungen",0,0,0,"i.o.",null,null,null,null,null,null,null,null,null,null,null,null,null,null,null,null,null,null,null,null,null,null,0,0,0,0,0,0,0,0,0,0,0,0,0,0,0,0,0,0,0,0,0,0,0,0,0,0,0,0,0,0,0,0,0,0,0,0,0,0,0,0,0,0,0,0,0,0,0,0,0,0,0,0,0,0,0,0,0,0,0,0,0,0,0,0,0,0,0,0,0,0,0,0,0,0,0,0,0,0,0,0,0,0,0,0,0,0,0,0,0,0,0,0,0,0,0,0,0,0,0,0,0,0,0,0,0,0,0,0,0,0,0,0,0,0,0,0,0,0,0,0,0,0,0,0,0,0,0,0,0,0,0,0,0,0,0,0,0,0,0,0,0,0,0,0,0,0,0,0,0,0,0,0,0,0,0,0,0,0,0,0,0,0,0,0,0,0,0,0,0,0,0,0,0,0,0,0,0,0,0,0,0,0,0,0,0,0,0,0,0,0,0,0,0,0,0,null,0,0,0,0,0,0,0,0,0,0,0,0,0,0,0,0,0]
[430,"Unterhalt und Reparaturen der immobilen Sachanlagen",{"$f":"SUM(C81:C86)","v":0},{"$f":"SUM(D81:D86)","v":0},{"$f":"SUM(C80:D80)","v":0},"i.o.",null,{"$f":"SUM(H81:H86)","v":0},0,0,0,0,0,0,0,0,0,0,0,0,0,0,0,0,0,0,0,0,0,0,0,0,0,0,0,0,0,0,0,0,0,0,0,0,0,0,0,0,0,0,0,0,0,0,0,0,0,0,0,0,0,0,0,0,0,0,0,0,0,0,0,{"$f":"SUM(BT81:BT86)","v":0},0,0,0,0,0,0,0,0,0,0,0,0,0,0,0,0,0,0,0,0,0,0,0,0,0,0,0,0,0,0,0,0,0,0,0,0,0,0,0,0,0,0,0,0,0,0,0,0,0,0,0,0,0,0,0,0,0,0,0,0,0,0,0,{"$f":"SUM(EF81:EF86)","v":0},0,0,0,0,0,0,0,0,0,0,0,0,0,0,0,0,0,0,0,0,0,0,0,0,0,0,0,0,0,0,0,0,0,0,0,0,0,0,0,0,0,0,0,0,0,0,0,0,0,0,0,0,0,0,0,0,0,0,0,0,0,0,0,{"$f":"SUM(GR81:GR86)","v":0},0,0,0,0,0,0,0,0,0,0,0,0,0,0,0,0,0,0,0,0,0,0,0,null,0,0,0,0,0,0,0,0,0,0,0,0,0,0,0,0,0]
[4300,"Unterhalt und Reparaturen immobile Sachanlagen",0,0,0,"i.o.",null,null,null,null,null,null,null,null,null,null,null,null,null,null,null,null,null,null,null,null,null,null,0,0,0,0,0,0,0,null,null,null,null,null,null,null,null,null,null,null,null,null,null,0,0,0,0,0,0,0,0,0,0,0,0,0,0,0,0,0,0,0,0,0,0,0,0,0,0,0,0,0,0,0,0,0,0,0,null,null,null,null,null,null,null,null,null,null,null,null,null,null,0,0,0,0,0,0,0,0,0,0,0,0,0,0,0,0,0,0,0,0,0,0,0,0,0,0,0,0,0,0,0,0,0,0,0,0,0,0,0,0,0,0,0,0,0,0,0,0,0,0,0,0,0,0,0,0,0,0,0,0,0,0,0,0,0,0,0,0,0,0,0,0,0,0,0,0,0,0,0,0,0,0,0,0,0,0,0,0,0,0,0,0,0,0,0,0,0,0,0,0,0,0,0,0,0,0,0,0,0,0,0,0,0,0,0,0,0,0,0,0,0,0,0,0,0,null,0,0,0,0,0,0,0,0,0,0,0,0,0,0,0,0,0]
[4301,"U & R immobile Sachanlagen Leitung & Verwaltung",0,0,0,"i.o.",null,null,null,null,null,null,null,null,null,null,null,null,null,null,null,null,null,null,null,null,null,null,0,0,0,0,0,0,0,null,null,null,null,null,null,null,null,null,null,null,null,null,null,null,null,null,null,null,null,null,null,null,null,null,null,null,null,null,null,null,null,null,null,null,null,null,null,null,null,null,null,null,null,null,null,null,null,null,null,null,null,null,null,null,null,null,null,null,null,null,null,null,null,null,null,null,null,null,null,null,null,null,null,null,null,null,null,null,null,null,null,null,null,null,null,null,null,null,null,null,null,null,null,null,null,null,null,null,null,null,null,null,null,null,null,null,null,null,null,null,null,null,null,null,null,null,null,null,null,null,null,null,null,null,0,0,0,0,0,0,0,0,0,0,0,0,0,0,0,0,0,0,0,0,0,0,0,0,0,0,0,0,0,0,0,0,0,0,0,0,0,0,0,0,0,0,0,0,0,0,0,0,0,0,0,0,0,0,0,0,0,0,0,0,0,0,0,null,"","","","","","",0,0,0,0,0,0,0,0,0,0,0]
[4302,"U & R immobile Sachanlagen Tech. Dienst/Hauswartung",0,0,0,"i.o.",null,null,null,null,null,null,null,null,null,null,null,null,null,null,null,null,null,null,null,null,null,null,null,null,null,null,null,null,null,null,null,null,null,null,null,null,null,null,null,null,null,null,null,0,0,0,0,0,0,0,null,null,null,null,null,null,null,null,null,null,null,null,null,null,null,null,null,null,null,null,null,null,null,null,null,null,null,null,null,null,null,null,null,null,null,null,null,null,null,null,null,null,null,null,null,null,null,null,null,null,null,null,null,null,null,null,null,null,null,null,null,null,null,null,null,null,null,null,null,null,null,null,null,null,null,null,null,null,null,null,null,null,null,null,null,null,null,null,null,null,null,null,null,null,null,null,null,null,null,null,null,null,null,null,0,0,0,0,0,0,0,0,0,0,0,0,0,0,0,0,0,0,0,0,0,0,0,0,0,0,0,0,0,0,0,0,0,0,0,0,0,0,0,0,0,0,0,0,0,0,0,0,0,0,0,0,0,0,0,0,0,0,0,0,0,0,0,null,"","","","","","",0,0,0,0,0,0,0,0,0,0,0]
[4303,"U & R immobile Sachanlagen Reinigung",0,0,0,"i.o.",null,null,null,null,null,null,null,null,null,null,null,null,null,null,null,null,null,null,null,null,null,null,null,null,null,null,null,null,null,null,null,null,null,null,null,null,null,null,null,null,null,null,null,null,null,null,null,null,null,null,0,0,0,0,0,0,0,null,null,null,null,null,null,null,null,null,null,null,null,null,null,null,null,null,null,null,null,null,null,null,null,null,null,null,null,null,null,null,null,null,null,null,null,null,null,null,null,null,null,null,null,null,null,null,null,null,null,null,null,null,null,null,null,null,null,null,null,null,null,null,null,null,null,null,null,null,null,null,null,null,null,null,null,null,null,null,null,null,null,null,null,null,null,null,null,null,null,null,null,null,null,null,null,null,0,0,0,0,0,0,0,0,0,0,0,0,0,0,0,0,0,0,0,0,0,0,0,0,0,0,0,0,0,0,0,0,0,0,0,0,0,0,0,0,0,0,0,0,0,0,0,0,0,0,0,0,0,0,0,0,0,0,0,0,0,0,0,null,"","","","","","",0,0,0,0,0,0,0,0,0,0,0]
[4304,"U & R immobile Sachanlagen Wäscherei",0,0,0,"i.o.",null,null,null,null,null,null,null,null,null,null,null,null,null,null,null,null,null,null,null,null,null,null,null,null,null,null,null,null,null,null,null,null,null,null,null,null,null,null,null,null,null,null,null,null,null,null,null,null,null,null,null,null,null,null,null,null,null,0,0,0,0,0,0,0,null,null,null,null,null,null,null,null,null,null,null,null,null,null,null,null,null,null,null,null,null,null,null,null,null,null,null,null,null,null,null,null,null,null,null,null,null,null,null,null,null,null,null,null,null,null,null,null,null,null,null,null,null,null,null,null,null,null,null,null,null,null,null,null,null,null,null,null,null,null,null,null,null,null,null,null,null,null,null,null,null,null,null,null,null,null,null,null,null,null,0,0,0,0,0,0,0,0,0,0,0,0,0,0,0,0,0,0,0,0,0,0,0,0,0,0,0,0,0,0,0,0,0,0,0,0,0,0,0,0,0,0,0,0,0,0,0,0,0,0,0,0,0,0,0,0,0,0,0,0,0,0,0,null,"","","","","","",0,0,0,0,0,0,0,0,0,0,0]
[4305,"U & R immobile Sachanlagen Verpflegung",0,0,0,"i.o.",null,null,null,null,null,null,null,null,null,null,null,null,null,null,null,null,null,null,null,null,null,null,null,null,null,null,null,null,null,null,null,null,null,null,null,null,null,null,null,null,null,null,null,null,null,null,null,null,null,null,null,null,null,null,null,null,null,null,null,null,null,null,null,null,0,0,0,0,0,0,0,0,0,0,0,0,0,0,null,null,null,null,null,null,null,null,null,null,null,null,null,null,null,null,null,null,null,null,null,null,null,null,null,null,null,null,null,null,null,null,null,null,null,null,null,null,null,null,null,null,null,null,null,null,null,null,null,null,null,null,null,null,null,null,null,null,null,null,null,null,null,null,null,null,null,null,null,null,null,null,null,null,null,null,0,0,0,0,0,0,0,0,0,0,0,0,0,0,0,0,0,0,0,0,0,0,0,0,0,0,0,0,0,0,0,0,0,0,0,0,0,0,0,0,0,0,0,0,0,0,0,0,0,0,0,0,0,0,0,0,0,0,0,0,0,0,0,null,"","","","","","",0,0,0,0,0,0,0,0,0,0,0]
[431,"Unterhalt und Reparaturen der mobilen Sachanlagen",{"$f":"SUM(C88:C93)","v":0},{"$f":"SUM(D88:D93)","v":0},{"$f":"SUM(C87:D87)","v":0},{"$f":"IF(SUM(H87:HO87)=E87,\"i.o.\",E87-SUM(H87:HO87))","v":"i.o."},null,{"$f":"SUM(H88:H93)","v":0},0,0,0,0,0,0,0,0,0,0,0,0,0,0,0,0,0,0,0,0,0,0,0,0,0,0,0,0,0,0,0,0,0,0,0,0,0,0,0,0,0,0,0,0,0,0,0,0,0,0,0,0,0,0,0,0,0,0,0,0,0,0,0,{"$f":"SUM(BT88:BT93)","v":0},0,0,0,0,0,0,0,0,0,0,0,0,0,0,0,0,0,0,0,0,0,0,0,0,0,0,0,0,0,0,0,0,0,0,0,0,0,0,0,0,0,0,0,0,0,0,0,0,0,0,0,0,0,0,0,0,0,0,0,0,0,0,0,{"$f":"SUM(EF88:EF93)","v":0},0,0,0,0,0,0,0,0,0,0,0,0,0,0,0,0,0,0,0,0,0,0,0,0,0,0,0,0,0,0,0,0,0,0,0,0,0,0,0,0,0,0,0,0,0,0,0,0,0,0,0,0,0,0,0,0,0,0,0,0,0,0,0,{"$f":"SUM(GR88:GR93)","v":0},0,0,0,0,0,0,0,0,0,0,0,0,0,0,0,0,0,0,0,0,0,0,0,null,{"$f":"IF(COUNT(DI87:DR87)=0,\"\",SUM(DI87:DR87))","v":0},{"$f":"IF(COUNT(DS87:EB87)=0,\"\",SUM(DS87:EB87))","v":0},{"$f":"IF(COUNT(EC87:EL87)=0,\"\",SUM(EC87:EL87))","v":0},{"$f":"IF(COUNT(EM87:EP87)=0,\"\",SUM(EM87:EP87))","v":0},{"$f":"IF(COUNT(EQ87:EZ87)=0,\"\",SUM(EQ87:EZ87))","v":0},{"$f":"IF(COUNT(FA87:FD87)=0,\"\",SUM(FA87:FD87))","v":0},{"$f":"IF(COUNT(FE87:FK87)=0,\"\",SUM(FE87:FK87))","v":0},{"$f":"IF(COUNT(FL87:FL87)=0,\"\",SUM(FL87:FL87))","v":0},{"$f":"IF(COUNT(FM87:FP87)=0,\"\",SUM(FM87:FP87))","v":0},{"$f":"IF(COUNT(FQ87:FQ87)=0,\"\",SUM(FQ87:FQ87))","v":0},{"$f":"IF(COUNT(FR87:FW87)=0,\"\",SUM(FR87:FW87))","v":0},{"$f":"IF(COUNT(FX87:GB87)=0,\"\",SUM(FX87:GB87))","v":0},{"$f":"IF(COUNT(GC87:GH87)=0,\"\",SUM(GC87:GH87))","v":0},{"$f":"IF(COUNT(GI87:GS87)=0,\"\",SUM(GI87:GS87))","v":0},{"$f":"IF(COUNT(GT87:HD87)=0,\"\",SUM(GT87:HD87))","v":0},{"$f":"IF(COUNT(HE87:HO87)=0,\"\",SUM(HE87:HO87))","v":0},{"$f":"IF(COUNT(H87:DH87)=0,\"\",SUM(H87:DH87))","v":0}]
[4310,"Unterhalt und Reparaturen mobile Sachanlagen",0,0,0,"i.o.",null,null,null,null,null,null,null,null,null,null,null,null,null,null,null,null,null,null,null,null,null,null,0,0,0,0,0,0,0,null,null,null,null,null,null,null,null,null,null,null,null,null,null,0,0,0,0,0,0,0,0,0,0,0,0,0,0,0,0,0,0,0,0,0,0,0,0,0,0,0,0,0,0,0,0,0,0,0,null,null,null,null,null,null,null,null,null,null,null,null,null,null,0,0,0,0,0,0,0,0,0,0,0,0,0,0,0,0,0,0,0,0,0,0,0,0,0,0,0,0,0,0,0,0,0,0,0,0,0,0,0,0,0,0,0,0,0,0,0,0,0,0,0,0,0,0,0,0,0,0,0,0,0,0,0,0,0,0,0,0,0,0,0,0,0,0,0,0,0,0,0,0,0,0,0,0,0,0,0,0,0,0,0,0,0,0,0,0,0,0,0,0,0,0,0,0,0,0,0,0,0,0,0,0,0,0,0,0,0,0,0,0,0,0,0,0,0,null,0,0,0,0,0,0,0,0,0,0,0,0,0,0,0,0,0]
[4311,"U & R mobile Sachanlagen Leitung & Verwaltung",0,0,{"$f":"SUM(C89:D89)","v":0},"i.o.",null,null,null,null,null,null,null,null,null,null,null,null,null,null,null,null,null,null,null,null,null,null,0,0,0,0,0,0,0,null,null,null,null,null,null,null,null,null,null,null,null,null,null,null,null,null,null,null,null,null,null,null,null,null,null,null,null,null,null,null,null,null,null,null,null,null,null,null,null,null,null,null,null,null,null,null,null,null,null,null,null,null,null,null,null,null,null,null,null,null,null,null,null,null,null,null,null,null,null,null,null,null,null,null,null,null,null,null,null,null,null,null,null,null,null,null,null,null,null,null,null,null,null,null,null,null,null,null,null,null,null,null,null,null,null,null,null,null,null,null,null,null,null,null,null,null,null,null,null,null,null,null,null,null,0,0,0,0,0,0,0,0,0,0,0,0,0,0,0,0,0,0,0,0,0,0,0,0,0,0,0,0,0,0,0,0,0,0,0,0,0,0,0,0,0,0,0,0,0,0,0,0,0,0,0,0,0,0,0,0,0,0,0,0,0,0,0,null,"","","","","","",0,0,0,0,0,0,0,0,0,0,0]
[4312,"U & R mobile Sachanlagen Tech. Dienst/Hauswartung",0,0,0,"i.o.",null,null,null,null,null,null,null,null,null,null,null,null,null,null,null,null,null,null,null,null,null,null,null,null,null,null,null,null,null,null,null,null,null,null,null,null,null,null,null,null,null,null,null,0,0,0,0,0,0,0,null,null,null,null,null,null,null,null,null,null,null,null,null,null,null,null,null,null,null,null,null,null,null,null,null,null,null,null,null,null,null,null,null,null,null,null,null,null,null,null,null,null,null,null,null,null,null,null,null,null,null,null,null,null,null,null,null,null,null,null,null,null,null,null,null,null,null,null,null,null,null,null,null,null,null,null,null,null,null,null,null,null,null,null,null,null,null,null,null,null,null,null,null,null,null,null,null,null,null,null,null,null,null,null,0,0,0,0,0,0,0,0,0,0,0,0,0,0,0,0,0,0,0,0,0,0,0,0,0,0,0,0,0,0,0,0,0,0,0,0,0,0,0,0,0,0,0,0,0,0,0,0,0,0,0,0,0,0,0,0,0,0,0,0,0,0,0,null,"","","","","","",0,0,0,0,0,0,0,0,0,0,0]
[4313,"U & R mobile Sachanlagen Reinigung",0,0,0,"i.o.",null,null,null,null,null,null,null,null,null,null,null,null,null,null,null,null,null,null,null,null,null,null,null,null,null,null,null,null,null,null,null,null,null,null,null,null,null,null,null,null,null,null,null,null,null,null,null,null,null,null,0,0,0,0,0,0,0,null,null,null,null,null,null,null,null,null,null,null,null,null,null,null,null,null,null,null,null,null,null,null,null,null,null,null,null,null,null,null,null,null,null,null,null,null,null,null,null,null,null,null,null,null,null,null,null,null,null,null,null,null,null,null,null,null,null,null,null,null,null,null,null,null,null,null,null,null,null,null,null,null,null,null,null,null,null,null,null,null,null,null,null,null,null,null,null,null,null,null,null,null,null,null,null,null,0,0,0,0,0,0,0,0,0,0,0,0,0,0,0,0,0,0,0,0,0,0,0,0,0,0,0,0,0,0,0,0,0,0,0,0,0,0,0,0,0,0,0,0,0,0,0,0,0,0,0,0,0,0,0,0,0,0,0,0,0,0,0,null,"","","","","","",0,0,0,0,0,0,0,0,0,0,0]
[4314,"U & R mobile Sachanlagen Wäscherei",0,0,0,"i.o.",null,null,null,null,null,null,null,null,null,null,null,null,null,null,null,null,null,null,null,null,null,null,null,null,null,null,null,null,null,null,null,null,null,null,null,null,null,null,null,null,null,null,null,null,null,null,null,null,null,null,null,null,null,null,null,null,null,0,0,0,0,0,0,0,null,null,null,null,null,null,null,null,null,null,null,null,null,null,null,null,null,null,null,null,null,null,null,null,null,null,null,null,null,null,null,null,null,null,null,null,null,null,null,null,null,null,null,null,null,null,null,null,null,null,null,null,null,null,null,null,null,null,null,null,null,null,null,null,null,null,null,null,null,null,null,null,null,null,null,null,null,null,null,null,null,null,null,null,null,null,null,null,null,null,0,0,0,0,0,0,0,0,0,0,0,0,0,0,0,0,0,0,0,0,0,0,0,0,0,0,0,0,0,0,0,0,0,0,0,0,0,0,0,0,0,0,0,0,0,0,0,0,0,0,0,0,0,0,0,0,0,0,0,0,0,0,0,null,"","","","","","",0,0,0,0,0,0,0,0,0,0,0]
[4315,"U & R mobile Sachanlagen Verpflegung",0,0,0,"i.o.",null,null,null,null,null,null,null,null,null,null,null,null,null,null,null,null,null,null,null,null,null,null,null,null,null,null,null,null,null,null,null,null,null,null,null,null,null,null,null,null,null,null,null,null,null,null,null,null,null,null,null,null,null,null,null,null,null,null,null,null,null,null,null,null,0,0,0,0,0,0,0,0,0,0,0,0,0,0,null,null,null,null,null,null,null,null,null,null,null,null,null,null,null,null,null,null,null,null,null,null,null,null,null,null,null,null,null,null,null,null,null,null,null,null,null,null,null,null,null,null,null,null,null,null,null,null,null,null,null,null,null,null,null,null,null,null,null,null,null,null,null,null,null,null,null,null,null,null,null,null,null,null,null,null,0,0,0,0,0,0,0,0,0,0,0,0,0,0,0,0,0,0,0,0,0,0,0,0,0,0,0,0,0,0,0,0,0,0,0,0,0,0,0,0,0,0,0,0,0,0,0,0,0,0,0,0,0,0,0,0,0,0,0,0,0,0,0,null,"","","","","","",0,0,0,0,0,0,0,0,0,0,0]
[432,"Unterhalt und Reparaturen der Fahrzeuge",{"$f":"SUM(C95:C95)","v":0},{"$f":"SUM(D95:D95)","v":0},{"$f":"SUM(C94:D94)","v":0},"i.o.",null,{"$f":"SUM(H95:H95)","v":0},0,0,0,0,0,0,0,0,0,0,0,0,0,0,0,0,0,0,0,0,0,0,0,0,0,0,0,0,0,0,0,0,0,0,0,0,0,0,0,0,0,0,0,0,0,0,0,0,0,0,0,0,0,0,0,0,0,0,0,0,0,0,0,{"$f":"SUM(BT95:BT95)","v":0},0,0,0,0,0,0,0,0,0,0,0,0,0,0,0,0,0,0,0,0,0,0,0,0,0,0,0,0,0,0,0,0,0,0,0,0,0,0,0,0,0,0,0,0,0,0,0,0,0,0,0,0,0,0,0,0,0,0,0,0,0,0,0,{"$f":"SUM(EF95:EF95)","v":0},0,0,0,0,0,0,0,0,0,0,0,0,0,0,0,0,0,0,0,0,0,0,0,0,0,0,0,0,0,0,0,0,0,0,0,0,0,0,0,0,0,0,0,0,0,0,0,0,0,0,0,0,0,0,0,0,0,0,0,0,0,0,0,{"$f":"SUM(GR95:GR95)","v":0},0,0,0,0,0,0,0,0,0,0,0,0,0,0,0,0,0,0,0,0,0,0,0,null,0,0,0,0,0,0,0,0,0,0,0,0,0,0,0,0,0]
[4320,"Unterhalt, Reparaturenund und Betrieb Fahrzeuge",0,0,0,"i.o.",null,null,null,null,null,null,null,null,null,null,null,null,null,null,null,null,null,null,null,null,null,null,0,0,0,0,0,0,0,0,0,0,0,0,0,0,0,0,0,0,0,0,0,0,0,0,0,0,0,0,0,0,0,0,0,0,0,0,0,0,0,0,0,0,0,0,0,0,0,0,0,0,0,0,0,0,0,0,null,null,null,null,null,null,null,null,null,null,null,null,null,null,0,0,0,0,0,0,0,0,0,0,0,0,0,0,0,0,0,0,0,0,0,0,0,0,0,0,0,0,0,0,0,0,0,0,0,0,0,0,0,0,0,0,0,0,0,0,0,0,0,0,0,0,0,0,0,0,0,0,0,0,0,0,0,0,0,0,0,0,0,0,0,0,0,0,0,0,0,0,0,0,0,0,0,0,0,0,0,0,0,0,0,0,0,0,0,0,0,0,0,0,0,0,0,0,0,0,0,0,0,0,0,0,0,0,0,0,0,0,0,0,0,0,0,0,0,null,0,0,0,0,0,0,0,0,0,0,0,0,0,0,0,0,0]
[433,"Unterhalt und Reparaturen der Informatik- und Kommunikations-Systeme",{"$f":"SUM(C97:C97)","v":0},{"$f":"SUM(D97:D97)","v":0},{"$f":"SUM(C96:D96)","v":0},{"$f":"IF(SUM(H96:HO96)=E96,\"i.o.\",E96-SUM(H96:HO96))","v":"i.o."},null,{"$f":"SUM(H97:H97)","v":0},0,0,0,0,0,0,0,0,0,0,0,0,0,0,0,0,0,0,0,0,0,0,0,0,0,0,0,0,0,0,0,0,0,0,0,0,0,0,0,0,0,0,0,0,0,0,0,0,0,0,0,0,0,0,0,0,0,0,0,0,0,0,0,{"$f":"SUM(BT97:BT97)","v":0},0,0,0,0,0,0,0,0,0,0,0,0,0,0,0,0,0,0,0,0,0,0,0,0,0,0,0,0,0,0,0,0,0,0,0,0,0,0,0,0,0,0,0,0,0,0,0,0,0,0,0,0,0,0,0,0,0,0,0,0,0,0,0,{"$f":"SUM(EF97:EF97)","v":0},0,0,0,0,0,0,0,0,0,0,0,0,0,0,0,0,0,0,0,0,0,0,0,0,0,0,0,0,0,0,0,0,0,0,0,0,0,0,0,0,0,0,0,0,0,0,0,0,0,0,0,0,0,0,0,0,0,0,0,0,0,0,0,{"$f":"SUM(GR97:GR97)","v":0},0,0,0,0,0,0,0,0,0,0,0,0,0,0,0,0,0,0,0,0,0,0,0,null,{"$f":"IF(COUNT(DI96:DR96)=0,\"\",SUM(DI96:DR96))","v":0},{"$f":"IF(COUNT(DS96:EB96)=0,\"\",SUM(DS96:EB96))","v":0},{"$f":"IF(COUNT(EC96:EL96)=0,\"\",SUM(EC96:EL96))","v":0},{"$f":"IF(COUNT(EM96:EP96)=0,\"\",SUM(EM96:EP96))","v":0},{"$f":"IF(COUNT(EQ96:EZ96)=0,\"\",SUM(EQ96:EZ96))","v":0},{"$f":"IF(COUNT(FA96:FD96)=0,\"\",SUM(FA96:FD96))","v":0},{"$f":"IF(COUNT(FE96:FK96)=0,\"\",SUM(FE96:FK96))","v":0},{"$f":"IF(COUNT(FL96:FL96)=0,\"\",SUM(FL96:FL96))","v":0},{"$f":"IF(COUNT(FM96:FP96)=0,\"\",SUM(FM96:FP96))","v":0},{"$f":"IF(COUNT(FQ96:FQ96)=0,\"\",SUM(FQ96:FQ96))","v":0},{"$f":"IF(COUNT(FR96:FW96)=0,\"\",SUM(FR96:FW96))","v":0},{"$f":"IF(COUNT(FX96:GB96)=0,\"\",SUM(FX96:GB96))","v":0},{"$f":"IF(COUNT(GC96:GH96)=0,\"\",SUM(GC96:GH96))","v":0},{"$f":"IF(COUNT(GI96:GS96)=0,\"\",SUM(GI96:GS96))","v":0},{"$f":"IF(COUNT(GT96:HD96)=0,\"\",SUM(GT96:HD96))","v":0},{"$f":"IF(COUNT(HE96:HO96)=0,\"\",SUM(HE96:HO96))","v":0},{"$f":"IF(COUNT(H96:DH96)=0,\"\",SUM(H96:DH96))","v":0}]
[4330,"Unterhalt und Reparaturen Einrichtungen Informatik- und Kommunikations-Systeme",0,0,0,"i.o.",null,null,null,null,null,null,null,null,null,null,null,null,null,null,null,null,null,null,null,null,null,null,0,0,0,0,0,0,0,0,0,0,0,0,0,0,0,0,0,0,0,0,0,0,0,0,0,0,0,0,0,0,0,0,0,0,0,0,0,0,0,0,0,0,0,0,0,0,0,0,0,0,0,0,0,0,0,0,null,null,null,null,null,null,null,null,null,null,null,null,null,null,0,0,0,0,0,0,0,0,0,0,0,0,0,0,0,0,0,0,0,0,0,0,0,0,0,0,0,0,0,0,0,0,0,0,0,0,0,0,0,0,0,0,0,0,0,0,0,0,0,0,0,0,0,0,0,0,0,0,0,0,0,0,0,0,0,0,0,0,0,0,0,0,0,0,0,0,0,0,0,0,0,0,0,0,0,0,0,0,0,0,0,0,0,0,0,0,0,0,0,0,0,0,0,0,0,0,0,0,0,0,0,0,0,0,0,0,0,0,0,0,0,0,0,0,0,null,0,0,0,0,0,0,0,0,0,0,0,0,0,0,0,0,0]
[434,"Unterhalt und Reparaturen der Maschinen und Anlagen ",{"$f":"SUM(C99:C99)","v":0},{"$f":"SUM(D99:D99)","v":0},{"$f":"SUM(C98:D98)","v":0},"i.o.",null,{"$f":"SUM(H99:H99)","v":0},0,0,0,0,0,0,0,0,0,0,0,0,0,0,0,0,0,0,0,0,0,0,0,0,0,0,0,0,0,0,0,0,0,0,0,0,0,0,0,0,0,0,0,0,0,0,0,0,0,0,0,0,0,0,0,0,0,0,0,0,0,0,0,{"$f":"SUM(BT99:BT99)","v":0},0,0,0,0,0,0,0,0,0,0,0,0,0,0,0,0,0,0,0,0,0,0,0,0,0,0,0,0,0,0,0,0,0,0,0,0,0,0,0,0,0,0,0,0,0,0,0,0,0,0,0,0,0,0,0,0,0,0,0,0,0,0,0,{"$f":"SUM(EF99:EF99)","v":0},0,0,0,0,0,0,0,0,0,0,0,0,0,0,0,0,0,0,0,0,0,0,0,0,0,0,0,0,0,0,0,0,0,0,0,0,0,0,0,0,0,0,0,0,0,0,0,0,0,0,0,0,0,0,0,0,0,0,0,0,0,0,0,{"$f":"SUM(GR99:GR99)","v":0},0,0,0,0,0,0,0,0,0,0,0,0,0,0,0,0,0,0,0,0,0,0,0,null,0,0,0,0,0,0,0,0,0,0,0,0,0,0,0,0,0]
[4330,"Unterhalt und Reparaturen Maschinen und Anlagen",0,0,{"$f":"SUM(C99:D99)","v":0},{"$f":"IF(SUM(H99:HO99)=E99,\"i.o.\",E99-SUM(H99:HO99))","v":"i.o."},null,null,null,null,null,null,null,null,null,null,null,null,null,null,null,null,null,null,null,null,null,null,0,0,0,0,0,0,0,0,0,0,0,0,0,0,0,0,0,0,0,0,0,0,0,0,0,0,0,0,0,0,0,0,0,0,0,0,0,0,0,0,0,0,0,0,0,0,0,0,0,0,0,0,0,0,0,0,null,null,null,null,null,null,null,null,null,null,null,null,null,null,0,0,0,0,0,0,0,0,0,0,0,0,0,0,0,0,0,0,0,0,0,0,0,0,0,0,0,0,0,0,0,0,0,0,0,0,0,0,0,0,0,0,0,0,0,0,0,0,0,0,0,0,0,0,0,0,0,0,0,0,0,0,0,0,0,0,0,0,0,0,0,0,0,0,0,0,0,0,0,0,0,0,0,0,0,0,0,0,0,0,0,0,0,0,0,0,0,0,0,0,0,0,0,0,0,0,0,0,0,0,0,0,0,0,0,0,0,0,0,0,0,0,0,0,0,null,{"$f":"IF(COUNT(DI99:DR99)=0,\"\",SUM(DI99:DR99))","v":0},{"$f":"IF(COUNT(DS99:EB99)=0,\"\",SUM(DS99:EB99))","v":0},{"$f":"IF(COUNT(EC99:EL99)=0,\"\",SUM(EC99:EL99))","v":0},{"$f":"IF(COUNT(EM99:EP99)=0,\"\",SUM(EM99:EP99))","v":0},{"$f":"IF(COUNT(EQ99:EZ99)=0,\"\",SUM(EQ99:EZ99))","v":0},{"$f":"IF(COUNT(FA99:FD99)=0,\"\",SUM(FA99:FD99))","v":0},{"$f":"IF(COUNT(FE99:FK99)=0,\"\",SUM(FE99:FK99))","v":0},{"$f":"IF(COUNT(FL99:FL99)=0,\"\",SUM(FL99:FL99))","v":0},{"$f":"IF(COUNT(FM99:FP99)=0,\"\",SUM(FM99:FP99))","v":0},{"$f":"IF(COUNT(FQ99:FQ99)=0,\"\",SUM(FQ99:FQ99))","v":0},{"$f":"IF(COUNT(FR99:FW99)=0,\"\",SUM(FR99:FW99))","v":0},{"$f":"IF(COUNT(FX99:GB99)=0,\"\",SUM(FX99:GB99))","v":0},{"$f":"IF(COUNT(GC99:GH99)=0,\"\",SUM(GC99:GH99))","v":0},{"$f":"IF(COUNT(GI99:GS99)=0,\"\",SUM(GI99:GS99))","v":0},{"$f":"IF(COUNT(GT99:HD99)=0,\"\",SUM(GT99:HD99))","v":0},{"$f":"IF(COUNT(HE99:HO99)=0,\"\",SUM(HE99:HO99))","v":0},{"$f":"IF(COUNT(H99:DH99)=0,\"\",SUM(H99:DH99))","v":0}]
[440,"Mietaufwand Anlagenutzung",{"$f":"SUM(C101:C101)","v":0},{"$f":"SUM(D101:D101)","v":0},{"$f":"SUM(C100:D100)","v":0},"i.o.",null,{"$f":"SUM(H101:H101)","v":0},0,0,0,0,0,0,0,0,0,0,0,0,0,0,0,0,0,0,0,0,0,0,0,0,0,0,0,0,0,0,0,0,0,0,0,0,0,0,0,0,0,0,0,0,0,0,0,0,0,0,0,0,0,0,0,0,0,0,0,0,0,0,0,{"$f":"SUM(BT101:BT101)","v":0},0,0,0,0,0,0,0,0,0,0,0,0,0,0,0,0,0,0,0,0,0,0,0,0,0,0,0,0,0,0,0,0,0,0,0,0,0,0,0,0,0,0,0,0,0,0,0,0,0,0,0,0,0,0,0,0,0,0,0,0,0,0,0,{"$f":"SUM(EF101:EF101)","v":0},0,0,0,0,0,0,0,0,0,0,0,0,0,0,0,0,0,0,0,0,0,0,0,0,0,0,0,0,0,0,0,0,0,0,0,0,0,0,0,0,0,0,0,0,0,0,0,0,0,0,0,0,0,0,0,0,0,0,0,0,0,0,0,{"$f":"SUM(GR101:GR101)","v":0},0,0,0,0,0,0,0,0,0,0,0,0,0,0,0,0,0,0,0,0,0,0,0,null,0,0,0,0,0,0,0,0,0,0,0,0,0,0,0,0,0]
[4400,"Mietzinse",0,0,0,"i.o.",null,null,null,null,null,null,null,null,null,null,null,null,null,null,null,null,null,null,null,null,null,null,0,0,0,0,0,0,0,0,0,0,0,0,0,0,0,0,0,0,0,0,0,0,0,0,0,0,0,0,0,0,0,0,0,0,0,0,0,0,0,0,0,0,0,0,0,0,0,0,0,0,0,0,0,0,0,0,null,null,null,null,null,null,null,null,null,null,null,null,null,null,0,0,0,0,0,0,0,0,0,0,0,0,0,0,0,0,0,0,0,0,0,0,0,0,0,0,0,0,0,0,0,0,0,0,0,0,0,0,0,0,0,0,0,0,0,0,0,0,0,0,0,0,0,0,0,0,0,0,0,0,0,0,0,0,0,0,0,0,0,0,0,0,0,0,0,0,0,0,0,0,0,0,0,0,0,0,0,0,0,0,0,0,0,0,0,0,0,0,0,0,0,0,0,0,0,0,0,0,0,0,0,0,0,0,0,0,0,0,0,0,0,0,0,0,0,null,0,0,0,0,0,0,0,0,0,0,0,0,0,0,0,0,0]
[441,"Leasing",{"$f":"SUM(C103:C103)","v":0},{"$f":"SUM(D103:D103)","v":0},{"$f":"SUM(C102:D102)","v":0},{"$f":"IF(SUM(H102:HO102)=E102,\"i.o.\",E102-SUM(H102:HO102))","v":"i.o."},null,{"$f":"SUM(H103:H103)","v":0},0,0,0,0,0,0,0,0,0,0,0,0,0,0,0,0,0,0,0,0,0,0,0,0,0,0,0,0,0,0,0,0,0,0,0,0,0,0,0,0,0,0,0,0,0,0,0,0,0,0,0,0,0,0,0,0,0,0,0,0,0,0,0,{"$f":"SUM(BT103:BT103)","v":0},0,0,0,0,0,0,0,0,0,0,0,0,0,0,0,0,0,0,0,0,0,0,0,0,0,0,0,0,0,0,0,0,0,0,0,0,0,0,0,0,0,0,0,0,0,0,0,0,0,0,0,0,0,0,0,0,0,0,0,0,0,0,0,{"$f":"SUM(EF103:EF103)","v":0},0,0,0,0,0,0,0,0,0,0,0,0,0,0,0,0,0,0,0,0,0,0,0,0,0,0,0,0,0,0,0,0,0,0,0,0,0,0,0,0,0,0,0,0,0,0,0,0,0,0,0,0,0,0,0,0,0,0,0,0,0,0,0,{"$f":"SUM(GR103:GR103)","v":0},0,0,0,0,0,0,0,0,0,0,0,0,0,0,0,0,0,0,0,0,0,0,0,null,{"$f":"IF(COUNT(DI102:DR102)=0,\"\",SUM(DI102:DR102))","v":0},{"$f":"IF(COUNT(DS102:EB102)=0,\"\",SUM(DS102:EB102))","v":0},{"$f":"IF(COUNT(EC102:EL102)=0,\"\",SUM(EC102:EL102))","v":0},{"$f":"IF(COUNT(EM102:EP102)=0,\"\",SUM(EM102:EP102))","v":0},{"$f":"IF(COUNT(EQ102:EZ102)=0,\"\",SUM(EQ102:EZ102))","v":0},{"$f":"IF(COUNT(FA102:FD102)=0,\"\",SUM(FA102:FD102))","v":0},{"$f":"IF(COUNT(FE102:FK102)=0,\"\",SUM(FE102:FK102))","v":0},{"$f":"IF(COUNT(FL102:FL102)=0,\"\",SUM(FL102:FL102))","v":0},{"$f":"IF(COUNT(FM102:FP102)=0,\"\",SUM(FM102:FP102))","v":0},{"$f":"IF(COUNT(FQ102:FQ102)=0,\"\",SUM(FQ102:FQ102))","v":0},{"$f":"IF(COUNT(FR102:FW102)=0,\"\",SUM(FR102:FW102))","v":0},{"$f":"IF(COUNT(FX102:GB102)=0,\"\",SUM(FX102:GB102))","v":0},{"$f":"IF(COUNT(GC102:GH102)=0,\"\",SUM(GC102:GH102))","v":0},{"$f":"IF(COUNT(GI102:GS102)=0,\"\",SUM(GI102:GS102))","v":0},{"$f":"IF(COUNT(GT102:HD102)=0,\"\",SUM(GT102:HD102))","v":0},{"$f":"IF(COUNT(HE102:HO102)=0,\"\",SUM(HE102:HO102))","v":0},{"$f":"IF(COUNT(H102:DH102)=0,\"\",SUM(H102:DH102))","v":0}]
[4410,"Leasing",0,0,0,"i.o.",null,null,null,null,null,null,null,null,null,null,null,null,null,null,null,null,null,null,null,null,null,null,0,0,0,0,0,0,0,0,0,0,0,0,0,0,0,0,0,0,0,0,0,0,0,0,0,0,0,0,0,0,0,0,0,0,0,0,0,0,0,0,0,0,0,0,0,0,0,0,0,0,0,0,0,0,0,0,null,null,null,null,null,null,null,null,null,null,null,null,null,null,0,0,0,0,0,0,0,0,0,0,0,0,0,0,0,0,0,0,0,0,0,0,0,0,0,0,0,0,0,0,0,0,0,0,0,0,0,0,0,0,0,0,0,0,0,0,0,0,0,0,0,0,0,0,0,0,0,0,0,0,0,0,0,0,0,0,0,0,0,0,0,0,0,0,0,0,0,0,0,0,0,0,0,0,0,0,0,0,0,0,0,0,0,0,0,0,0,0,0,0,0,0,0,0,0,0,0,0,0,0,0,0,0,0,0,0,0,0,0,0,0,0,0,0,0,null,0,0,0,0,0,0,0,0,0,0,0,0,0,0,0,0,0]
[442,"Übriger Finanzaufwand",{"$f":"SUM(C105:C108)","v":0},{"$f":"SUM(D105:D108)","v":0},{"$f":"SUM(C104:D104)","v":0},"i.o.",null,{"$f":"SUM(H105:H108)","v":0},0,0,0,0,0,0,0,0,0,0,0,0,0,0,0,0,0,0,0,0,0,0,0,0,0,0,0,0,0,0,0,0,0,0,0,0,0,0,0,0,0,0,0,0,0,0,0,0,0,0,0,0,0,0,0,0,0,0,0,0,0,0,0,{"$f":"SUM(BT105:BT108)","v":0},0,0,0,0,0,0,0,0,0,0,0,0,0,0,0,0,0,0,0,0,0,0,0,0,0,0,0,0,0,0,0,0,0,0,0,0,0,0,0,0,0,0,0,0,0,0,0,0,0,0,0,0,0,0,0,0,0,0,0,0,0,0,0,{"$f":"SUM(EF105:EF108)","v":0},0,0,0,0,0,0,0,0,0,0,0,0,0,0,0,0,0,0,0,0,0,0,0,0,0,0,0,0,0,0,0,0,0,0,0,0,0,0,0,0,0,0,0,0,0,0,0,0,0,0,0,0,0,0,0,0,0,0,0,0,0,0,0,{"$f":"SUM(GR105:GR108)","v":0},0,0,0,0,0,0,0,0,0,0,0,0,0,0,0,0,0,0,0,0,0,0,0,null,0,0,0,0,0,0,0,0,0,0,0,0,0,0,0,0,0]
[4420,"Bank- und Postkontozinsen",0,0,0,"i.o.",null,0,0,0,0,0,0,0,0,0,0,0,0,0,0,0,0,0,0,0,0,0,0,0,0,0,0,0,0,null,null,null,null,null,null,null,null,null,null,null,null,null,null,null,null,null,null,null,null,null,null,null,null,null,null,null,null,null,null,null,null,null,null,null,null,null,null,null,null,null,null,null,null,null,null,null,null,null,null,null,null,null,null,null,null,null,null,null,null,null,null,null,null,null,null,null,null,null,null,null,null,null,null,null,null,null,null,null,null,null,null,null,null,null,null,null,null,null,null,null,null,null,null,null,null,null,null,null,null,null,null,null,null,null,null,null,null,null,null,null,null,null,null,null,null,null,null,null,null,null,null,null,null,null,0,0,0,0,0,0,0,0,0,0,0,0,0,0,0,0,0,0,0,0,0,0,0,0,0,0,0,0,0,0,0,0,0,0,0,0,0,0,0,0,0,0,0,0,0,0,0,0,0,0,0,0,0,0,0,0,0,0,0,0,0,0,0,null,"","","","","","",0,0,0,0,0,0,0,0,0,0,0]
[4425,"Bank- und Postspesen",0,0,{"$f":"SUM(C106:D106)","v":0},"i.o.",null,0,0,0,0,0,0,0,0,0,0,0,0,0,0,0,0,0,0,0,0,0,0,0,0,0,0,0,0,null,null,null,null,null,null,null,null,null,null,null,null,null,null,null,null,null,null,null,null,null,null,null,null,null,null,null,null,null,null,null,null,null,null,null,null,null,null,null,null,null,null,null,null,null,null,null,null,null,null,null,null,null,null,null,null,null,null,null,null,null,null,null,null,null,null,null,null,null,null,null,null,null,null,null,null,null,null,null,null,null,null,null,null,null,null,null,null,null,null,null,null,null,null,null,null,null,null,null,null,null,null,null,null,null,null,null,null,null,null,null,null,null,null,null,null,null,null,null,null,null,null,null,null,null,0,0,0,0,0,0,0,0,0,0,0,0,0,0,0,0,0,0,0,0,0,0,0,0,0,0,0,0,0,0,0,0,0,0,0,0,0,0,0,0,0,0,0,0,0,0,0,0,0,0,0,0,0,0,0,0,0,0,0,0,0,0,0,null,"","","","","","",0,0,0,0,0,0,0,0,0,0,0]
[4445,"Darlehenszinsen",0,0,0,{"$f":"IF(SUM(H107:HO107)=E107,\"i.o.\",E107-SUM(H107:HO107))","v":"i.o."},null,0,0,0,0,0,0,0,0,0,0,0,0,0,0,0,0,0,0,0,0,0,0,0,0,0,0,0,0,null,null,null,null,null,null,null,null,null,null,null,null,null,null,null,null,null,null,null,null,null,null,null,null,null,null,null,null,null,null,null,null,null,null,null,null,null,null,null,null,null,null,null,null,null,null,null,null,null,null,null,null,null,null,null,null,null,null,null,null,null,null,null,null,null,null,null,null,null,null,null,null,null,null,null,null,null,null,null,null,null,null,null,null,null,null,null,null,null,null,null,null,null,null,null,null,null,null,null,null,null,null,null,null,null,null,null,null,null,null,null,null,null,null,null,null,null,null,null,null,null,null,null,null,null,0,0,0,0,0,0,0,0,0,0,0,0,0,0,0,0,0,0,0,0,0,0,0,0,0,0,0,0,0,0,0,0,0,0,0,0,0,0,0,0,0,0,0,0,0,0,0,0,0,0,0,0,0,0,0,0,0,0,0,0,0,0,0,null,{"$f":"IF(COUNT(DI107:DR107)=0,\"\",SUM(DI107:DR107))","v":""},{"$f":"IF(COUNT(DS107:EB107)=0,\"\",SUM(DS107:EB107))","v":""},{"$f":"IF(COUNT(EC107:EL107)=0,\"\",SUM(EC107:EL107))","v":""},{"$f":"IF(COUNT(EM107:EP107)=0,\"\",SUM(EM107:EP107))","v":""},{"$f":"IF(COUNT(EQ107:EZ107)=0,\"\",SUM(EQ107:EZ107))","v":""},{"$f":"IF(COUNT(FA107:FD107)=0,\"\",SUM(FA107:FD107))","v":""},{"$f":"IF(COUNT(FE107:FK107)=0,\"\",SUM(FE107:FK107))","v":0},{"$f":"IF(COUNT(FL107:FL107)=0,\"\",SUM(FL107:FL107))","v":0},{"$f":"IF(COUNT(FM107:FP107)=0,\"\",SUM(FM107:FP107))","v":0},{"$f":"IF(COUNT(FQ107:FQ107)=0,\"\",SUM(FQ107:FQ107))","v":0},{"$f":"IF(COUNT(FR107:FW107)=0,\"\",SUM(FR107:FW107))","v":0},{"$f":"IF(COUNT(FX107:GB107)=0,\"\",SUM(FX107:GB107))","v":0},{"$f":"IF(COUNT(GC107:GH107)=0,\"\",SUM(GC107:GH107))","v":0},0,0,0,{"$f":"IF(COUNT(H107:DH107)=0,\"\",SUM(H107:DH107))","v":0}]
[4449,"Übriger Zinsaufwand",0,0,{"$f":"SUM(C108:D108)","v":0},"i.o.",null,0,0,0,0,0,0,0,0,0,0,0,0,0,0,0,0,0,0,0,0,0,0,0,0,0,0,0,0,null,null,null,null,null,null,null,null,null,null,null,null,null,null,null,null,null,null,null,null,null,null,null,null,null,null,null,null,null,null,null,null,null,null,null,null,null,null,null,null,null,null,null,null,null,null,null,null,null,null,null,null,null,null,null,null,null,null,null,null,null,null,null,null,null,null,null,null,null,null,null,null,null,null,null,null,null,null,null,null,null,null,null,null,null,null,null,null,null,null,null,null,null,null,null,null,null,null,null,null,null,null,null,null,null,null,null,null,null,null,null,null,null,null,null,null,null,null,null,null,null,null,null,null,null,0,0,0,0,0,0,0,0,0,0,0,0,0,0,0,0,0,0,0,0,0,0,0,0,0,0,0,0,0,0,0,0,0,0,0,0,0,0,0,0,0,0,0,0,0,0,0,0,0,0,0,0,0,0,0,0,0,0,0,0,0,0,0,null,"","","","","","",0,0,0,0,0,0,0,0,0,0,0]
[444,"Hypothekarzinsen",{"$f":"SUM(C110:C110)","v":0},{"$f":"SUM(D110:D110)","v":0},{"$f":"SUM(C109:D109)","v":0},{"$f":"IF(SUM(H109:HO109)=E109,\"i.o.\",E109-SUM(H109:HO109))","v":"i.o."},null,{"$f":"SUM(H110:H110)","v":0},0,0,0,0,0,0,0,0,0,0,0,0,0,0,0,0,0,0,0,0,0,0,0,0,0,0,0,0,0,0,0,0,0,0,0,0,0,0,0,0,0,0,0,0,0,0,0,0,0,0,0,0,0,0,0,0,0,0,0,0,0,0,0,{"$f":"SUM(BT110:BT110)","v":0},0,0,0,0,0,0,0,0,0,0,0,0,0,0,0,0,0,0,0,0,0,0,0,0,0,0,0,0,0,0,0,0,0,0,0,0,0,0,0,0,0,0,0,0,0,0,0,0,0,0,0,0,0,0,0,0,0,0,0,0,0,0,0,{"$f":"SUM(EF110:EF110)","v":0},0,0,0,0,0,0,0,0,0,0,0,0,0,0,0,0,0,0,0,0,0,0,0,0,0,0,0,0,0,0,0,0,0,0,0,0,0,0,0,0,0,0,0,0,0,0,0,0,0,0,0,0,0,0,0,0,0,0,0,0,0,0,0,{"$f":"SUM(GR110:GR110)","v":0},0,0,0,0,0,0,0,0,0,0,0,0,0,0,0,0,0,0,0,0,0,0,0,null,0,0,0,0,0,0,0,0,0,0,0,0,0,{"$f":"IF(COUNT(GI109:GS109)=0,\"\",SUM(GI109:GS109))","v":0},{"$f":"IF(COUNT(GT109:HD109)=0,\"\",SUM(GT109:HD109))","v":0},{"$f":"IF(COUNT(HE109:HO109)=0,\"\",SUM(HE109:HO109))","v":0},0]
[4440,"Hypothekarzinsen",0,0,{"$f":"SUM(C110:D110)","v":0},{"$f":"IF(SUM(H110:HO110)=E110,\"i.o.\",E110-SUM(H110:HO110))","v":"i.o."},null,0,0,0,0,0,0,0,0,0,0,0,0,0,0,0,0,0,0,0,0,0,0,0,0,0,0,0,0,null,null,null,null,null,null,null,null,null,null,null,null,null,null,null,null,null,null,null,null,null,null,null,null,null,null,null,null,null,null,null,null,null,null,null,null,null,null,null,null,null,null,null,null,null,null,null,null,null,null,null,null,null,null,null,null,null,null,null,null,null,null,null,null,null,null,null,null,null,null,null,null,null,null,null,null,null,null,null,null,null,null,null,null,null,null,null,null,null,null,null,null,null,null,null,null,null,null,null,null,null,null,null,null,null,null,null,null,null,null,null,null,null,null,null,null,null,null,null,null,null,null,null,null,null,0,0,0,0,0,0,0,0,0,0,0,0,0,0,0,0,0,0,0,0,0,0,0,0,0,0,0,0,0,0,0,0,0,0,0,0,0,0,0,0,0,0,0,0,0,0,0,0,0,0,0,0,0,0,0,0,0,0,0,0,0,0,0,null,{"$f":"IF(COUNT(DI110:DR110)=0,\"\",SUM(DI110:DR110))","v":""},{"$f":"IF(COUNT(DS110:EB110)=0,\"\",SUM(DS110:EB110))","v":""},{"$f":"IF(COUNT(EC110:EL110)=0,\"\",SUM(EC110:EL110))","v":""},{"$f":"IF(COUNT(EM110:EP110)=0,\"\",SUM(EM110:EP110))","v":""},{"$f":"IF(COUNT(EQ110:EZ110)=0,\"\",SUM(EQ110:EZ110))","v":""},{"$f":"IF(COUNT(FA110:FD110)=0,\"\",SUM(FA110:FD110))","v":""},{"$f":"IF(COUNT(FE110:FK110)=0,\"\",SUM(FE110:FK110))","v":0},{"$f":"IF(COUNT(FL110:FL110)=0,\"\",SUM(FL110:FL110))","v":0},{"$f":"IF(COUNT(FM110:FP110)=0,\"\",SUM(FM110:FP110))","v":0},{"$f":"IF(COUNT(FQ110:FQ110)=0,\"\",SUM(FQ110:FQ110))","v":0},{"$f":"IF(COUNT(FR110:FW110)=0,\"\",SUM(FR110:FW110))","v":0},{"$f":"IF(COUNT(FX110:GB110)=0,\"\",SUM(FX110:GB110))","v":0},{"$f":"IF(COUNT(GC110:GH110)=0,\"\",SUM(GC110:GH110))","v":0},{"$f":"IF(COUNT(GI110:GS110)=0,\"\",SUM(GI110:GS110))","v":0},{"$f":"IF(COUNT(GT110:HD110)=0,\"\",SUM(GT110:HD110))","v":0},{"$f":"IF(COUNT(HE110:HO110)=0,\"\",SUM(HE110:HO110))","v":0},{"$f":"IF(COUNT(H110:DH110)=0,\"\",SUM(H110:DH110))","v":0}]
[445,"Abschreibungen auf immobilen Sachanlagen",{"$f":"SUM(C112:C117)","v":0},{"$f":"SUM(D112:D117)","v":0},{"$f":"SUM(C111:D111)","v":0},"i.o.",null,{"$f":"SUM(H112:H117)","v":0},0,0,0,0,0,0,0,0,0,0,0,0,0,0,0,0,0,0,0,0,0,0,0,0,0,0,0,0,0,0,0,0,0,0,0,0,0,0,0,0,0,0,0,0,0,0,0,0,0,0,0,0,0,0,0,0,0,0,0,0,0,0,0,{"$f":"SUM(BT112:BT117)","v":0},0,0,0,0,0,0,0,0,0,0,0,0,0,0,0,0,0,0,0,0,0,0,0,0,0,0,0,0,0,0,0,0,0,0,0,0,0,0,0,0,0,0,0,0,0,0,0,0,0,0,0,0,0,0,0,0,0,0,0,0,0,0,0,{"$f":"SUM(EF112:EF117)","v":0},0,0,0,0,0,0,0,0,0,0,0,0,0,0,0,0,0,0,0,0,0,0,0,0,0,0,0,0,0,0,0,0,0,0,0,0,0,0,0,0,0,0,0,0,0,0,0,0,0,0,0,0,0,0,0,0,0,0,0,0,0,0,0,{"$f":"SUM(GR112:GR117)","v":0},0,0,0,0,0,0,0,0,0,0,0,0,0,0,0,0,0,0,0,0,0,0,0,null,0,0,0,0,0,0,0,0,0,0,0,0,0,0,0,0,0]
[4450,"Abschreibungen auf immobilen Sachanlagen",0,0,0,"i.o.",null,null,null,null,null,null,null,null,null,null,null,null,null,null,null,0,0,0,0,0,0,0,0,0,0,0,0,0,0,null,null,null,null,null,null,null,null,null,null,null,null,null,null,0,0,0,0,0,0,0,0,0,0,0,0,0,0,0,0,0,0,0,0,0,0,0,0,0,0,0,0,0,0,0,0,0,0,0,null,null,null,null,null,null,null,null,null,null,null,null,null,null,0,0,0,0,0,0,0,0,0,0,0,0,0,0,0,0,0,0,0,0,0,0,0,0,0,0,0,0,0,0,0,0,0,0,0,0,0,0,0,0,0,0,0,0,0,0,0,0,0,0,0,0,0,0,0,0,0,0,0,0,0,0,0,0,0,0,0,0,0,0,0,0,0,0,0,0,0,0,0,0,0,0,0,0,0,0,0,0,0,0,0,0,0,0,0,0,0,0,0,0,0,0,0,0,0,0,0,0,0,0,0,0,0,0,0,0,0,0,0,0,0,0,0,0,0,null,0,0,0,0,0,0,0,0,0,0,0,0,0,0,0,0,0]
[4451,"Abschreibungen immob. Sachanl. Leitung & Verwaltung",0,0,0,"i.o.",null,null,null,null,null,null,null,null,null,null,null,null,null,null,null,0,0,0,0,0,0,0,0,0,0,0,0,0,0,null,null,null,null,null,null,null,null,null,null,null,null,null,null,null,null,null,null,null,null,null,null,null,null,null,null,null,null,null,null,null,null,null,null,null,null,null,null,null,null,null,null,null,null,null,null,null,null,null,null,null,null,null,null,null,null,null,null,null,null,null,null,null,null,null,null,null,null,null,null,null,null,null,null,null,null,null,null,null,null,null,null,null,null,null,null,null,null,null,null,null,null,null,null,null,null,null,null,null,null,null,null,null,null,null,null,null,null,null,null,null,null,null,null,null,null,null,null,null,null,null,null,null,null,null,0,0,0,0,0,0,0,0,0,0,0,0,0,0,0,0,0,0,0,0,0,0,0,0,0,0,0,0,0,0,0,0,0,0,0,0,0,0,0,0,0,0,0,0,0,0,0,0,0,0,0,0,0,0,0,0,0,0,0,0,0,0,0,null,"","","","","","",0,0,0,0,0,0,0,0,0,0,0]
[4452,"Abschreibungen immob. Sachanl. Tech. Dienst/Hauswartung",0,0,0,"i.o.",null,null,null,null,null,null,null,null,null,null,null,null,null,null,null,0,0,0,0,0,0,0,null,null,null,null,null,null,null,null,null,null,null,null,null,null,null,null,null,null,null,null,null,0,0,0,0,0,0,0,null,null,null,null,null,null,null,null,null,null,null,null,null,null,null,null,null,null,null,null,null,null,null,null,null,null,null,null,null,null,null,null,null,null,null,null,null,null,null,null,null,null,null,null,null,null,null,null,null,null,null,null,null,null,null,null,null,null,null,null,null,null,null,null,null,null,null,null,null,null,null,null,null,null,null,null,null,null,null,null,null,null,null,null,null,null,null,null,null,null,null,null,null,null,null,null,null,null,null,null,null,null,null,null,0,0,0,0,0,0,0,0,0,0,0,0,0,0,0,0,0,0,0,0,0,0,0,0,0,0,0,0,0,0,0,0,0,0,0,0,0,0,0,0,0,0,0,0,0,0,0,0,0,0,0,0,0,0,0,0,0,0,0,0,0,0,0,null,"","","","","","",0,0,0,0,0,0,0,0,0,0,0]
[4453,"Abschreibungen immob. Sachanl. Reinigung",0,0,0,"i.o.",null,null,null,null,null,null,null,null,null,null,null,null,null,null,null,0,0,0,0,0,0,0,null,null,null,null,null,null,null,null,null,null,null,null,null,null,null,null,null,null,null,null,null,null,null,null,null,null,null,null,0,0,0,0,0,0,0,null,null,null,null,null,null,null,null,null,null,null,null,null,null,null,null,null,null,null,null,null,null,null,null,null,null,null,null,null,null,null,null,null,null,null,null,null,null,null,null,null,null,null,null,null,null,null,null,null,null,null,null,null,null,null,null,null,null,null,null,null,null,null,null,null,null,null,null,null,null,null,null,null,null,null,null,null,null,null,null,null,null,null,null,null,null,null,null,null,null,null,null,null,null,null,null,null,0,0,0,0,0,0,0,0,0,0,0,0,0,0,0,0,0,0,0,0,0,0,0,0,0,0,0,0,0,0,0,0,0,0,0,0,0,0,0,0,0,0,0,0,0,0,0,0,0,0,0,0,0,0,0,0,0,0,0,0,0,0,0,null,"","","","","","",0,0,0,0,0,0,0,0,0,0,0]
[4454,"Abschreibungen immob. Sachanl. Wäscherei",0,0,0,"i.o.",null,null,null,null,null,null,null,null,null,null,null,null,null,null,null,0,0,0,0,0,0,0,null,null,null,null,null,null,null,null,null,null,null,null,null,null,null,null,null,null,null,null,null,null,null,null,null,null,null,null,null,null,null,null,null,null,null,0,0,0,0,0,0,0,null,null,null,null,null,null,null,null,null,null,null,null,null,null,null,null,null,null,null,null,null,null,null,null,null,null,null,null,null,null,null,null,null,null,null,null,null,null,null,null,null,null,null,null,null,null,null,null,null,null,null,null,null,null,null,null,null,null,null,null,null,null,null,null,null,null,null,null,null,null,null,null,null,null,null,null,null,null,null,null,null,null,null,null,null,null,null,null,null,null,0,0,0,0,0,0,0,0,0,0,0,0,0,0,0,0,0,0,0,0,0,0,0,0,0,0,0,0,0,0,0,0,0,0,0,0,0,0,0,0,0,0,0,0,0,0,0,0,0,0,0,0,0,0,0,0,0,0,0,0,0,0,0,null,"","","","","","",0,0,0,0,0,0,0,0,0,0,0]
[4455,"Abschreibungen immob. Sachanl. Verpflegung",0,0,0,"i.o.",null,null,null,null,null,null,null,null,null,null,null,null,null,null,null,0,0,0,0,0,0,0,null,null,null,null,null,null,null,null,null,null,null,null,null,null,null,null,null,null,null,null,null,null,null,null,null,null,null,null,null,null,null,null,null,null,null,null,null,null,null,null,null,null,0,0,0,0,0,0,0,0,0,0,0,0,0,0,null,null,null,null,null,null,null,null,null,null,null,null,null,null,null,null,null,null,null,null,null,null,null,null,null,null,null,null,null,null,null,null,null,null,null,null,null,null,null,null,null,null,null,null,null,null,null,null,null,null,null,null,null,null,null,null,null,null,null,null,null,null,null,null,null,null,null,null,null,null,null,null,null,null,null,null,0,0,0,0,0,0,0,0,0,0,0,0,0,0,0,0,0,0,0,0,0,0,0,0,0,0,0,0,0,0,0,0,0,0,0,0,0,0,0,0,0,0,0,0,0,0,0,0,0,0,0,0,0,0,0,0,0,0,0,0,0,0,0,null,"","","","","","",0,0,0,0,0,0,0,0,0,0,0]
[446,"Abschreibungen auf Mobilien",{"$f":"SUM(C119:C124)","v":0},{"$f":"SUM(D119:D124)","v":0},{"$f":"SUM(C118:D118)","v":0},{"$f":"IF(SUM(H118:HO118)=E118,\"i.o.\",E118-SUM(H118:HO118))","v":"i.o."},null,{"$f":"SUM(H119:H124)","v":0},0,0,0,0,0,0,0,0,0,0,0,0,0,0,0,0,0,0,0,0,0,0,0,0,0,0,0,0,0,0,0,0,0,0,0,0,0,0,0,0,0,0,0,0,0,0,0,0,0,0,0,0,0,0,0,0,0,0,0,0,0,0,0,{"$f":"SUM(BT119:BT124)","v":0},0,0,0,0,0,0,0,0,0,0,0,0,0,0,0,0,0,0,0,0,0,0,0,0,0,0,0,0,0,0,0,0,0,0,0,0,0,0,0,0,0,0,0,0,0,0,0,0,0,0,0,0,0,0,0,0,0,0,0,0,0,0,0,{"$f":"SUM(EF119:EF124)","v":0},0,0,0,0,0,0,0,0,0,0,0,0,0,0,0,0,0,0,0,0,0,0,0,0,0,0,0,0,0,0,0,0,0,0,0,0,0,0,0,0,0,0,0,0,0,0,0,0,0,0,0,0,0,0,0,0,0,0,0,0,0,0,0,{"$f":"SUM(GR119:GR124)","v":0},0,0,0,0,0,0,0,0,0,0,0,0,0,0,0,0,0,0,0,0,0,0,0,null,{"$f":"IF(COUNT(DI118:DR118)=0,\"\",SUM(DI118:DR118))","v":0},{"$f":"IF(COUNT(DS118:EB118)=0,\"\",SUM(DS118:EB118))","v":0},{"$f":"IF(COUNT(EC118:EL118)=0,\"\",SUM(EC118:EL118))","v":0},{"$f":"IF(COUNT(EM118:EP118)=0,\"\",SUM(EM118:EP118))","v":0},{"$f":"IF(COUNT(EQ118:EZ118)=0,\"\",SUM(EQ118:EZ118))","v":0},{"$f":"IF(COUNT(FA118:FD118)=0,\"\",SUM(FA118:FD118))","v":0},{"$f":"IF(COUNT(FE118:FK118)=0,\"\",SUM(FE118:FK118))","v":0},{"$f":"IF(COUNT(FL118:FL118)=0,\"\",SUM(FL118:FL118))","v":0},{"$f":"IF(COUNT(FM118:FP118)=0,\"\",SUM(FM118:FP118))","v":0},{"$f":"IF(COUNT(FQ118:FQ118)=0,\"\",SUM(FQ118:FQ118))","v":0},{"$f":"IF(COUNT(FR118:FW118)=0,\"\",SUM(FR118:FW118))","v":0},{"$f":"IF(COUNT(FX118:GB118)=0,\"\",SUM(FX118:GB118))","v":0},{"$f":"IF(COUNT(GC118:GH118)=0,\"\",SUM(GC118:GH118))","v":0},{"$f":"IF(COUNT(GI118:GS118)=0,\"\",SUM(GI118:GS118))","v":0},{"$f":"IF(COUNT(GT118:HD118)=0,\"\",SUM(GT118:HD118))","v":0},{"$f":"IF(COUNT(HE118:HO118)=0,\"\",SUM(HE118:HO118))","v":0},{"$f":"IF(COUNT(H118:DH118)=0,\"\",SUM(H118:DH118))","v":0}]
[4460,"Abschreibungen auf mobilen Sachanlagen",0,0,0,"i.o.",null,null,null,null,null,null,null,null,null,null,null,null,null,null,null,0,0,0,0,0,0,0,0,0,0,0,0,0,0,null,null,null,null,null,null,null,null,null,null,null,null,null,null,0,0,0,0,0,0,0,0,0,0,0,0,0,0,0,0,0,0,0,0,0,0,0,0,0,0,0,0,0,0,0,0,0,0,0,null,null,null,null,null,null,null,null,null,null,null,null,null,null,0,0,0,0,0,0,0,0,0,0,0,0,0,0,0,0,0,0,0,0,0,0,0,0,0,0,0,0,0,0,0,0,0,0,0,0,0,0,0,0,0,0,0,0,0,0,0,0,0,0,0,0,0,0,0,0,0,0,0,0,0,0,0,0,0,0,0,0,0,0,0,0,0,0,0,0,0,0,0,0,0,0,0,0,0,0,0,0,0,0,0,0,0,0,0,0,0,0,0,0,0,0,0,0,0,0,0,0,0,0,0,0,0,0,0,0,0,0,0,0,0,0,0,0,0,null,0,0,0,0,0,0,0,0,0,0,0,0,0,0,0,0,0]
[4461,"Abschreibungen mob. Sachanl. Leitung & Verwaltung",0,0,0,"i.o.",null,null,null,null,null,null,null,null,null,null,null,null,null,null,null,0,0,0,0,0,0,0,0,0,0,0,0,0,0,null,null,null,null,null,null,null,null,null,null,null,null,null,null,null,null,null,null,null,null,null,null,null,null,null,null,null,null,null,null,null,null,null,null,null,null,null,null,null,null,null,null,null,null,null,null,null,null,null,null,null,null,null,null,null,null,null,null,null,null,null,null,null,null,null,null,null,null,null,null,null,null,null,null,null,null,null,null,null,null,null,null,null,null,null,null,null,null,null,null,null,null,null,null,null,null,null,null,null,null,null,null,null,null,null,null,null,null,null,null,null,null,null,null,null,null,null,null,null,null,null,null,null,null,null,0,0,0,0,0,0,0,0,0,0,0,0,0,0,0,0,0,0,0,0,0,0,0,0,0,0,0,0,0,0,0,0,0,0,0,0,0,0,0,0,0,0,0,0,0,0,0,0,0,0,0,0,0,0,0,0,0,0,0,0,0,0,0,null,"","","","","","",0,0,0,0,0,0,0,0,0,0,0]
[4462,"Abschreibungen mob. Sachanl. Tech. Dienst/Hauswartung",0,0,0,"i.o.",null,null,null,null,null,null,null,null,null,null,null,null,null,null,null,0,0,0,0,0,0,0,null,null,null,null,null,null,null,null,null,null,null,null,null,null,null,null,null,null,null,null,null,0,0,0,0,0,0,0,null,null,null,null,null,null,null,null,null,null,null,null,null,null,null,null,null,null,null,null,null,null,null,null,null,null,null,null,null,null,null,null,null,null,null,null,null,null,null,null,null,null,null,null,null,null,null,null,null,null,null,null,null,null,null,null,null,null,null,null,null,null,null,null,null,null,null,null,null,null,null,null,null,null,null,null,null,null,null,null,null,null,null,null,null,null,null,null,null,null,null,null,null,null,null,null,null,null,null,null,null,null,null,null,0,0,0,0,0,0,0,0,0,0,0,0,0,0,0,0,0,0,0,0,0,0,0,0,0,0,0,0,0,0,0,0,0,0,0,0,0,0,0,0,0,0,0,0,0,0,0,0,0,0,0,0,0,0,0,0,0,0,0,0,0,0,0,null,"","","","","","",0,0,0,0,0,0,0,0,0,0,0]
[4463,"Abschreibungen mob. Sachanl. Reinigung",0,0,0,"i.o.",null,null,null,null,null,null,null,null,null,null,null,null,null,null,null,0,0,0,0,0,0,0,null,null,null,null,null,null,null,null,null,null,null,null,null,null,null,null,null,null,null,null,null,null,null,null,null,null,null,null,0,0,0,0,0,0,0,null,null,null,null,null,null,null,null,null,null,null,null,null,null,null,null,null,null,null,null,null,null,null,null,null,null,null,null,null,null,null,null,null,null,null,null,null,null,null,null,null,null,null,null,null,null,null,null,null,null,null,null,null,null,null,null,null,null,null,null,null,null,null,null,null,null,null,null,null,null,null,null,null,null,null,null,null,null,null,null,null,null,null,null,null,null,null,null,null,null,null,null,null,null,null,null,null,0,0,0,0,0,0,0,0,0,0,0,0,0,0,0,0,0,0,0,0,0,0,0,0,0,0,0,0,0,0,0,0,0,0,0,0,0,0,0,0,0,0,0,0,0,0,0,0,0,0,0,0,0,0,0,0,0,0,0,0,0,0,0,null,"","","","","","",0,0,0,0,0,0,0,0,0,0,0]
[4464,"Abschreibungen mob. Sachanl. Wäscherei",0,0,0,"i.o.",null,null,null,null,null,null,null,null,null,null,null,null,null,null,null,0,0,0,0,0,0,0,null,null,null,null,null,null,null,null,null,null,null,null,null,null,null,null,null,null,null,null,null,null,null,null,null,null,null,null,null,null,null,null,null,null,null,0,0,0,0,0,0,0,null,null,null,null,null,null,null,null,null,null,null,null,null,null,null,null,null,null,null,null,null,null,null,null,null,null,null,null,null,null,null,null,null,null,null,null,null,null,null,null,null,null,null,null,null,null,null,null,null,null,null,null,null,null,null,null,null,null,null,null,null,null,null,null,null,null,null,null,null,null,null,null,null,null,null,null,null,null,null,null,null,null,null,null,null,null,null,null,null,null,0,0,0,0,0,0,0,0,0,0,0,0,0,0,0,0,0,0,0,0,0,0,0,0,0,0,0,0,0,0,0,0,0,0,0,0,0,0,0,0,0,0,0,0,0,0,0,0,0,0,0,0,0,0,0,0,0,0,0,0,0,0,0,null,"","","","","","",0,0,0,0,0,0,0,0,0,0,0]
[4465,"Abschreibungen mob. Sachanl. Verpflegung",0,0,0,"i.o.",null,null,null,null,null,null,null,null,null,null,null,null,null,null,null,0,0,0,0,0,0,0,null,null,null,null,null,null,null,null,null,null,null,null,null,null,null,null,null,null,null,null,null,null,null,null,null,null,null,null,null,null,null,null,null,null,null,null,null,null,null,null,null,null,0,0,0,0,0,0,0,0,0,0,0,0,0,0,null,null,null,null,null,null,null,null,null,null,null,null,null,null,null,null,null,null,null,null,null,null,null,null,null,null,null,null,null,null,null,null,null,null,null,null,null,null,null,null,null,null,null,null,null,null,null,null,null,null,null,null,null,null,null,null,null,null,null,null,null,null,null,null,null,null,null,null,null,null,null,null,null,null,null,null,0,0,0,0,0,0,0,0,0,0,0,0,0,0,0,0,0,0,0,0,0,0,0,0,0,0,0,0,0,0,0,0,0,0,0,0,0,0,0,0,0,0,0,0,0,0,0,0,0,0,0,0,0,0,0,0,0,0,0,0,0,0,0,null,"","","","","","",0,0,0,0,0,0,0,0,0,0,0]
[447,"Abschreibungen auf Fahrzeuge",{"$f":"SUM(C126:C126)","v":0},{"$f":"SUM(D126:D126)","v":0},{"$f":"SUM(C125:D125)","v":0},{"$f":"IF(SUM(H125:HO125)=E125,\"i.o.\",E125-SUM(H125:HO125))","v":"i.o."},null,{"$f":"SUM(H126:H126)","v":0},0,0,0,0,0,0,0,0,0,0,0,0,0,0,0,0,0,0,0,0,0,0,0,0,0,0,0,0,0,0,0,0,0,0,0,0,0,0,0,0,0,0,0,0,0,0,0,0,0,0,0,0,0,0,0,0,0,0,0,0,0,0,0,{"$f":"SUM(BT126:BT126)","v":0},0,0,0,0,0,0,0,0,0,0,0,0,0,0,0,0,0,0,0,0,0,0,0,0,0,0,0,0,0,0,0,0,0,0,0,0,0,0,0,0,0,0,0,0,0,0,0,0,0,0,0,0,0,0,0,0,0,0,0,0,0,0,0,{"$f":"SUM(EF126:EF126)","v":0},0,0,0,0,0,0,0,0,0,0,0,0,0,0,0,0,0,0,0,0,0,0,0,0,0,0,0,0,0,0,0,0,0,0,0,0,0,0,0,0,0,0,0,0,0,0,0,0,0,0,0,0,0,0,0,0,0,0,0,0,0,0,0,{"$f":"SUM(GR126:GR126)","v":0},0,0,0,0,0,0,0,0,0,0,0,0,0,0,0,0,0,0,0,0,0,0,0,null,0,0,0,0,0,0,0,0,0,0,0,0,0,0,0,0,0]
[4470,"Abschreibungen Fahrzeuge",0,0,0,"i.o.",null,null,null,null,null,null,null,null,null,null,null,null,null,null,null,null,null,null,null,null,null,null,0,0,0,0,0,0,0,0,0,0,0,0,0,0,0,0,0,0,0,0,0,0,0,0,0,0,0,0,0,0,0,0,0,0,0,0,0,0,0,0,0,0,0,0,0,0,0,0,0,0,0,0,0,0,0,0,null,null,null,null,null,null,null,null,null,null,null,null,null,null,0,0,0,0,0,0,0,0,0,0,0,0,0,0,0,0,0,0,0,0,0,0,0,0,0,0,0,0,0,0,0,0,0,0,0,0,0,0,0,0,0,0,0,0,0,0,0,0,0,0,0,0,0,0,0,0,0,0,0,0,0,0,0,0,0,0,0,0,0,0,0,0,0,0,0,0,0,0,0,0,0,0,0,0,0,0,0,0,0,0,0,0,0,0,0,0,0,0,0,0,0,0,0,0,0,0,0,0,0,0,0,0,0,0,0,0,0,0,0,0,0,0,0,0,0,null,0,0,0,0,0,0,0,0,0,0,0,0,0,0,0,0,0]
[4490,"Abschreibungen auf Maschinen und Anlagen ",0,0,0,"i.o.",null,null,null,null,null,null,null,null,null,null,null,null,null,null,null,0,0,0,0,0,0,0,0,0,0,0,0,0,0,null,null,null,null,null,null,null,null,null,null,null,null,null,null,null,null,null,null,null,null,null,null,null,null,null,null,null,null,null,null,null,null,null,null,null,null,null,null,null,null,null,null,null,null,null,null,null,null,null,null,null,null,null,null,null,null,null,null,null,null,null,null,null,null,null,null,null,null,null,null,null,null,null,null,null,null,null,null,null,null,null,null,null,null,null,null,null,null,null,null,null,null,null,null,null,null,null,null,null,null,null,null,null,null,null,null,null,null,null,null,null,null,null,null,null,null,null,null,null,null,null,null,null,null,null,0,0,0,0,0,0,0,0,0,0,0,0,0,0,0,0,0,0,0,0,0,0,0,0,0,0,0,0,0,0,0,0,0,0,0,0,0,0,0,0,0,0,0,0,0,0,0,0,0,0,0,0,0,0,0,0,0,0,0,0,0,0,0,null,"","","","","","",0,0,0,0,0,0,0,0,0,0,0]
[4510,"Gas",0,0,0,"i.o.",null,null,null,null,null,null,null,null,0,null,null,null,null,null,null,null,null,null,null,null,null,null,0,0,0,0,0,0,0,0,0,0,0,0,0,0,0,0,0,0,0,0,0,0,0,0,0,0,0,0,0,0,0,0,0,0,0,0,0,0,0,0,0,0,0,0,0,0,0,0,0,0,0,0,0,0,0,0,null,null,null,null,null,null,null,null,null,null,null,null,null,null,0,0,0,0,0,0,0,0,0,0,0,0,0,0,0,0,0,0,0,0,0,0,0,0,0,0,0,0,0,0,0,0,0,0,0,0,0,0,0,0,0,0,0,0,0,0,0,0,0,0,0,0,0,0,0,0,0,0,0,0,0,0,0,0,0,0,0,0,0,0,0,0,0,0,0,0,0,0,0,0,0,0,0,0,0,0,0,0,0,0,0,0,0,0,0,0,0,0,0,0,0,0,0,0,0,0,0,0,0,0,0,0,0,0,0,0,0,0,0,0,0,0,0,0,0,null,0,0,0,0,0,0,0,0,0,0,0,0,0,0,0,0,0]
[460,"Schulung, Ausbildung und Freizeit",{"$f":"SUM(C138:C158)","v":0},{"$f":"SUM(D138:D158)","v":0},0,"i.o.",null,{"$f":"SUM(H138:H158)","v":0},0,0,0,0,0,0,0,0,0,0,0,0,0,0,0,0,0,0,0,0,0,0,0,0,0,0,0,0,0,0,0,0,0,0,0,0,0,0,0,0,0,0,0,0,0,0,0,0,0,0,0,0,0,0,0,0,0,0,0,0,0,0,0,{"$f":"SUM(BT138:BT158)","v":0},0,0,0,0,0,0,0,0,0,0,0,0,0,0,0,0,0,0,0,0,0,0,0,0,0,0,0,0,0,0,0,0,0,0,0,0,0,0,0,0,0,0,0,0,0,0,0,0,0,0,0,0,0,0,0,0,0,0,0,0,0,0,0,{"$f":"SUM(EF138:EF158)","v":0},0,0,0,0,0,0,0,0,0,0,0,0,0,0,0,0,0,0,0,0,0,0,0,0,0,0,0,0,0,0,0,0,0,0,0,0,0,0,0,0,0,0,0,0,0,0,0,0,0,0,0,0,0,0,0,0,0,0,0,0,0,0,0,{"$f":"SUM(GR138:GR158)","v":0},0,0,0,0,0,0,0,0,0,0,0,0,0,0,0,0,0,0,0,0,0,0,0,null,0,0,0,0,0,0,0,0,0,0,0,0,0,0,0,0,0]
[4620,"Bibliothek",0,0,0,"i.o.",null,null,null,null,null,null,null,null,null,null,null,null,null,null,null,null,null,null,null,null,null,null,0,0,0,0,0,0,0,null,null,null,null,null,null,null,null,null,null,null,null,null,null,null,null,null,null,null,null,null,null,null,null,null,null,null,null,null,null,null,null,null,null,null,null,null,null,null,null,null,null,null,null,null,null,null,null,null,null,null,null,null,null,null,null,null,null,null,null,null,null,null,null,null,null,null,null,null,null,null,null,null,null,null,null,null,0,0,0,0,0,0,0,0,0,0,0,0,0,0,0,0,0,0,0,0,0,0,0,0,0,0,0,0,0,0,0,0,0,0,0,0,0,0,0,0,0,0,0,0,0,0,0,0,0,0,0,0,0,0,0,0,0,0,0,0,0,0,0,0,0,0,0,0,0,0,0,0,0,0,0,0,0,0,0,0,0,0,0,0,0,0,0,0,0,0,0,0,0,0,0,0,0,0,0,0,0,0,0,0,0,0,0,0,0,0,0,null,0,0,0,0,0,0,0,0,0,0,0,0,0,0,0,0,0]
[4632,"Freizeitgestaltung Wohnheim",0,0,0,"i.o.",null,null,null,null,null,null,null,null,null,null,null,null,null,null,null,null,null,null,null,null,null,null,null,null,null,null,null,null,null,null,null,null,null,null,null,null,null,null,null,null,null,null,null,null,null,null,null,null,null,null,null,null,null,null,null,null,null,null,null,null,null,null,null,null,null,null,null,null,null,null,null,null,null,null,null,null,null,null,null,null,null,null,null,null,null,null,null,null,null,null,null,null,null,null,null,null,null,null,null,null,null,null,null,null,null,null,0,0,0,0,0,0,0,0,0,0,0,0,0,0,0,0,0,0,0,0,null,null,null,null,null,null,null,null,null,null,null,null,null,null,null,null,null,null,null,null,null,null,null,null,null,null,null,null,0,0,0,0,0,0,0,0,0,0,0,0,0,0,0,0,0,0,0,0,0,0,0,0,0,0,0,0,0,0,0,0,0,0,0,0,0,0,0,0,0,0,0,0,0,0,0,0,0,0,0,0,0,0,0,0,0,0,0,0,0,0,0,null,0,0,"","","","",0,0,0,0,0,0,0,0,0,0,""]
[4635,"Freizeitgestaltung Schule",0,0,0,{"$f":"IF(SUM(H144:HO144)=E144,\"i.o.\",E144-SUM(H144:HO144))","v":"i.o."},null,null,null,null,null,null,null,null,null,null,null,null,null,null,null,null,null,null,null,null,null,null,null,null,null,null,null,null,null,null,null,null,null,null,null,null,null,null,null,null,null,null,null,null,null,null,null,null,null,null,null,null,null,null,null,null,null,null,null,null,null,null,null,null,null,null,null,null,null,null,null,null,null,null,null,null,null,null,null,null,null,null,null,null,null,null,null,null,null,null,null,null,null,null,null,null,null,null,null,null,null,null,null,null,null,null,null,null,null,null,null,null,null,null,null,null,null,null,null,null,null,null,null,null,null,null,null,null,null,null,null,null,null,null,null,null,null,null,null,null,null,null,null,null,null,null,null,null,null,null,null,null,null,null,0,0,0,0,0,0,0,0,0,0,0,0,0,0,0,0,0,0,0,0,0,0,0,0,0,0,0,0,0,0,0,0,0,0,0,0,0,0,0,0,0,0,0,0,0,0,0,0,0,0,0,0,0,0,0,0,0,0,0,0,0,0,0,null,{"$f":"IF(COUNT(DI144:DR144)=0,\"\",SUM(DI144:DR144))","v":""},{"$f":"IF(COUNT(DS144:EB144)=0,\"\",SUM(DS144:EB144))","v":""},{"$f":"IF(COUNT(EC144:EL144)=0,\"\",SUM(EC144:EL144))","v":""},{"$f":"IF(COUNT(EM144:EP144)=0,\"\",SUM(EM144:EP144))","v":""},{"$f":"IF(COUNT(EQ144:EZ144)=0,\"\",SUM(EQ144:EZ144))","v":""},{"$f":"IF(COUNT(FA144:FD144)=0,\"\",SUM(FA144:FD144))","v":""},{"$f":"IF(COUNT(FE144:FK144)=0,\"\",SUM(FE144:FK144))","v":0},{"$f":"IF(COUNT(FL144:FL144)=0,\"\",SUM(FL144:FL144))","v":0},{"$f":"IF(COUNT(FM144:FP144)=0,\"\",SUM(FM144:FP144))","v":0},{"$f":"IF(COUNT(FQ144:FQ144)=0,\"\",SUM(FQ144:FQ144))","v":0},{"$f":"IF(COUNT(FR144:FW144)=0,\"\",SUM(FR144:FW144))","v":0},{"$f":"IF(COUNT(FX144:GB144)=0,\"\",SUM(FX144:GB144))","v":0},{"$f":"IF(COUNT(GC144:GH144)=0,\"\",SUM(GC144:GH144))","v":0},0,0,0,{"$f":"IF(COUNT(H144:DH144)=0,\"\",SUM(H144:DH144))","v":""}]
[4641,"Ausflüge und Besichtigungen Gesch. WS u. Besch. ",0,0,0,"i.o.",null,null,null,null,null,null,null,null,null,null,null,null,null,null,null,null,null,null,null,null,null,null,null,null,null,null,null,null,null,null,null,null,null,null,null,null,null,null,null,null,null,null,null,null,null,null,null,null,null,null,null,null,null,null,null,null,null,null,null,null,null,null,null,null,null,null,null,null,null,null,null,null,null,null,null,null,null,null,null,null,null,null,null,null,null,null,null,null,null,null,null,null,null,null,null,null,null,null,null,null,null,null,null,null,null,null,null,null,null,null,null,null,null,null,null,null,null,null,null,null,null,null,null,null,null,null,0,0,0,0,0,0,0,0,0,0,0,0,0,0,0,0,0,0,0,0,0,0,0,0,0,0,0,0,0,0,0,0,0,0,0,0,0,0,0,0,0,0,0,0,0,0,0,0,0,0,0,0,0,0,0,0,0,0,0,0,0,0,0,0,0,0,0,0,0,0,0,0,0,0,0,0,0,0,0,0,0,0,0,0,0,0,0,0,0,0,0,null,"","",0,0,0,0,0,0,0,0,0,0,0,{"$f":"IF(COUNT(GI147:GS147)=0,\"\",SUM(GI147:GS147))","v":0},{"$f":"IF(COUNT(GT147:HD147)=0,\"\",SUM(GT147:HD147))","v":0},{"$f":"IF(COUNT(HE147:HO147)=0,\"\",SUM(HE147:HO147))","v":0},""]
[4650,"Lager",0,0,0,"i.o.",null,null,null,null,null,null,null,null,null,null,null,null,null,null,null,null,null,null,null,null,null,null,null,null,null,null,null,null,null,null,null,null,null,null,null,null,null,null,null,null,null,null,null,null,null,null,null,null,null,null,null,null,null,null,null,null,null,null,null,null,null,null,null,null,null,null,null,null,null,null,null,null,null,null,null,null,null,null,null,null,null,null,null,null,null,null,null,null,null,null,null,null,null,null,null,null,null,null,null,null,null,null,null,null,null,null,0,0,0,0,0,0,0,0,0,0,0,0,0,0,0,0,0,0,0,0,0,0,0,0,0,0,0,0,0,0,0,0,0,0,0,0,0,0,0,0,0,0,0,0,0,0,0,0,0,0,0,0,0,0,0,0,0,0,0,0,0,0,0,0,0,0,0,0,0,0,0,0,0,0,0,0,0,0,0,0,0,0,0,0,0,0,0,0,0,0,0,0,0,0,0,0,0,0,0,0,0,0,0,0,0,0,0,0,0,0,0,null,0,0,0,0,0,0,0,0,0,0,0,0,0,0,0,0,""]
[4656,"Lager Internat",0,0,{"$f":"SUM(C155:D155)","v":0},"i.o.",null,null,null,null,null,null,null,null,null,null,null,null,null,null,null,null,null,null,null,null,null,null,null,null,null,null,null,null,null,null,null,null,null,null,null,null,null,null,null,null,null,null,null,null,null,null,null,null,null,null,null,null,null,null,null,null,null,null,null,null,null,null,null,null,null,null,null,null,null,null,null,null,null,null,null,null,null,null,null,null,null,null,null,null,null,null,null,null,null,null,null,null,null,null,null,null,null,null,null,null,null,null,null,null,null,null,null,null,null,null,null,null,null,null,null,null,null,null,null,null,null,null,null,null,null,null,null,null,null,null,null,null,null,null,null,null,null,null,null,null,null,null,null,null,null,null,null,null,null,null,null,null,null,null,0,0,0,0,0,0,0,0,0,0,0,0,0,0,0,0,0,0,0,0,0,0,0,0,0,0,0,0,0,0,0,0,0,0,0,0,0,0,0,0,0,0,0,0,0,0,0,0,0,0,0,0,0,0,0,0,0,0,0,0,0,0,0,null,"","","","","","",0,0,0,0,0,0,0,0,0,0,""]
[4680,"Auslagen für Betreute/MA mit IV-Rente",0,0,{"$f":"SUM(C158:D158)","v":0},{"$f":"IF(SUM(H158:HO158)=E158,\"i.o.\",E158-SUM(H158:HO158))","v":"i.o."},null,null,null,null,null,null,null,null,null,null,null,null,null,null,null,null,null,null,null,null,null,null,0,0,0,0,0,0,0,0,0,0,0,0,0,0,0,0,0,0,0,0,0,0,0,0,0,0,0,0,0,0,0,0,0,0,0,0,0,0,0,0,0,0,0,0,0,0,0,0,0,0,0,0,0,0,0,0,null,null,null,null,null,null,null,null,null,null,null,null,null,null,0,0,0,0,0,0,0,0,0,0,0,0,0,0,0,0,0,0,0,0,0,0,0,0,0,0,0,0,0,0,0,0,0,0,0,0,0,0,0,0,0,0,0,0,0,0,0,0,0,0,0,0,0,0,0,0,0,0,0,0,0,0,0,0,0,0,0,0,0,0,0,0,0,0,0,0,0,0,0,0,0,0,0,0,0,0,0,0,0,0,0,0,0,0,0,0,0,0,0,0,0,0,0,0,0,0,0,0,0,0,0,0,0,0,0,0,0,0,0,0,0,0,0,0,0,null,{"$f":"IF(COUNT(DI158:DR158)=0,\"\",SUM(DI158:DR158))","v":0},{"$f":"IF(COUNT(DS158:EB158)=0,\"\",SUM(DS158:EB158))","v":0},{"$f":"IF(COUNT(EC158:EL158)=0,\"\",SUM(EC158:EL158))","v":0},{"$f":"IF(COUNT(EM158:EP158)=0,\"\",SUM(EM158:EP158))","v":0},{"$f":"IF(COUNT(EQ158:EZ158)=0,\"\",SUM(EQ158:EZ158))","v":0},{"$f":"IF(COUNT(FA158:FD158)=0,\"\",SUM(FA158:FD158))","v":0},{"$f":"IF(COUNT(FE158:FK158)=0,\"\",SUM(FE158:FK158))","v":0},{"$f":"IF(COUNT(FL158:FL158)=0,\"\",SUM(FL158:FL158))","v":0},{"$f":"IF(COUNT(FM158:FP158)=0,\"\",SUM(FM158:FP158))","v":0},{"$f":"IF(COUNT(FQ158:FQ158)=0,\"\",SUM(FQ158:FQ158))","v":0},{"$f":"IF(COUNT(FR158:FW158)=0,\"\",SUM(FR158:FW158))","v":0},{"$f":"IF(COUNT(FX158:GB158)=0,\"\",SUM(FX158:GB158))","v":0},{"$f":"IF(COUNT(GC158:GH158)=0,\"\",SUM(GC158:GH158))","v":0},{"$f":"IF(COUNT(GI158:GS158)=0,\"\",SUM(GI158:GS158))","v":0},{"$f":"IF(COUNT(GT158:HD158)=0,\"\",SUM(GT158:HD158))","v":0},{"$f":"IF(COUNT(HE158:HO158)=0,\"\",SUM(HE158:HO158))","v":0},{"$f":"IF(COUNT(H158:DH158)=0,\"\",SUM(H158:DH158))","v":0}]
[4720,"Zeitungen, Fachliteratur",0,0,0,"i.o.",null,null,null,null,null,null,null,null,null,null,null,null,null,null,null,null,null,null,null,null,null,null,0,0,0,0,0,0,0,0,0,0,0,0,0,0,0,0,0,0,0,0,0,0,0,0,0,0,0,0,0,0,0,0,0,0,0,0,0,0,0,0,0,0,0,0,0,0,0,0,0,0,0,0,0,0,0,0,null,null,null,null,null,null,null,null,null,null,null,null,null,null,0,0,0,0,0,0,0,0,0,0,0,0,0,0,0,0,0,0,0,0,0,0,0,0,0,0,0,0,0,0,0,0,0,0,0,0,0,0,0,0,0,0,0,0,0,0,0,0,0,0,0,0,0,0,0,0,0,0,0,0,0,0,0,0,0,0,0,0,0,0,0,0,0,0,0,0,0,0,0,0,0,0,0,0,0,0,0,0,0,0,0,0,0,0,0,0,0,0,0,0,0,0,0,0,0,0,0,0,0,0,0,0,0,0,0,0,0,0,0,0,0,0,0,0,0,null,0,0,0,0,0,0,0,0,0,0,0,0,0,0,0,0,0]
[4742,"Spesen Wohnheim",0,0,0,"i.o.",null,null,null,null,null,null,null,null,null,null,null,null,null,null,null,null,null,null,null,null,null,null,null,null,null,null,null,null,null,null,null,null,null,null,null,null,null,null,null,null,null,null,null,null,null,null,null,null,null,null,null,null,null,null,null,null,null,null,null,null,null,null,null,null,null,null,null,null,null,null,null,null,null,null,null,null,null,null,null,null,null,null,null,null,null,null,null,null,null,null,null,null,null,null,null,null,null,null,null,null,null,null,null,null,null,null,0,0,0,0,0,0,0,0,0,0,0,0,0,0,0,0,0,0,0,0,null,null,null,null,null,null,null,null,null,null,null,null,null,null,null,null,null,null,null,null,null,null,null,null,null,null,null,null,0,0,0,0,0,0,0,0,0,0,0,0,0,0,0,0,0,0,0,0,0,0,0,0,0,0,0,0,0,0,0,0,0,0,0,0,0,0,0,0,0,0,0,0,0,0,0,0,0,0,0,0,0,0,0,0,0,0,0,0,0,0,0,null,0,0,"","","","",0,0,0,0,0,0,0,0,0,0,""]
[4746,"Spesen Internat",0,0,0,"i.o.",null,null,null,null,null,null,null,null,null,null,null,null,null,null,null,null,null,null,null,null,null,null,null,null,null,null,null,null,null,null,null,null,null,null,null,null,null,null,null,null,null,null,null,null,null,null,null,null,null,null,null,null,null,null,null,null,null,null,null,null,null,null,null,null,null,null,null,null,null,null,null,null,null,null,null,null,null,null,null,null,null,null,null,null,null,null,null,null,null,null,null,null,null,null,null,null,null,null,null,null,null,null,null,null,null,null,null,null,null,null,null,null,null,null,null,null,null,null,null,null,null,null,null,null,null,null,null,null,null,null,null,null,null,null,null,null,null,null,null,null,null,null,null,null,null,null,null,null,null,null,null,null,null,null,0,0,0,0,0,0,0,0,0,0,0,0,0,0,0,0,0,0,0,0,0,0,0,0,0,0,0,0,0,0,0,0,0,0,0,0,0,0,0,0,0,0,0,0,0,0,0,0,0,0,0,0,0,0,0,0,0,0,0,0,0,0,0,null,"","","","","","",0,0,0,0,0,0,0,0,0,0,""]
[4750,"Informatik- & Kommunikationssoftwareunterhalt",0,0,0,"i.o.",null,null,null,null,null,null,null,null,null,null,null,null,null,null,null,null,null,null,null,null,null,null,0,0,0,0,0,0,0,0,0,0,0,0,0,0,0,0,0,0,0,0,0,0,0,0,0,0,0,0,0,0,0,0,0,0,0,0,0,0,0,0,0,0,0,0,0,0,0,0,0,0,0,0,0,0,0,0,null,null,null,null,null,null,null,null,null,null,null,null,null,null,0,0,0,0,0,0,0,0,0,0,0,0,0,0,0,0,0,0,0,0,0,0,0,0,0,0,0,0,0,0,0,0,0,0,0,0,0,0,0,0,0,0,0,0,0,0,0,0,0,0,0,0,0,0,0,0,0,0,0,0,0,0,0,0,0,0,0,0,0,0,0,0,0,0,0,0,0,0,0,0,0,0,0,0,0,0,0,0,0,0,0,0,0,0,0,0,0,0,0,0,0,0,0,0,0,0,0,0,0,0,0,0,0,0,0,0,0,0,0,0,0,0,0,0,0,null,0,0,0,0,0,0,0,0,0,0,0,0,0,0,0,0,0]
[4780,"Beratungen, Rechnungsrevision",0,0,0,"i.o.",null,null,null,null,null,null,null,null,null,null,null,null,null,null,null,null,null,null,null,null,null,null,0,0,0,0,0,0,0,null,null,null,null,null,null,null,null,null,null,null,null,null,null,null,null,null,null,null,null,null,null,null,null,null,null,null,null,null,null,null,null,null,null,null,null,null,null,null,null,null,null,null,null,null,null,null,null,null,null,null,null,null,null,null,null,null,null,null,null,null,null,null,null,null,null,null,null,null,null,null,null,null,null,null,null,null,null,null,null,null,null,null,null,null,null,null,null,null,null,null,null,null,null,null,null,null,null,null,null,null,null,null,null,null,null,null,null,null,null,null,null,null,null,null,null,null,null,null,null,null,null,null,null,null,0,0,0,0,0,0,0,0,0,0,0,0,0,0,0,0,0,0,0,0,0,0,0,0,0,0,0,0,0,0,0,0,0,0,0,0,0,0,0,0,0,0,0,0,0,0,0,0,0,0,0,0,0,0,0,0,0,0,0,0,0,0,0,null,"","","","","","",0,0,0,0,0,0,0,0,0,0,0]
[4810,"Rohmaterial-Einkauf",0,0,0,"i.o.",null,null,null,null,null,null,null,null,null,null,null,null,null,null,null,null,null,null,null,null,null,null,null,null,null,null,null,null,null,null,null,null,null,null,null,null,null,null,null,null,null,null,null,null,null,null,null,null,null,null,null,null,null,null,null,null,null,null,null,null,null,null,null,null,null,null,null,null,null,null,null,null,null,null,null,null,null,null,null,null,null,null,null,null,null,null,null,null,null,null,null,null,null,null,null,null,null,null,null,null,null,null,null,null,null,null,null,null,null,null,null,null,null,null,null,null,null,null,null,null,null,null,null,null,null,null,0,0,0,0,0,0,0,0,0,0,0,0,0,0,null,null,null,null,null,null,null,null,null,null,null,null,null,null,0,0,0,0,0,0,0,0,0,0,0,0,0,0,0,0,0,0,0,0,0,0,0,0,0,0,0,0,0,0,0,0,0,0,0,0,0,0,0,0,0,0,0,0,0,0,0,0,0,0,0,0,0,0,0,0,0,0,0,0,0,0,0,null,"","",0,0,"","",0,0,0,0,0,0,0,0,0,0,""]
[4850,"Fremdarbeiten an Erzeugnissen",0,0,0,"i.o.",null,null,null,null,null,null,null,null,null,null,null,null,null,null,null,null,null,null,null,null,null,null,null,null,null,null,null,null,null,null,null,null,null,null,null,null,null,null,null,null,null,null,null,null,null,null,null,null,null,null,null,null,null,null,null,null,null,null,null,null,null,null,null,null,null,null,null,null,null,null,null,null,null,null,null,null,null,null,null,null,null,null,null,null,null,null,null,null,null,null,null,null,null,null,null,null,null,null,null,null,null,null,null,null,null,null,null,null,null,null,null,null,null,null,null,null,null,null,null,null,null,null,null,null,null,null,0,0,0,0,0,0,0,0,0,0,0,0,0,0,null,null,null,null,null,null,null,null,null,null,null,null,null,null,0,0,0,0,0,0,0,0,0,0,0,0,0,0,0,0,0,0,0,0,0,0,0,0,0,0,0,0,0,0,0,0,0,0,0,0,0,0,0,0,0,0,0,0,0,0,0,0,0,0,0,0,0,0,0,0,0,0,0,0,0,0,0,null,"","",0,0,"","",0,0,0,0,0,0,0,0,0,0,""]
[490,"Übriger Sachaufwand",{"$f":"SUM(C184:C194)","v":0},{"$f":"SUM(D184:D194)","v":0},{"$f":"SUM(C183:D183)","v":0},"i.o.",null,{"$f":"SUM(H184:H194)","v":0},0,0,0,0,0,0,0,0,0,0,0,0,0,0,0,0,0,0,0,0,0,0,0,0,0,0,0,0,0,0,0,0,0,0,0,0,0,0,0,0,0,0,0,0,0,0,0,0,0,0,0,0,0,0,0,0,0,0,0,0,0,0,0,{"$f":"SUM(BT184:BT194)","v":0},0,0,0,0,0,0,0,0,0,0,0,0,0,0,0,0,0,0,0,0,0,0,0,0,0,0,0,0,0,0,0,0,0,0,0,0,0,0,0,0,0,0,0,0,0,0,0,0,0,0,0,0,0,0,0,0,0,0,0,0,0,0,0,{"$f":"SUM(EF184:EF194)","v":0},0,0,0,0,0,0,0,0,0,0,0,0,0,0,0,0,0,0,0,0,0,0,0,0,0,0,0,0,0,0,0,0,0,0,0,0,0,0,0,0,0,0,0,0,0,0,0,0,0,0,0,0,0,0,0,0,0,0,0,0,0,0,0,{"$f":"SUM(GR184:GR194)","v":0},0,0,0,0,0,0,0,0,0,0,0,0,0,0,0,0,0,0,0,0,0,0,0,null,0,0,0,0,0,0,0,0,0,0,0,0,0,0,0,0,0]
[4903,"Schüler Haftpflichtversicherung",0,0,0,"i.o.",null,null,null,null,null,null,null,null,null,null,null,null,null,null,null,null,null,null,null,null,null,null,null,null,null,null,null,null,null,null,null,null,null,null,null,null,null,null,null,null,null,null,null,null,null,null,null,null,null,null,null,null,null,null,null,null,null,null,null,null,null,null,null,null,null,null,null,null,null,null,null,null,null,null,null,null,null,null,null,null,null,null,null,null,null,null,null,null,null,null,null,null,null,null,null,null,null,null,null,null,null,null,null,null,null,null,null,null,null,null,null,null,null,null,null,null,null,null,null,null,null,null,null,null,null,null,null,null,null,null,null,null,null,null,null,null,null,null,null,null,null,null,null,null,null,null,null,null,null,null,null,null,null,null,0,0,0,0,0,0,0,0,0,0,0,0,0,0,0,0,0,0,0,0,0,0,0,0,0,0,0,0,0,0,0,0,0,0,0,0,0,0,0,0,0,0,0,0,0,0,0,0,0,0,0,0,0,0,0,0,0,0,0,0,0,0,0,null,"","","","","","",0,0,0,0,0,0,0,0,0,0,""]
[4951,"Aufwand für Transporte",0,0,0,"i.o.",null,null,null,null,null,null,null,null,null,null,null,null,null,null,null,null,null,null,null,null,null,null,null,null,null,null,null,null,null,0,0,0,0,0,0,0,0,0,0,0,0,0,0,null,null,null,null,null,null,null,null,null,null,null,null,null,null,null,null,null,null,null,null,null,null,null,null,null,null,null,null,null,null,null,null,null,null,null,null,null,null,null,null,null,null,null,null,null,null,null,null,null,null,null,null,null,null,null,null,null,null,null,null,null,null,null,0,0,0,0,0,0,0,0,0,0,0,0,0,0,0,0,0,0,0,0,0,0,0,0,0,0,0,0,0,0,0,0,0,0,0,0,0,0,0,0,0,0,0,0,0,0,0,0,0,0,0,0,0,0,0,0,0,0,0,0,0,0,0,0,0,0,0,0,0,0,0,0,0,0,0,0,0,0,0,0,0,0,0,0,0,0,0,0,0,0,0,0,0,0,0,0,0,0,0,0,0,0,0,0,0,0,0,0,0,0,0,null,0,0,0,0,0,0,0,0,0,0,0,0,0,0,0,0,0]
[4952,"Taxen an Dritte für Time-Out Aufenthalte",0,0,0,"i.o.",null,null,null,null,null,null,null,null,null,null,null,null,null,null,null,null,null,null,null,null,null,null,null,null,null,null,null,null,null,null,null,null,null,null,null,null,null,null,null,null,null,null,null,null,null,null,null,null,null,null,null,null,null,null,null,null,null,null,null,null,null,null,null,null,null,null,null,null,null,null,null,null,null,null,null,null,null,null,0,0,0,0,0,0,0,0,0,0,0,0,0,0,null,null,null,null,null,null,null,null,null,null,null,null,null,null,0,0,0,0,0,0,0,0,0,0,0,0,0,0,0,0,0,0,0,0,null,null,null,null,null,null,null,null,null,null,null,null,null,null,null,null,null,null,null,null,null,null,null,null,null,null,null,null,0,0,0,0,0,0,0,0,0,0,0,0,0,0,0,0,0,0,0,0,0,0,0,0,0,0,0,0,0,0,0,0,0,0,0,0,0,0,0,0,0,0,0,0,0,0,0,0,0,0,0,0,0,0,0,0,0,0,0,0,0,0,0,null,0,0,"","","","",0,0,0,0,0,0,0,0,0,0,0]
[4990,"Übriger Sachaufwand",0,0,0,"i.o.",null,null,null,null,null,null,null,null,null,null,null,null,null,null,null,null,null,null,null,null,null,null,0,0,0,0,0,0,0,0,0,0,0,0,0,0,0,0,0,0,0,0,0,0,0,0,0,0,0,0,0,0,0,0,0,0,0,0,0,0,0,0,0,0,0,0,0,0,0,0,0,0,0,0,0,0,0,0,null,null,null,null,null,null,null,null,null,null,null,null,null,null,0,0,0,0,0,0,0,0,0,0,0,0,0,0,0,0,0,0,0,0,0,0,0,0,0,0,0,0,0,0,0,0,0,0,0,0,0,0,0,0,0,0,0,0,0,0,0,0,0,0,0,0,0,0,0,0,0,0,0,0,0,0,0,0,0,0,0,0,0,0,0,0,0,0,0,0,0,0,0,0,0,0,0,0,0,0,0,0,0,0,0,0,0,0,0,0,0,0,0,0,0,0,0,0,0,0,0,0,0,0,0,0,0,0,0,0,0,0,0,0,0,0,0,0,0,null,0,0,0,0,0,0,0,0,0,0,0,0,0,0,0,0,0]
[]
[null,{"$f":"CONCATENATE(\"Umlage \",Grunddaten!C10)","v":"Umlage Reserve"},null,null,null,{"$f":"IF(ROUND(I$195+SUM(I200:I220),12)=0,\"i.o.\",I$195+SUM(I200:I220))","v":"i.o."},null,null,{"$f":"-SUM(J201:$HO201,$H201:H201)","v":0},null,null,null,null,null,null,null,null,null,null,null,null,null,null,null,null,null,null,null,0,0,0,0,0,0,0,0,0,0,0,0,0,0,0,0,0,0,0,0,0,0,0,0,0,0,0,0,0,0,0,0,0,0,0,0,0,0,0,0,0,0,0,0,0,0,0,0,0,0,0,0,0,0,0,0,0,0,0,0,0,0,0,0,0,0,0,0,0,0,0,0,0,0,0,0,0,0,0,0,0,0,0,0,0,0,0,0,0,0,0,0,0,0,0,0,0,0,0,0,0,0,0,0,0,0,0,0,0,0,0,0,0,0,0,0,0,0,0,0,0,0,0,0,0,0,0,0,0,0,0,0,0,0,0,0,0,0,0,0,0,0,0,0,0,0,0,0,0,0,0,0,0,0,0,0,0,0,0,0,0,0,0,0,0,0,0,0,0,0,0,0,0,0,0,0,0,0,0,0,0,0,0,0,0,0,0,0,0,0,0,0,0,0,0,null,0,0,0,0,0,0,0,0,0,0,0,0,0,0,{"$f":"IF(COUNT(GT201:HD201)=0,\"\",SUM(GT201:HD201))","v":0},{"$f":"IF(COUNT(HE201:HO201)=0,\"\",SUM(HE201:HO201))","v":0}]
[null,{"$f":"CONCATENATE(\"Umlage \",Grunddaten!C14)","v":"Umlage Reserve"},null,null,null,{"$f":"IF(ROUND(M$195+SUM(M200:M220),12)=0,\"i.o.\",M$195+SUM(M200:M220))","v":"i.o."},null,null,null,null,null,null,{"$f":"-SUM(N205:$HO205,$H205:L205)","v":0},null,null,null,null,null,null,null,null,null,null,null,null,null,null,null,0,0,0,0,0,0,0,0,0,0,0,0,0,0,0,0,0,0,0,0,0,0,0,0,0,0,0,0,0,0,0,0,0,0,0,0,0,0,0,0,0,0,0,0,0,0,0,0,0,0,0,0,0,0,0,0,0,0,0,0,0,0,0,0,0,0,0,0,0,0,0,0,0,0,0,0,0,0,0,0,0,0,0,0,0,0,0,0,0,0,0,0,0,0,0,0,0,0,0,0,0,0,0,0,0,0,0,0,0,0,0,0,0,0,0,0,0,0,0,0,0,0,0,0,0,0,0,0,0,0,0,0,0,0,0,0,0,0,0,0,0,0,0,0,0,0,0,0,0,0,0,0,0,0,0,0,0,0,0,0,0,0,0,0,0,0,0,0,0,0,0,0,0,0,0,0,0,0,0,0,0,0,0,0,0,0,0,0,0,0,0,0,0,0,0,null,0,0,0,0,0,0,0,0,0,0,0,0,0,0,0,0]
[null,{"$f":"CONCATENATE(\"Umlage \",Grunddaten!C17)","v":"Umlage Reserve"},null,null,null,{"$f":"IF(ROUND(P$195+SUM(P200:P220),12)=0,\"i.o.\",P$195+SUM(P200:P220))","v":"i.o."},null,null,null,null,null,null,null,null,null,{"$f":"-SUM(Q208:$HO208,$H208:O208)","v":0},null,null,null,null,null,null,null,null,null,null,null,null,0,0,0,0,0,0,0,0,0,0,0,0,0,0,0,0,0,0,0,0,0,0,0,0,0,0,0,0,0,0,0,0,0,0,0,0,0,0,0,0,0,0,0,0,0,0,0,0,0,0,0,0,0,0,0,0,0,0,0,0,0,0,0,0,0,0,0,0,0,0,0,0,0,0,0,0,0,0,0,0,0,0,0,0,0,0,0,0,0,0,0,0,0,0,0,0,0,0,0,0,0,0,0,0,0,0,0,0,0,0,0,0,0,0,0,0,0,0,0,0,0,0,0,0,0,0,0,0,0,0,0,0,0,0,0,0,0,0,0,0,0,0,0,0,0,0,0,0,0,0,0,0,0,0,0,0,0,0,0,0,0,0,0,0,0,0,0,0,0,0,0,0,0,0,0,0,0,0,0,0,0,0,0,0,0,0,0,0,0,0,0,0,0,0,0,null,0,0,0,0,0,0,0,0,0,0,0,0,0,0,0,0]
[null,{"$f":"CONCATENATE(\"Umlage \",Grunddaten!C21)","v":"Umlage Reserve"},null,null,null,{"$f":"IF(ROUND(T$195+SUM(T200:T220),12)=0,\"i.o.\",T$195+SUM(T200:T220))","v":"i.o."},null,null,null,null,null,null,null,null,null,null,null,null,null,{"$f":"-SUM(U212:$HO212,$H212:S212)","v":0},null,null,null,null,null,null,null,null,0,0,0,0,0,0,0,0,0,0,0,0,0,0,0,0,0,0,0,0,0,0,0,0,0,0,0,0,0,0,0,0,0,0,0,0,0,0,0,0,0,0,0,0,0,0,0,0,0,0,0,0,0,0,0,0,0,0,0,0,0,0,0,0,0,0,0,0,0,0,0,0,0,0,0,0,0,0,0,0,0,0,0,0,0,0,0,0,0,0,0,0,0,0,0,0,0,0,0,0,0,0,0,0,0,0,0,0,0,0,0,0,0,0,0,0,0,0,0,0,0,0,0,0,0,0,0,0,0,0,0,0,0,0,0,0,0,0,0,0,0,0,0,0,0,0,0,0,0,0,0,0,0,0,0,0,0,0,0,0,0,0,0,0,0,0,0,0,0,0,0,0,0,0,0,0,0,0,0,0,0,0,0,0,0,0,0,0,0,0,0,0,0,0,0,null,0,0,0,0,0,0,0,0,0,0,0,0,0,0,0,0]
[null,{"$f":"CONCATENATE(\"Umlage \",Grunddaten!C24)","v":"Umlage Reserve"},null,null,null,{"$f":"IF(ROUND(W$195+SUM(W200:W220),12)=0,\"i.o.\",W$195+SUM(W200:W220))","v":"i.o."},null,null,null,null,null,null,null,null,null,null,null,null,null,null,null,null,{"$f":"-SUM(X215:$HO215,$H215:V215)","v":0},null,null,null,null,null,0,0,0,0,0,0,0,0,0,0,0,0,0,0,0,0,0,0,0,0,0,0,0,0,0,0,0,0,0,0,0,0,0,0,0,0,0,0,0,0,0,0,0,0,0,0,0,0,0,0,0,0,0,0,0,0,0,0,0,0,0,0,0,0,0,0,0,0,0,0,0,0,0,0,0,0,0,0,0,0,0,0,0,0,0,0,0,0,0,0,0,0,0,0,0,0,0,0,0,0,0,0,0,0,0,0,0,0,0,0,0,0,0,0,0,0,0,0,0,0,0,0,0,0,0,0,0,0,0,0,0,0,0,0,0,0,0,0,0,0,0,0,0,0,0,0,0,0,0,0,0,0,0,0,0,0,0,0,0,0,0,0,0,0,0,0,0,0,0,0,0,0,0,0,0,0,0,0,0,0,0,0,0,0,0,0,0,0,0,0,0,0,0,0,0,null,{"$f":"IF(COUNT(DI215:DS215)=0,\"\",SUM(DI215:DS215))","v":0},{"$f":"IF(COUNT(DS215:DT215)=0,\"\",SUM(DS215:DT215))","v":0},0,0,0,0,0,0,{"$f":"IF(COUNT(FM215:FW215)=0,\"\",SUM(FM215:FW215))","v":0},{"$f":"IF(COUNT(FQ215:FX215)=0,\"\",SUM(FQ215:FX215))","v":0},0,{"$f":"IF(COUNT(FX215:GH215)=0,\"\",SUM(FX215:GH215))","v":0},0,0,0,0]
[null,{"$f":"CONCATENATE(\"Umlage \",Grunddaten!C25)","v":"Umlage Reserve"},null,null,null,{"$f":"IF(ROUND(X$195+SUM(X200:X220),12)=0,\"i.o.\",X$195+SUM(X200:X220))","v":"i.o."},null,null,null,null,null,null,null,null,null,null,null,null,null,null,null,null,null,{"$f":"-SUM(Y216:$HO216,$H216:W216)","v":0},null,null,null,null,0,0,0,0,0,0,0,0,0,0,0,0,0,0,0,0,0,0,0,0,0,0,0,0,0,0,0,0,0,0,0,0,0,0,0,0,0,0,0,0,0,0,0,0,0,0,0,0,0,0,0,0,0,0,0,0,0,0,0,0,0,0,0,0,0,0,0,0,0,0,0,0,0,0,0,0,0,0,0,0,0,0,0,0,0,0,0,0,0,0,0,0,0,0,0,0,0,0,0,0,0,0,0,0,0,0,0,0,0,0,0,0,0,0,0,0,0,0,0,0,0,0,0,0,0,0,0,0,0,0,0,0,0,0,0,0,0,0,0,0,0,0,0,0,0,0,0,0,0,0,0,0,0,0,0,0,0,0,0,0,0,0,0,0,0,0,0,0,0,0,0,0,0,0,0,0,0,0,0,0,0,0,0,0,0,0,0,0,0,0,0,0,0,0,0,null,0,0,0,0,0,0,0,0,0,0,0,0,0,0,0,0]
[null,{"$f":"CONCATENATE(\"Umlage \",Grunddaten!C28)","v":"Umlage Reserve"},null,null,null,{"$f":"IF(ROUND(AA$195+SUM(AA200:AA220),12)=0,\"i.o.\",AA$195+SUM(AA200:AA220))","v":"i.o."},null,null,null,null,null,null,null,null,null,null,null,null,null,null,null,null,null,null,null,null,{"$f":"-SUM(AB219:$HO219,$H219:Z219)","v":0},null,0,0,0,0,0,0,0,0,0,0,0,0,0,0,0,0,0,0,0,0,0,0,0,0,0,0,0,0,0,0,0,0,0,0,0,0,0,0,0,0,0,0,0,0,0,0,0,0,0,0,0,0,0,0,0,0,0,0,0,0,0,0,0,0,0,0,0,0,0,0,0,0,0,0,0,0,0,0,0,0,0,0,0,0,0,0,0,0,0,0,0,0,0,0,0,0,0,0,0,0,0,0,0,0,0,0,0,0,0,0,0,0,0,0,0,0,0,0,0,0,0,0,0,0,0,0,0,0,0,0,0,0,0,0,0,0,0,0,0,0,0,0,0,0,0,0,0,0,0,0,0,0,0,0,0,0,0,0,0,0,0,0,0,0,0,0,0,0,0,0,0,0,0,0,0,0,0,0,0,0,0,0,0,0,0,0,0,0,0,0,0,0,0,0,0,null,0,0,0,0,0,0,0,0,0,0,0,0,0,0,0,0]
[null,"Umlage Hilfskostenstellen",null,null,null,"Noch umzulegen"]
[null,{"$f":"CONCATENATE(\"Umlage \",Grunddaten!C35)","v":"Umlage Reserve"},null,null,null,{"$f":"IF(ROUND(AF221+SUM(AF223:AF306),12)=0,\"i.o.\",AF221+SUM(AF223:AF306))","v":"i.o."},null,null,null,null,null,null,null,null,null,null,null,null,null,null,null,null,null,null,null,null,null,null,null,null,null,{"$f":"-SUM($AC226:AE226,AG226:$HO226)","v":0},null,null,null,null,null,null,null,null,null,null,null,null,null,null,null,null,null,null,null,null,null,null,null,null,null,null,null,null,null,null,null,null,null,null,null,null,null,null,null,null,null,null,null,null,null,null,null,null,null,null,null,null,null,null,null,null,null,null,null,null,null,null,null,null,null,null,null,null,null,null,null,null,null,null,null,null,null,null,null,null,0,0,0,0,0,0,0,0,0,0,0,0,0,0,0,0,0,0,0,0,0,0,0,0,0,0,0,0,0,0,0,0,0,0,0,0,0,0,0,0,0,0,0,0,0,0,0,0,0,0,0,0,0,0,0,0,0,0,0,0,0,0,0,0,0,0,0,0,0,0,0,0,0,0,0,0,0,0,0,0,0,0,0,0,0,0,0,0,0,0,0,0,0,0,0,0,0,0,0,0,0,0,0,0,0,0,0,0,0,0,0,null,0,0,0,0,0,0,0,0,0,0,0,0,0,0,0,0]
[null,{"$f":"CONCATENATE(\"Umlage \",Grunddaten!C39)","v":"Umlage Transportdienst"},null,null,null,{"$f":"IF(ROUND(AJ221+SUM(AJ223:AJ306),12)=0,\"i.o.\",AJ221+SUM(AJ223:AJ306))","v":"i.o."},null,null,null,null,null,null,null,null,null,null,null,null,null,null,null,null,null,null,null,null,null,null,null,null,null,null,null,null,null,{"$f":"-SUM($AC230:AI230,AK230:$HO230)","v":0},null,null,null,null,null,null,null,null,null,null,null,null,null,null,null,null,null,null,null,null,null,null,null,null,null,null,null,null,null,null,null,null,null,null,null,null,null,null,null,null,null,null,null,null,null,null,null,null,null,null,null,null,null,null,null,null,null,null,null,null,null,null,null,null,null,null,null,null,null,null,null,null,null,null,null,null,0,0,0,0,0,0,0,0,0,0,0,0,0,0,0,0,0,0,0,0,0,0,0,0,0,0,0,0,0,0,0,0,0,0,0,0,0,0,0,0,0,0,0,0,0,0,0,0,0,0,0,0,0,0,0,0,0,0,0,0,0,0,0,0,0,0,0,0,0,0,0,0,0,0,0,0,0,0,0,0,0,0,0,0,0,0,0,0,0,0,0,0,0,0,0,0,0,0,0,0,0,0,0,0,0,0,0,0,0,0,0,null,0,0,0,0,0,0,0,0,0,0,0,0,0,0,0,0]
[null,{"$f":"CONCATENATE(\"Umlage \",Grunddaten!C42)","v":"Umlage Reserve"},null,null,null,{"$f":"IF(ROUND(AM221+SUM(AM223:AM306),12)=0,\"i.o.\",AM221+SUM(AM223:AM306))","v":"i.o."},null,null,null,null,null,null,null,null,null,null,null,null,null,null,null,null,null,null,null,null,null,null,null,null,null,null,null,null,null,null,null,null,{"$f":"-SUM($AC233:AL233,AN233:$HO233)","v":0},null,null,null,null,null,null,null,null,null,null,null,null,null,null,null,null,null,null,null,null,null,null,null,null,null,null,null,null,null,null,null,null,null,null,null,null,null,null,null,null,null,null,null,null,null,null,null,null,null,null,null,null,null,null,null,null,null,null,null,null,null,null,null,null,null,null,null,null,null,null,null,null,null,0,0,0,0,0,0,0,0,0,0,0,0,0,0,0,0,0,0,0,0,0,0,0,0,0,0,0,0,0,0,0,0,0,0,0,0,0,0,0,0,0,0,0,0,0,0,0,0,0,0,0,0,0,0,0,0,0,0,0,0,0,0,0,0,0,0,0,0,0,0,0,0,0,0,0,0,0,0,0,0,0,0,0,0,0,0,0,0,0,0,0,0,0,0,0,0,0,0,0,0,0,0,0,0,0,0,0,0,0,0,0,null,0,0,0,0,0,0,0,0,0,0,0,0,0,0,0,0]
[null,{"$f":"CONCATENATE(\"Umlage \",Grunddaten!C46)","v":"Umlage Transport inkl. Betreuung zu und von TS"},null,null,null,{"$f":"IF(ROUND(AQ221+SUM(AQ223:AQ306),12)=0,\"i.o.\",AQ221+SUM(AQ223:AQ306))","v":"i.o."},null,null,null,null,null,null,null,null,null,null,null,null,null,null,null,null,null,null,null,null,null,null,null,null,null,null,null,null,null,null,null,null,null,null,null,null,{"$f":"-SUM($AC237:AP237,AR237:$HO237)","v":0},null,null,null,null,null,null,null,null,null,null,null,null,null,null,null,null,null,null,null,null,null,null,null,null,null,null,null,null,null,null,null,null,null,null,null,null,null,null,null,null,null,null,null,null,null,null,null,null,null,null,null,null,null,null,null,null,null,null,null,null,null,null,null,null,null,null,null,null,null,0,0,0,0,0,0,0,0,0,0,0,0,0,0,0,0,0,0,0,0,0,0,0,0,0,0,0,0,0,0,0,0,0,0,0,0,0,0,0,0,0,0,0,0,0,0,0,0,0,0,0,0,0,0,0,0,0,0,0,0,0,0,0,0,0,0,0,0,0,0,0,0,0,0,0,0,0,0,0,0,0,0,0,0,0,0,0,0,0,0,0,0,0,0,0,0,0,0,0,0,0,0,0,0,0,0,0,0,0,0,0,null,0,0,0,0,0,0,0,0,0,0,0,0,0,0,0,0]
[null,{"$f":"CONCATENATE(\"Umlage \",Grunddaten!C49)","v":"Umlage Reserve"},null,null,null,{"$f":"IF(ROUND(AT221+SUM(AT223:AT306),12)=0,\"i.o.\",AT221+SUM(AT223:AT306))","v":"i.o."},null,null,null,null,null,null,null,null,null,null,null,null,null,null,null,null,null,null,null,null,null,null,null,null,null,null,null,null,null,null,null,null,null,null,null,null,null,null,null,{"$f":"-SUM($AC240:AS240,AU240:$HO240)","v":0},null,null,null,null,null,null,null,null,null,null,null,null,null,null,null,null,null,null,null,null,null,null,null,null,null,null,null,null,null,null,null,null,null,null,null,null,null,null,null,null,null,null,null,null,null,null,null,null,null,null,null,null,null,null,null,null,null,null,null,null,null,null,null,null,null,null,0,0,0,0,0,0,0,0,0,0,0,0,0,0,0,0,0,0,0,0,0,0,0,0,0,0,0,0,0,0,0,0,0,0,0,0,0,0,0,0,0,0,0,0,0,0,0,0,0,0,0,0,0,0,0,0,0,0,0,0,0,0,0,0,0,0,0,0,0,0,0,0,0,0,0,0,0,0,0,0,0,0,0,0,0,0,0,0,0,0,0,0,0,0,0,0,0,0,0,0,0,0,0,0,0,0,0,0,0,0,0,null,0,0,0,0,0,0,0,0,0,0,0,0,0,0,0,0]
[null,{"$f":"CONCATENATE(\"Umlage \",Grunddaten!C50)","v":"Umlage Reserve"},null,null,null,{"$f":"IF(ROUND(AU221+SUM(AU223:AU306),12)=0,\"i.o.\",AU221+SUM(AU223:AU306))","v":"i.o."},null,null,null,null,null,null,null,null,null,null,null,null,null,null,null,null,null,null,null,null,null,null,null,null,null,null,null,null,null,null,null,null,null,null,null,null,null,null,null,null,{"$f":"-SUM($AC241:AT241,AV241:$HO241)","v":0},null,null,null,null,null,null,null,null,null,null,null,null,null,null,null,null,null,null,null,null,null,null,null,null,null,null,null,null,null,null,null,null,null,null,null,null,null,null,null,null,null,null,null,null,null,null,null,null,null,null,null,null,null,null,null,null,null,null,null,null,null,null,null,null,null,0,0,0,0,0,0,0,0,0,0,0,0,0,0,0,0,0,0,0,0,0,0,0,0,0,0,0,0,0,0,0,0,0,0,0,0,0,0,0,0,0,0,0,0,0,0,0,0,0,0,0,0,0,0,0,0,0,0,0,0,0,0,0,0,0,0,0,0,0,0,0,0,0,0,0,0,0,0,0,0,0,0,0,0,0,0,0,0,0,0,0,0,0,0,0,0,0,0,0,0,0,0,0,0,0,0,0,0,0,0,0,null,0,0,0,0,0,0,0,0,0,0,0,0,0,0,0,0]
[null,{"$f":"CONCATENATE(\"Umlage \",Grunddaten!C53)","v":"Umlage Technischer Dienst / Hauswartung"},null,null,null,{"$f":"IF(ROUND(AX221+SUM(AX223:AX306),12)=0,\"i.o.\",AX221+SUM(AX223:AX306))","v":"i.o."},null,null,null,null,null,null,null,null,null,null,null,null,null,null,null,null,null,null,null,null,null,null,null,null,null,null,null,null,null,null,null,null,null,null,null,null,null,null,null,null,null,null,null,{"$f":"-SUM($AC244:AW244,AY244:$HO244)","v":0},null,null,null,null,null,null,null,null,null,null,null,null,null,null,null,null,null,null,null,null,null,null,null,null,null,null,null,null,null,null,null,null,null,null,null,null,null,null,null,null,null,null,null,null,null,null,null,null,null,null,null,null,null,null,null,null,null,null,null,null,null,null,0,0,0,0,0,0,0,0,0,0,0,0,0,0,0,0,0,0,0,0,0,0,0,0,0,0,0,0,0,0,0,0,0,0,0,0,0,0,0,0,0,0,0,0,0,0,0,0,0,0,0,0,0,0,0,0,0,0,0,0,0,0,0,0,0,0,0,0,0,0,0,0,0,0,0,0,0,0,0,0,0,0,0,0,0,0,0,0,0,0,0,0,0,0,0,0,0,0,0,0,0,0,0,0,0,0,0,0,0,0,0,null,0,0,0,0,0,0,0,0,0,0,0,0,0,0,0,0]
[null,{"$f":"CONCATENATE(\"Umlage \",Grunddaten!C56)","v":"Umlage Reserve"},null,null,null,{"$f":"IF(ROUND(BA221+SUM(BA223:BA306),12)=0,\"i.o.\",BA221+SUM(BA223:BA306))","v":"i.o."},null,null,null,null,null,null,null,null,null,null,null,null,null,null,null,null,null,null,null,null,null,null,null,null,null,null,null,null,null,null,null,null,null,null,null,null,null,null,null,null,null,null,null,null,null,null,{"$f":"-SUM($AC247:AZ247,BB247:$HO247)","v":0},null,null,null,null,null,null,null,null,null,null,null,null,null,null,null,null,null,null,null,null,null,null,null,null,null,null,null,null,null,null,null,null,null,null,null,null,null,null,null,null,null,null,null,null,null,null,null,null,null,null,null,null,null,null,null,null,null,null,null,0,0,0,0,0,0,0,0,0,0,0,0,0,0,0,0,0,0,0,0,0,0,0,0,0,0,0,0,0,0,0,0,0,0,0,0,0,0,0,0,0,0,0,0,0,0,0,0,0,0,0,0,0,0,0,0,0,0,0,0,0,0,0,0,0,0,0,0,0,0,0,0,0,0,0,0,0,0,0,0,0,0,0,0,0,0,0,0,0,0,0,0,0,0,0,0,0,0,0,0,0,0,0,0,0,0,0,0,0,0,0,null,0,0,0,0,0,0,0,0,0,0,0,0,0,0,0,0]
[null,{"$f":"CONCATENATE(\"Umlage \",Grunddaten!C60)","v":"Umlage Reinigung / Haushalt"},null,null,null,{"$f":"IF(ROUND(BE221+SUM(BE223:BE306),12)=0,\"i.o.\",BE221+SUM(BE223:BE306))","v":"i.o."},null,null,null,null,null,null,null,null,null,null,null,null,null,null,null,null,null,null,null,null,null,null,null,null,null,null,null,null,null,null,null,null,null,null,null,null,null,null,null,null,null,null,null,null,null,null,null,null,null,null,{"$f":"-SUM($AC251:BD251,BF251:$HO251)","v":0},null,null,null,null,null,null,null,null,null,null,null,null,null,null,null,null,null,null,null,null,null,null,null,null,null,null,null,null,null,null,null,null,null,null,null,null,null,null,null,null,null,null,null,null,null,null,null,null,null,null,null,null,null,null,null,0,0,0,0,0,0,0,0,0,0,0,0,0,0,0,0,0,0,0,0,0,0,0,0,0,0,0,0,0,0,0,0,0,0,0,0,0,0,0,0,0,0,0,0,0,0,0,0,0,0,0,0,0,0,0,0,0,0,0,0,0,0,0,0,0,0,0,0,0,0,0,0,0,0,0,0,0,0,0,0,0,0,0,0,0,0,0,0,0,0,0,0,0,0,0,0,0,0,0,0,0,0,0,0,0,0,0,0,0,0,0,null,0,0,0,0,0,0,0,0,0,0,0,0,0,0,0,0]
[null,{"$f":"CONCATENATE(\"Umlage \",Grunddaten!C64)","v":"Umlage Reserve"},null,null,null,{"$f":"IF(ROUND(BI221+SUM(BI223:BI306),12)=0,\"i.o.\",BI221+SUM(BI223:BI306))","v":"i.o."},null,null,null,null,null,null,null,null,null,null,null,null,null,null,null,null,null,null,null,null,null,null,null,null,null,null,null,null,null,null,null,null,null,null,null,null,null,null,null,null,null,null,null,null,null,null,null,null,null,null,null,null,null,null,{"$f":"-SUM($AC255:BH255,BJ255:$HO255)","v":0},null,null,null,null,null,null,null,null,null,null,null,null,null,null,null,null,null,null,null,null,null,null,null,null,null,null,null,null,null,null,null,null,null,null,null,null,null,null,null,null,null,null,null,null,null,null,null,null,null,null,null,0,0,0,0,0,0,0,0,0,0,0,0,0,0,0,0,0,0,0,0,0,0,0,0,0,0,0,0,0,0,0,0,0,0,0,0,0,0,0,0,0,0,0,0,0,0,0,0,0,0,0,0,0,0,0,0,0,0,0,0,0,0,0,0,0,0,0,0,0,0,0,0,0,0,0,0,0,0,0,0,0,0,0,0,0,0,0,0,0,0,0,0,0,0,0,0,0,0,0,0,0,0,0,0,0,0,0,0,0,0,0,null,{"$f":"IF(COUNT(DI255:DR261)=0,\"\",SUM(DI255:DR255))","v":0},{"$f":"IF(COUNT(DS255:EB261)=0,\"\",SUM(DS255:EB255))","v":0},{"$f":"IF(COUNT(EC255:EL255)=0,\"\",SUM(EC255:EL255))","v":0},{"$f":"IF(COUNT(EM255:EP255)=0,\"\",SUM(EM255:EP255))","v":0},{"$f":"IF(COUNT(EQ255:EZ255)=0,\"\",SUM(EQ255:EZ255))","v":0},{"$f":"IF(COUNT(FA255:FD255)=0,\"\",SUM(FA255:FD255))","v":0},{"$f":"IF(COUNT(FE255:FK255)=0,\"\",SUM(FE255:FK255))","v":0},{"$f":"IF(COUNT(FL255:FL255)=0,\"\",SUM(FL255:FL255))","v":0},{"$f":"IF(COUNT(FM255:FP255)=0,\"\",SUM(FM255:FP255))","v":0},{"$f":"IF(COUNT(FQ255:FQ255)=0,\"\",SUM(FQ255:FQ255))","v":0},{"$f":"IF(COUNT(FR255:FW255)=0,\"\",SUM(FR255:FW255))","v":0},{"$f":"IF(COUNT(FX255:GB255)=0,\"\",SUM(FX255:GB255))","v":0},{"$f":"IF(COUNT(GC255:GH255)=0,\"\",SUM(GC255:GH255))","v":0},0,0,0]
[null,{"$f":"CONCATENATE(\"Umlage \",Grunddaten!C68)","v":"Umlage Reserve"},null,null,null,{"$f":"IF(ROUND(BM221+SUM(BM223:BM306),12)=0,\"i.o.\",BM221+SUM(BM223:BM306))","v":"i.o."},null,null,null,null,null,null,null,null,null,null,null,null,null,null,null,null,null,null,null,null,null,null,null,null,null,null,null,null,null,null,null,null,null,null,null,null,null,null,null,null,null,null,null,null,null,null,null,null,null,null,null,null,null,null,null,null,null,null,{"$f":"-SUM($AC259:BL259,BN259:$HO259)","v":0},null,null,null,null,null,null,null,null,null,null,null,null,null,null,null,null,null,null,null,null,null,null,null,null,null,null,null,null,null,null,null,null,null,null,null,null,null,null,null,null,null,null,null,null,null,null,null,0,0,0,0,0,0,0,0,0,0,0,0,0,0,0,0,0,0,0,0,0,0,0,0,0,0,0,0,0,0,0,0,0,0,0,0,0,0,0,0,0,0,0,0,0,0,0,0,0,0,0,0,0,0,0,0,0,0,0,0,0,0,0,0,0,0,0,0,0,0,0,0,0,0,0,0,0,0,0,0,0,0,0,0,0,0,0,0,0,0,0,0,0,0,0,0,0,0,0,0,0,0,0,0,0,0,0,0,0,0,0,null,0,0,0,0,0,0,0,0,0,0,0,0,0,0,0,0]
[null,{"$f":"CONCATENATE(\"Umlage \",Grunddaten!C71)","v":"Umlage Reserve"},null,null,null,{"$f":"IF(ROUND(BP221+SUM(BP223:BP306),12)=0,\"i.o.\",BP221+SUM(BP223:BP306))","v":"i.o."},null,null,null,null,null,null,null,null,null,null,null,null,null,null,null,null,null,null,null,null,null,null,null,null,null,null,null,null,null,null,null,null,null,null,null,null,null,null,null,null,null,null,null,null,null,null,null,null,null,null,null,null,null,null,null,null,null,null,null,null,null,{"$f":"-SUM($AC262:BO262,BQ262:$HO262)","v":0},null,null,null,null,null,null,null,null,null,null,null,null,null,null,null,null,null,null,null,null,null,null,null,null,null,null,null,null,null,null,null,null,null,null,null,null,null,null,null,null,null,null,null,null,0,0,0,0,0,0,0,0,0,0,0,0,0,0,0,0,0,0,0,0,0,0,0,0,0,0,0,0,0,0,0,0,0,0,0,0,0,0,0,0,0,0,0,0,0,0,0,0,0,0,0,0,0,0,0,0,0,0,0,0,0,0,0,0,0,0,0,0,0,0,0,0,0,0,0,0,0,0,0,0,0,0,0,0,0,0,0,0,0,0,0,0,0,0,0,0,0,0,0,0,0,0,0,0,0,0,0,0,0,0,0,null,0,0,0,0,0,0,0,0,0,0,0,0,0,0,0,0]
[null,{"$f":"CONCATENATE(\"Umlage \",Grunddaten!C74)","v":"Umlage Verpflegung"},null,null,null,{"$f":"IF(ROUND(BS221+SUM(BS223:BS306),12)=0,\"i.o.\",BS221+SUM(BS223:BS306))","v":"i.o."},null,null,null,null,null,null,null,null,null,null,null,null,null,null,null,null,null,null,null,null,null,null,null,null,null,null,null,null,null,null,null,null,null,null,null,null,null,null,null,null,null,null,null,null,null,null,null,null,null,null,null,null,null,null,null,null,null,null,null,null,null,null,null,null,{"$f":"-SUM($AC265:BR265,BT265:$HO265)","v":0},null,null,null,null,null,null,null,null,null,null,null,null,null,null,null,null,null,null,null,null,null,null,null,null,null,null,null,null,null,null,null,null,null,null,null,null,null,null,null,null,null,0,0,0,0,0,0,0,0,0,0,0,0,0,0,0,0,0,0,0,0,0,0,0,0,0,0,0,0,0,0,0,0,0,0,0,0,0,0,0,0,0,0,0,0,0,0,0,0,0,0,0,0,0,0,0,0,0,0,0,0,0,0,0,0,0,0,0,0,0,0,0,0,0,0,0,0,0,0,0,0,0,0,0,0,0,0,0,0,0,0,0,0,0,0,0,0,0,0,0,0,0,0,0,0,0,0,0,0,0,0,0,null,0,0,0,0,0,0,0,0,0,0,0,0,0,0,0,0]
[null,{"$f":"CONCATENATE(\"Umlage \",Grunddaten!C75)","v":"Umlage Reserve"},null,null,null,{"$f":"IF(ROUND(BT221+SUM(BT223:BT306),12)=0,\"i.o.\",BT221+SUM(BT223:BT306))","v":"i.o."},null,null,null,null,null,null,null,null,null,null,null,null,null,null,null,null,null,null,null,null,null,null,null,null,null,null,null,null,null,null,null,null,null,null,null,null,null,null,null,null,null,null,null,null,null,null,null,null,null,null,null,null,null,null,null,null,null,null,null,null,null,null,null,null,null,{"$f":"-SUM($AC266:BS266,BU266:$HO266)","v":0},null,null,null,null,null,null,null,null,null,null,null,null,null,null,null,null,null,null,null,null,null,null,null,null,null,null,null,null,null,null,null,null,null,null,null,null,null,null,null,null,0,0,0,0,0,0,0,0,0,0,0,0,0,0,0,0,0,0,0,0,0,0,0,0,0,0,0,0,0,0,0,0,0,0,0,0,0,0,0,0,0,0,0,0,0,0,0,0,0,0,0,0,0,0,0,0,0,0,0,0,0,0,0,0,0,0,0,0,0,0,0,0,0,0,0,0,0,0,0,0,0,0,0,0,0,0,0,0,0,0,0,0,0,0,0,0,0,0,0,0,0,0,0,0,0,0,0,0,0,0,0,null,0,0,0,0,0,0,0,0,0,0,0,0,0,0,0,0]
[null,{"$f":"CONCATENATE(\"Umlage \",Grunddaten!C78)","v":"Umlage Reserve"},null,null,null,{"$f":"IF(ROUND(BW221+SUM(BW223:BW306),12)=0,\"i.o.\",BW221+SUM(BW223:BW306))","v":"i.o."},null,null,null,null,null,null,null,null,null,null,null,null,null,null,null,null,null,null,null,null,null,null,null,null,null,null,null,null,null,null,null,null,null,null,null,null,null,null,null,null,null,null,null,null,null,null,null,null,null,null,null,null,null,null,null,null,null,null,null,null,null,null,null,null,null,null,null,null,{"$f":"-SUM($AC269:BV269,BX269:$HO269)","v":0},null,null,null,null,null,null,null,null,null,null,null,null,null,null,null,null,null,null,null,null,null,null,null,null,null,null,null,null,null,null,null,null,null,null,null,null,null,0,0,0,0,0,0,0,0,0,0,0,0,0,0,0,0,0,0,0,0,0,0,0,0,0,0,0,0,0,0,0,0,0,0,0,0,0,0,0,0,0,0,0,0,0,0,0,0,0,0,0,0,0,0,0,0,0,0,0,0,0,0,0,0,0,0,0,0,0,0,0,0,0,0,0,0,0,0,0,0,0,0,0,0,0,0,0,0,0,0,0,0,0,0,0,0,0,0,0,0,0,0,0,0,0,0,0,0,0,0,0,null,0,0,0,0,0,0,0,0,0,0,0,0,0,0,0,0]
[null,{"$f":"CONCATENATE(\"Umlage \",Grunddaten!C81)","v":"Umlage Betreuung und Verpflegung über Mittag (nur TS)"},null,null,null,{"$f":"IF(ROUND(BZ221+SUM(BZ223:BZ306),12)=0,\"i.o.\",BZ221+SUM(BZ223:BZ306))","v":"i.o."},null,null,null,null,null,null,null,null,null,null,null,null,null,null,null,null,null,null,null,null,null,null,null,null,null,null,null,null,null,null,null,null,null,null,null,null,null,null,null,null,null,null,null,null,null,null,null,null,null,null,null,null,null,null,null,null,null,null,null,null,null,null,null,null,null,null,null,null,null,null,null,{"$f":"-SUM($AC272:BY272,CA272:$HO272)","v":0},null,null,null,null,null,null,null,null,null,null,null,null,null,null,null,null,null,null,null,null,null,null,null,null,null,null,null,null,null,null,null,null,null,null,0,0,0,0,0,0,0,0,0,0,0,0,0,0,0,0,0,0,0,0,0,0,0,0,0,0,0,0,0,0,0,0,0,0,0,0,0,0,0,0,0,0,0,0,0,0,0,0,0,0,0,0,0,0,0,0,0,0,0,0,0,0,0,0,0,0,0,0,0,0,0,0,0,0,0,0,0,0,0,0,0,0,0,0,0,0,0,0,0,0,0,0,0,0,0,0,0,0,0,0,0,0,0,0,0,0,0,0,0,0,0,null,0,0,0,0,0,0,0,0,0,0,0,0,0,0,0,0]
[null,{"$f":"CONCATENATE(\"Umlage \",Grunddaten!C85)","v":"Umlage Reserve"},null,null,null,{"$f":"IF(ROUND(CD221+SUM(CD223:CD306),12)=0,\"i.o.\",CD221+SUM(CD223:CD306))","v":"i.o."},null,null,null,null,null,null,null,null,null,null,null,null,null,null,null,null,null,null,null,null,null,null,null,null,null,null,null,null,null,null,null,null,null,null,null,null,null,null,null,null,null,null,null,null,null,null,null,null,null,null,null,null,null,null,null,null,null,null,null,null,null,null,null,null,null,null,null,null,null,null,null,null,null,null,null,{"$f":"-SUM($AC276:CC276,CE276:$HO276)","v":0},null,null,null,null,null,null,null,null,null,null,null,null,null,null,null,null,null,null,null,null,null,null,null,null,null,null,null,null,null,null,0,0,0,0,0,0,0,0,0,0,0,0,0,0,0,0,0,0,0,0,0,0,0,0,0,0,0,0,0,0,0,0,0,0,0,0,0,0,0,0,0,0,0,0,0,0,0,0,0,0,0,0,0,0,0,0,0,0,0,0,0,0,0,0,0,0,0,0,0,0,0,0,0,0,0,0,0,0,0,0,0,0,0,0,0,0,0,0,0,0,0,0,0,0,0,0,0,0,0,0,0,0,0,0,0,0,0,0,0,0,0,null,0,0,0,0,0,0,0,0,0,0,0,0,0,0,0,0]
[null,{"$f":"CONCATENATE(\"Umlage \",Grunddaten!C89)","v":"Umlage Reserve"},null,null,null,{"$f":"IF(ROUND(CH221+SUM(CH223:CH306),12)=0,\"i.o.\",CH221+SUM(CH223:CH306))","v":"i.o."},null,null,null,null,null,null,null,null,null,null,null,null,null,null,null,null,null,null,null,null,null,null,null,null,null,null,null,null,null,null,null,null,null,null,null,null,null,null,null,null,null,null,null,null,null,null,null,null,null,null,null,null,null,null,null,null,null,null,null,null,null,null,null,null,null,null,null,null,null,null,null,null,null,null,null,null,null,null,null,{"$f":"-SUM($AC280:CG280,CI280:$HO280)","v":0},null,null,null,null,null,null,null,null,null,null,null,null,null,null,null,null,null,null,null,null,null,null,null,null,null,null,0,0,0,0,0,0,0,0,0,0,0,0,0,0,0,0,0,0,0,0,0,0,0,0,0,0,0,0,0,0,0,0,0,0,0,0,0,0,0,0,0,0,0,0,0,0,0,0,0,0,0,0,0,0,0,0,0,0,0,0,0,0,0,0,0,0,0,0,0,0,0,0,0,0,0,0,0,0,0,0,0,0,0,0,0,0,0,0,0,0,0,0,0,0,0,0,0,0,0,0,0,0,0,0,0,0,0,0,0,0,0,null,0,0,0,0,0,0,0,0,0,0,0,0,0,0,0,0]
[null,{"$f":"CONCATENATE(\"Umlage \",Grunddaten!C93)","v":"Umlage Reserve"},null,null,null,{"$f":"IF(ROUND(CL221+SUM(CL223:CL306),12)=0,\"i.o.\",CL221+SUM(CL223:CL306))","v":"i.o."},null,null,null,null,null,null,null,null,null,null,null,null,null,null,null,null,null,null,null,null,null,null,null,null,null,null,null,null,null,null,null,null,null,null,null,null,null,null,null,null,null,null,null,null,null,null,null,null,null,null,null,null,null,null,null,null,null,null,null,null,null,null,null,null,null,null,null,null,null,null,null,null,null,null,null,null,null,null,null,null,null,null,null,{"$f":"-SUM($AC284:CK284,CM284:$HO284)","v":0},null,null,null,null,null,null,null,null,null,null,null,null,null,null,null,null,null,null,null,null,null,null,0,0,0,0,0,0,0,0,0,0,0,0,0,0,0,0,0,0,0,0,0,0,0,0,0,0,0,0,0,0,0,0,0,0,0,0,0,0,0,0,0,0,0,0,0,0,0,0,0,0,0,0,0,0,0,0,0,0,0,0,0,0,0,0,0,0,0,0,0,0,0,0,0,0,0,0,0,0,0,0,0,0,0,0,0,0,0,0,0,0,0,0,0,0,0,0,0,0,0,0,0,0,0,0,0,0,0,0,0,0,0,null,0,0,0,0,0,0,0,0,0,0,0,0,0,0,0,0]
[null,{"$f":"CONCATENATE(\"Umlage \",Grunddaten!C96)","v":"Umlage Reserve"},null,null,null,{"$f":"IF(ROUND(CO221+SUM(CO223:CO306),12)=0,\"i.o.\",CO221+SUM(CO223:CO306))","v":"i.o."},null,null,null,null,null,null,null,null,null,null,null,null,null,null,null,null,null,null,null,null,null,null,null,null,null,null,null,null,null,null,null,null,null,null,null,null,null,null,null,null,null,null,null,null,null,null,null,null,null,null,null,null,null,null,null,null,null,null,null,null,null,null,null,null,null,null,null,null,null,null,null,null,null,null,null,null,null,null,null,null,null,null,null,null,null,null,{"$f":"-SUM($AC287:CN287,CP287:$HO287)","v":0},null,null,null,null,null,null,null,null,null,null,null,null,null,null,null,null,null,null,null,0,0,0,0,0,0,0,0,0,0,0,0,0,0,0,0,0,0,0,0,0,0,0,0,0,0,0,0,0,0,0,0,0,0,0,0,0,0,0,0,0,0,0,0,0,0,0,0,0,0,0,0,0,0,0,0,0,0,0,0,0,0,0,0,0,0,0,0,0,0,0,0,0,0,0,0,0,0,0,0,0,0,0,0,0,0,0,0,0,0,0,0,0,0,0,0,0,0,0,0,0,0,0,0,0,0,0,0,0,0,0,null,{"$f":"IF(COUNT(DI287:DR293)=0,\"\",SUM(DI287:DR287))","v":0},{"$f":"IF(COUNT(DS287:EB293)=0,\"\",SUM(DS287:EB287))","v":0},{"$f":"IF(COUNT(EC287:EL287)=0,\"\",SUM(EC287:EL287))","v":0},{"$f":"IF(COUNT(EM287:EP287)=0,\"\",SUM(EM287:EP287))","v":0},{"$f":"IF(COUNT(EQ287:EZ287)=0,\"\",SUM(EQ287:EZ287))","v":0},{"$f":"IF(COUNT(FA287:FD287)=0,\"\",SUM(FA287:FD287))","v":0},{"$f":"IF(COUNT(FE287:FK287)=0,\"\",SUM(FE287:FK287))","v":0},{"$f":"IF(COUNT(FL287:FL287)=0,\"\",SUM(FL287:FL287))","v":0},{"$f":"IF(COUNT(FM287:FP287)=0,\"\",SUM(FM287:FP287))","v":0},{"$f":"IF(COUNT(FQ287:FQ287)=0,\"\",SUM(FQ287:FQ287))","v":0},{"$f":"IF(COUNT(FR287:FW287)=0,\"\",SUM(FR287:FW287))","v":0},{"$f":"IF(COUNT(FX287:GB287)=0,\"\",SUM(FX287:GB287))","v":0},{"$f":"IF(COUNT(GC287:GH287)=0,\"\",SUM(GC287:GH287))","v":0},{"$f":"IF(COUNT(GI287:GS287)=0,\"\",SUM(GI287:GS287))","v":0},0,0]
[null,{"$f":"CONCATENATE(\"Umlage \",Grunddaten!C99)","v":"Umlage Reserve"},null,null,null,{"$f":"IF(ROUND(CR221+SUM(CR223:CR306),12)=0,\"i.o.\",CR221+SUM(CR223:CR306))","v":"i.o."},null,null,null,null,null,null,null,null,null,null,null,null,null,null,null,null,null,null,null,null,null,null,null,null,null,null,null,null,null,null,null,null,null,null,null,null,null,null,null,null,null,null,null,null,null,null,null,null,null,null,null,null,null,null,null,null,null,null,null,null,null,null,null,null,null,null,null,null,null,null,null,null,null,null,null,null,null,null,null,null,null,null,null,null,null,null,null,null,null,{"$f":"-SUM($AC290:CQ290,CS290:$HO290)","v":0},null,null,null,null,null,null,null,null,null,null,null,null,null,null,null,null,0,0,0,0,0,0,0,0,0,0,0,0,0,0,0,0,0,0,0,0,0,0,0,0,0,0,0,0,0,0,0,0,0,0,0,0,0,0,0,0,0,0,0,0,0,0,0,0,0,0,0,0,0,0,0,0,0,0,0,0,0,0,0,0,0,0,0,0,0,0,0,0,0,0,0,0,0,0,0,0,0,0,0,0,0,0,0,0,0,0,0,0,0,0,0,0,0,0,0,0,0,0,0,0,0,0,0,0,0,0,0,null,0,0,0,0,0,0,0,0,0,0,0,0,0,0,0,0]
[null,{"$f":"CONCATENATE(\"Umlage \",Grunddaten!C100)","v":"Umlage Reserve"},null,null,null,{"$f":"IF(ROUND(CS221+SUM(CS223:CS306),12)=0,\"i.o.\",CS221+SUM(CS223:CS306))","v":"i.o."},null,null,null,null,null,null,null,null,null,null,null,null,null,null,null,null,null,null,null,null,null,null,null,null,null,null,null,null,null,null,null,null,null,null,null,null,null,null,null,null,null,null,null,null,null,null,null,null,null,null,null,null,null,null,null,null,null,null,null,null,null,null,null,null,null,null,null,null,null,null,null,null,null,null,null,null,null,null,null,null,null,null,null,null,null,null,null,null,null,null,{"$f":"-SUM($AC291:CR291,CT291:$HO291)","v":0},null,null,null,null,null,null,null,null,null,null,null,null,null,null,null,0,0,0,0,0,0,0,0,0,0,0,0,0,0,0,0,0,0,0,0,0,0,0,0,0,0,0,0,0,0,0,0,0,0,0,0,0,0,0,0,0,0,0,0,0,0,0,0,0,0,0,0,0,0,0,0,0,0,0,0,0,0,0,0,0,0,0,0,0,0,0,0,0,0,0,0,0,0,0,0,0,0,0,0,0,0,0,0,0,0,0,0,0,0,0,0,0,0,0,0,0,0,0,0,0,0,0,0,0,0,0,null,0,0,0,0,0,0,0,0,0,0,0,0,0,0,0,0]
[null,{"$f":"CONCATENATE(\"Umlage \",Grunddaten!C103)","v":"Umlage Reserve"},null,null,null,{"$f":"IF(ROUND(CV221+SUM(CV223:CV306),12)=0,\"i.o.\",CV221+SUM(CV223:CV306))","v":"i.o."},null,null,null,null,null,null,null,null,null,null,null,null,null,null,null,null,null,null,null,null,null,null,null,null,null,null,null,null,null,null,null,null,null,null,null,null,null,null,null,null,null,null,null,null,null,null,null,null,null,null,null,null,null,null,null,null,null,null,null,null,null,null,null,null,null,null,null,null,null,null,null,null,null,null,null,null,null,null,null,null,null,null,null,null,null,null,null,null,null,null,null,null,null,{"$f":"-SUM($AC294:CU294,CW294:$HO294)","v":0},null,null,null,null,null,null,null,null,null,null,null,null,0,0,0,0,0,0,0,0,0,0,0,0,0,0,0,0,0,0,0,0,0,0,0,0,0,0,0,0,0,0,0,0,0,0,0,0,0,0,0,0,0,0,0,0,0,0,0,0,0,0,0,0,0,0,0,0,0,0,0,0,0,0,0,0,0,0,0,0,0,0,0,0,0,0,0,0,0,0,0,0,0,0,0,0,0,0,0,0,0,0,0,0,0,0,0,0,0,0,0,0,0,0,0,0,0,0,0,0,0,0,0,null,0,0,0,0,0,0,0,0,0,0,0,0,0,0,0,0]
[null,{"$f":"CONCATENATE(\"Umlage \",Grunddaten!C107)","v":"Umlage Reserve"},null,null,null,{"$f":"IF(ROUND(CZ221+SUM(CZ223:CZ306),12)=0,\"i.o.\",CZ221+SUM(CZ223:CZ306))","v":"i.o."},null,null,null,null,null,null,null,null,null,null,null,null,null,null,null,null,null,null,null,null,null,null,null,null,null,null,null,null,null,null,null,null,null,null,null,null,null,null,null,null,null,null,null,null,null,null,null,null,null,null,null,null,null,null,null,null,null,null,null,null,null,null,null,null,null,null,null,null,null,null,null,null,null,null,null,null,null,null,null,null,null,null,null,null,null,null,null,null,null,null,null,null,null,null,null,null,null,{"$f":"-SUM($AC298:CY298,DA298:$HO298)","v":0},null,null,null,null,null,null,null,null,0,0,0,0,0,0,0,0,0,0,0,0,0,0,0,0,0,0,0,0,0,0,0,0,0,0,0,0,0,0,0,0,0,0,0,0,0,0,0,0,0,0,0,0,0,0,0,0,0,0,0,0,0,0,0,0,0,0,0,0,0,0,0,0,0,0,0,0,0,0,0,0,0,0,0,0,0,0,0,0,0,0,0,0,0,0,0,0,0,0,0,0,0,0,0,0,0,0,0,0,0,0,0,0,0,0,0,0,0,0,0,null,0,0,0,0,0,0,0,0,0,0,0,0,0,0,0,0]
[null,{"$f":"CONCATENATE(\"Umlage \",Grunddaten!C110)","v":"Umlage Reserve"},null,null,null,{"$f":"IF(ROUND(DC221+SUM(DC223:DC306),12)=0,\"i.o.\",DC221+SUM(DC223:DC306))","v":"i.o."},null,null,null,null,null,null,null,null,null,null,null,null,null,null,null,null,null,null,null,null,null,null,null,null,null,null,null,null,null,null,null,null,null,null,null,null,null,null,null,null,null,null,null,null,null,null,null,null,null,null,null,null,null,null,null,null,null,null,null,null,null,null,null,null,null,null,null,null,null,null,null,null,null,null,null,null,null,null,null,null,null,null,null,null,null,null,null,null,null,null,null,null,null,null,null,null,null,null,null,null,{"$f":"-SUM($AC301:DB301,DD301:$HO301)","v":0},null,null,null,null,null,0,0,0,0,0,0,0,0,0,0,0,0,0,0,0,0,0,0,0,0,0,0,0,0,0,0,0,0,0,0,0,0,0,0,0,0,0,0,0,0,0,0,0,0,0,0,0,0,0,0,0,0,0,0,0,0,0,0,0,0,0,0,0,0,0,0,0,0,0,0,0,0,0,0,0,0,0,0,0,0,0,0,0,0,0,0,0,0,0,0,0,0,0,0,0,0,0,0,0,0,0,0,0,0,0,0,0,0,0,0,0,null,0,0,0,0,0,0,0,0,0,0,0,0,0,0,0,0]
[null,{"$f":"CONCATENATE(\"Umlage \",Grunddaten!C113)","v":"Umlage Reserve"},null,null,null,{"$f":"IF(ROUND(DF221+SUM(DF223:DF306),12)=0,\"i.o.\",DF221+SUM(DF223:DF306))","v":"i.o."},null,null,null,null,null,null,null,null,null,null,null,null,null,null,null,null,null,null,null,null,null,null,null,null,null,null,null,null,null,null,null,null,null,null,null,null,null,null,null,null,null,null,null,null,null,null,null,null,null,null,null,null,null,null,null,null,null,null,null,null,null,null,null,null,null,null,null,null,null,null,null,null,null,null,null,null,null,null,null,null,null,null,null,null,null,null,null,null,null,null,null,null,null,null,null,null,null,null,null,null,null,null,null,{"$f":"-SUM($AC304:DE304,DG304:$HO304)","v":0},null,null,0,0,0,0,0,0,0,0,0,0,0,0,0,0,0,0,0,0,0,0,0,0,0,0,0,0,0,0,0,0,0,0,0,0,0,0,0,0,0,0,0,0,0,0,0,0,0,0,0,0,0,0,0,0,0,0,0,0,0,0,0,0,0,0,0,0,0,0,0,0,0,0,0,0,0,0,0,0,0,0,0,0,0,0,0,0,0,0,0,0,0,0,0,0,0,0,0,0,0,0,0,0,0,0,0,0,0,0,0,0,0,null,0,0,0,0,0,0,0,0,0,0,0,0,0,0,0,0]
[null,"Brutto Betreuungskosten",{"$f":"SUM(DI309:FA309)","v":0},null,null,null,null,null,null,null,null,null,null,null,null,null,null,null,null,null,null,null,null,null,null,null,null,null,null,null,null,null,null,null,null,null,null,null,null,null,null,null,null,null,null,null,null,null,null,null,null,null,null,null,null,null,null,null,null,null,null,null,null,null,null,null,null,null,null,null,null,null,null,null,null,null,null,null,null,null,null,null,null,null,null,null,null,null,null,null,null,null,null,null,null,null,null,null,null,null,null,null,null,null,null,null,null,null,null,null,null,null,{"$f":"SUM(DI4)","v":0},0,0,0,0,0,0,0,0,0,0,0,0,0,0,0,0,0,0,0,0,0,0,0,0,0,0,0,0,0,0,0,0,0,0,0,0,0,0,0,0,0,0,0,0,0,0,0,null,null,null,null,null,null,null,null,{"$f":"SUM(FM4)","v":0},0,0,0,0,null,null,null,null,null,null,null,null,null,null,null,null,null,null,null,null,null,null,null,null,null,null,null,null,null,null,null,null,null,null,null,null,null,null,null,null,null,null,null,null,null,null,null,null,null,null,null,null,null,null,null,{"$f":"SUM(HQ4)","v":0},0,0,0,0,0,null,null,{"$f":"SUM(HY4)","v":0},0]
[null,"Erträge",{"$f":"SUM(C313,C327,C342,C362,C373,C379,C381,C383,C385,C393,C346,C350,C352,C357,C360,)","v":0},{"$f":"SUM(D313,D327,D342,D362,D373,D379,D381,D383,D385,D393,D346,D350,D352,D357,D360,)","v":0},0,{"$f":"IF(SUM(H312:HO312)=E312,\"i.o.\",E312-SUM(H312:HO312))","v":"i.o."},null,{"$f":"SUM(H313,H327,H342,H362,H373,H379,H381,H383,H385,H393,H346,H350,H352,H357,H360,)","v":0},{"$f":"SUM(I313,I327,I342,I362,I373,I379,I381,I383,I385,I393,I346,I350,I352,I357,I360,)","v":0},{"$f":"SUM(J313,J327,J342,J362,J373,J379,J381,J383,J385,J393,J346,J350,J352,J357,J360,)","v":0},{"$f":"SUM(K313,K327,K342,K362,K373,K379,K381,K383,K385,K393,K346,K350,K352,K357,K360,)","v":0},{"$f":"SUM(L313,L327,L342,L362,L373,L379,L381,L383,L385,L393,L346,L350,L352,L357,L360,)","v":0},{"$f":"SUM(M313,M327,M342,M362,M373,M379,M381,M383,M385,M393,M346,M350,M352,M357,M360,)","v":0},{"$f":"SUM(N313,N327,N342,N362,N373,N379,N381,N383,N385,N393,N346,N350,N352,N357,N360,)","v":0},{"$f":"SUM(O313,O327,O342,O362,O373,O379,O381,O383,O385,O393,O346,O350,O352,O357,O360,)","v":0},{"$f":"SUM(P313,P327,P342,P362,P373,P379,P381,P383,P385,P393,P346,P350,P352,P357,P360,)","v":0},{"$f":"SUM(Q313,Q327,Q342,Q362,Q373,Q379,Q381,Q383,Q385,Q393,Q346,Q350,Q352,Q357,Q360,)","v":0},{"$f":"SUM(R313,R327,R342,R362,R373,R379,R381,R383,R385,R393,R346,R350,R352,R357,R360,)","v":0},{"$f":"SUM(S313,S327,S342,S362,S373,S379,S381,S383,S385,S393,S346,S350,S352,S357,S360,)","v":0},{"$f":"SUM(T313,T327,T342,T362,T373,T379,T381,T383,T385,T393,T346,T350,T352,T357,T360,)","v":0},{"$f":"SUM(U313,U327,U342,U362,U373,U379,U381,U383,U385,U393,U346,U350,U352,U357,U360,)","v":0},{"$f":"SUM(V313,V327,V342,V362,V373,V379,V381,V383,V385,V393,V346,V350,V352,V357,V360,)","v":0},{"$f":"SUM(W313,W327,W342,W362,W373,W379,W381,W383,W385,W393,W346,W350,W352,W357,W360,)","v":0},{"$f":"SUM(X313,X327,X342,X362,X373,X379,X381,X383,X385,X393,X346,X350,X352,X357,X360,)","v":0},{"$f":"SUM(Y313,Y327,Y342,Y362,Y373,Y379,Y381,Y383,Y385,Y393,Y346,Y350,Y352,Y357,Y360,)","v":0},{"$f":"SUM(Z313,Z327,Z342,Z362,Z373,Z379,Z381,Z383,Z385,Z393,Z346,Z350,Z352,Z357,Z360,)","v":0},{"$f":"SUM(AA313,AA327,AA342,AA362,AA373,AA379,AA381,AA383,AA385,AA393,AA346,AA350,AA352,AA357,AA360,)","v":0},{"$f":"SUM(AB313,AB327,AB342,AB362,AB373,AB379,AB381,AB383,AB385,AB393,AB346,AB350,AB352,AB357,AB360,)","v":0},{"$f":"SUM(AC313,AC327,AC342,AC362,AC373,AC379,AC381,AC383,AC385,AC393,AC346,AC350,AC352,AC357,AC360,)","v":0},{"$f":"SUM(AD313,AD327,AD342,AD362,AD373,AD379,AD381,AD383,AD385,AD393,AD346,AD350,AD352,AD357,AD360,)","v":0},{"$f":"SUM(AE313,AE327,AE342,AE362,AE373,AE379,AE381,AE383,AE385,AE393,AE346,AE350,AE352,AE357,AE360,)","v":0},{"$f":"SUM(AF313,AF327,AF342,AF362,AF373,AF379,AF381,AF383,AF385,AF393,AF346,AF350,AF352,AF357,AF360,)","v":0},{"$f":"SUM(AG313,AG327,AG342,AG362,AG373,AG379,AG381,AG383,AG385,AG393,AG346,AG350,AG352,AG357,AG360,)","v":0},{"$f":"SUM(AH313,AH327,AH342,AH362,AH373,AH379,AH381,AH383,AH385,AH393,AH346,AH350,AH352,AH357,AH360,)","v":0},{"$f":"SUM(AI313,AI327,AI342,AI362,AI373,AI379,AI381,AI383,AI385,AI393,AI346,AI350,AI352,AI357,AI360,)","v":0},{"$f":"SUM(AJ313,AJ327,AJ342,AJ362,AJ373,AJ379,AJ381,AJ383,AJ385,AJ393,AJ346,AJ350,AJ352,AJ357,AJ360,)","v":0},{"$f":"SUM(AK313,AK327,AK342,AK362,AK373,AK379,AK381,AK383,AK385,AK393,AK346,AK350,AK352,AK357,AK360,)","v":0},{"$f":"SUM(AL313,AL327,AL342,AL362,AL373,AL379,AL381,AL383,AL385,AL393,AL346,AL350,AL352,AL357,AL360,)","v":0},{"$f":"SUM(AM313,AM327,AM342,AM362,AM373,AM379,AM381,AM383,AM385,AM393,AM346,AM350,AM352,AM357,AM360,)","v":0},{"$f":"SUM(AN313,AN327,AN342,AN362,AN373,AN379,AN381,AN383,AN385,AN393,AN346,AN350,AN352,AN357,AN360,)","v":0},{"$f":"SUM(AO313,AO327,AO342,AO362,AO373,AO379,AO381,AO383,AO385,AO393,AO346,AO350,AO352,AO357,AO360,)","v":0},{"$f":"SUM(AP313,AP327,AP342,AP362,AP373,AP379,AP381,AP383,AP385,AP393,AP346,AP350,AP352,AP357,AP360,)","v":0},{"$f":"SUM(AQ313,AQ327,AQ342,AQ362,AQ373,AQ379,AQ381,AQ383,AQ385,AQ393,AQ346,AQ350,AQ352,AQ357,AQ360,)","v":0},{"$f":"SUM(AR313,AR327,AR342,AR362,AR373,AR379,AR381,AR383,AR385,AR393,AR346,AR350,AR352,AR357,AR360,)","v":0},{"$f":"SUM(AS313,AS327,AS342,AS362,AS373,AS379,AS381,AS383,AS385,AS393,AS346,AS350,AS352,AS357,AS360,)","v":0},{"$f":"SUM(AT313,AT327,AT342,AT362,AT373,AT379,AT381,AT383,AT385,AT393,AT346,AT350,AT352,AT357,AT360,)","v":0},{"$f":"SUM(AU313,AU327,AU342,AU362,AU373,AU379,AU381,AU383,AU385,AU393,AU346,AU350,AU352,AU357,AU360,)","v":0},{"$f":"SUM(AV313,AV327,AV342,AV362,AV373,AV379,AV381,AV383,AV385,AV393,AV346,AV350,AV352,AV357,AV360,)","v":0},{"$f":"SUM(AW313,AW327,AW342,AW362,AW373,AW379,AW381,AW383,AW385,AW393,AW346,AW350,AW352,AW357,AW360,)","v":0},{"$f":"SUM(AX313,AX327,AX342,AX362,AX373,AX379,AX381,AX383,AX385,AX393,AX346,AX350,AX352,AX357,AX360,)","v":0},{"$f":"SUM(AY313,AY327,AY342,AY362,AY373,AY379,AY381,AY383,AY385,AY393,AY346,AY350,AY352,AY357,AY360,)","v":0},{"$f":"SUM(AZ313,AZ327,AZ342,AZ362,AZ373,AZ379,AZ381,AZ383,AZ385,AZ393,AZ346,AZ350,AZ352,AZ357,AZ360,)","v":0},{"$f":"SUM(BA313,BA327,BA342,BA362,BA373,BA379,BA381,BA383,BA385,BA393,BA346,BA350,BA352,BA357,BA360,)","v":0},{"$f":"SUM(BB313,BB327,BB342,BB362,BB373,BB379,BB381,BB383,BB385,BB393,BB346,BB350,BB352,BB357,BB360,)","v":0},{"$f":"SUM(BC313,BC327,BC342,BC362,BC373,BC379,BC381,BC383,BC385,BC393,BC346,BC350,BC352,BC357,BC360,)","v":0},{"$f":"SUM(BD313,BD327,BD342,BD362,BD373,BD379,BD381,BD383,BD385,BD393,BD346,BD350,BD352,BD357,BD360,)","v":0},{"$f":"SUM(BE313,BE327,BE342,BE362,BE373,BE379,BE381,BE383,BE385,BE393,BE346,BE350,BE352,BE357,BE360,)","v":0},{"$f":"SUM(BF313,BF327,BF342,BF362,BF373,BF379,BF381,BF383,BF385,BF393,BF346,BF350,BF352,BF357,BF360,)","v":0},{"$f":"SUM(BG313,BG327,BG342,BG362,BG373,BG379,BG381,BG383,BG385,BG393,BG346,BG350,BG352,BG357,BG360,)","v":0},{"$f":"SUM(BH313,BH327,BH342,BH362,BH373,BH379,BH381,BH383,BH385,BH393,BH346,BH350,BH352,BH357,BH360,)","v":0},{"$f":"SUM(BI313,BI327,BI342,BI362,BI373,BI379,BI381,BI383,BI385,BI393,BI346,BI350,BI352,BI357,BI360,)","v":0},{"$f":"SUM(BJ313,BJ327,BJ342,BJ362,BJ373,BJ379,BJ381,BJ383,BJ385,BJ393,BJ346,BJ350,BJ352,BJ357,BJ360,)","v":0},{"$f":"SUM(BK313,BK327,BK342,BK362,BK373,BK379,BK381,BK383,BK385,BK393,BK346,BK350,BK352,BK357,BK360,)","v":0},{"$f":"SUM(BL313,BL327,BL342,BL362,BL373,BL379,BL381,BL383,BL385,BL393,BL346,BL350,BL352,BL357,BL360,)","v":0},{"$f":"SUM(BM313,BM327,BM342,BM362,BM373,BM379,BM381,BM383,BM385,BM393,BM346,BM350,BM352,BM357,BM360,)","v":0},{"$f":"SUM(BN313,BN327,BN342,BN362,BN373,BN379,BN381,BN383,BN385,BN393,BN346,BN350,BN352,BN357,BN360,)","v":0},{"$f":"SUM(BO313,BO327,BO342,BO362,BO373,BO379,BO381,BO383,BO385,BO393,BO346,BO350,BO352,BO357,BO360,)","v":0},{"$f":"SUM(BP313,BP327,BP342,BP362,BP373,BP379,BP381,BP383,BP385,BP393,BP346,BP350,BP352,BP357,BP360,)","v":0},{"$f":"SUM(BQ313,BQ327,BQ342,BQ362,BQ373,BQ379,BQ381,BQ383,BQ385,BQ393,BQ346,BQ350,BQ352,BQ357,BQ360,)","v":0},{"$f":"SUM(BR313,BR327,BR342,BR362,BR373,BR379,BR381,BR383,BR385,BR393,BR346,BR350,BR352,BR357,BR360,)","v":0},{"$f":"SUM(BS313,BS327,BS342,BS362,BS373,BS379,BS381,BS383,BS385,BS393,BS346,BS350,BS352,BS357,BS360,)","v":0},{"$f":"SUM(BT313,BT327,BT342,BT362,BT373,BT379,BT381,BT383,BT385,BT393,BT346,BT350,BT352,BT357,BT360,)","v":0},{"$f":"SUM(BU313,BU327,BU342,BU362,BU373,BU379,BU381,BU383,BU385,BU393,BU346,BU350,BU352,BU357,BU360,)","v":0},{"$f":"SUM(BV313,BV327,BV342,BV362,BV373,BV379,BV381,BV383,BV385,BV393,BV346,BV350,BV352,BV357,BV360,)","v":0},{"$f":"SUM(BW313,BW327,BW342,BW362,BW373,BW379,BW381,BW383,BW385,BW393,BW346,BW350,BW352,BW357,BW360,)","v":0},{"$f":"SUM(BX313,BX327,BX342,BX362,BX373,BX379,BX381,BX383,BX385,BX393,BX346,BX350,BX352,BX357,BX360,)","v":0},{"$f":"SUM(BY313,BY327,BY342,BY362,BY373,BY379,BY381,BY383,BY385,BY393,BY346,BY350,BY352,BY357,BY360,)","v":0},{"$f":"SUM(BZ313,BZ327,BZ342,BZ362,BZ373,BZ379,BZ381,BZ383,BZ385,BZ393,BZ346,BZ350,BZ352,BZ357,BZ360,)","v":0},{"$f":"SUM(CA313,CA327,CA342,CA362,CA373,CA379,CA381,CA383,CA385,CA393,CA346,CA350,CA352,CA357,CA360,)","v":0},{"$f":"SUM(CB313,CB327,CB342,CB362,CB373,CB379,CB381,CB383,CB385,CB393,CB346,CB350,CB352,CB357,CB360,)","v":0},{"$f":"SUM(CC313,CC327,CC342,CC362,CC373,CC379,CC381,CC383,CC385,CC393,CC346,CC350,CC352,CC357,CC360,)","v":0},{"$f":"SUM(CD313,CD327,CD342,CD362,CD373,CD379,CD381,CD383,CD385,CD393,CD346,CD350,CD352,CD357,CD360,)","v":0},{"$f":"SUM(CE313,CE327,CE342,CE362,CE373,CE379,CE381,CE383,CE385,CE393,CE346,CE350,CE352,CE357,CE360,)","v":0},{"$f":"SUM(CF313,CF327,CF342,CF362,CF373,CF379,CF381,CF383,CF385,CF393,CF346,CF350,CF352,CF357,CF360,)","v":0},{"$f":"SUM(CG313,CG327,CG342,CG362,CG373,CG379,CG381,CG383,CG385,CG393,CG346,CG350,CG352,CG357,CG360,)","v":0},{"$f":"SUM(CH313,CH327,CH342,CH362,CH373,CH379,CH381,CH383,CH385,CH393,CH346,CH350,CH352,CH357,CH360,)","v":0},{"$f":"SUM(CI313,CI327,CI342,CI362,CI373,CI379,CI381,CI383,CI385,CI393,CI346,CI350,CI352,CI357,CI360,)","v":0},{"$f":"SUM(CJ313,CJ327,CJ342,CJ362,CJ373,CJ379,CJ381,CJ383,CJ385,CJ393,CJ346,CJ350,CJ352,CJ357,CJ360,)","v":0},{"$f":"SUM(CK313,CK327,CK342,CK362,CK373,CK379,CK381,CK383,CK385,CK393,CK346,CK350,CK352,CK357,CK360,)","v":0},{"$f":"SUM(CL313,CL327,CL342,CL362,CL373,CL379,CL381,CL383,CL385,CL393,CL346,CL350,CL352,CL357,CL360,)","v":0},{"$f":"SUM(CM313,CM327,CM342,CM362,CM373,CM379,CM381,CM383,CM385,CM393,CM346,CM350,CM352,CM357,CM360,)","v":0},{"$f":"SUM(CN313,CN327,CN342,CN362,CN373,CN379,CN381,CN383,CN385,CN393,CN346,CN350,CN352,CN357,CN360,)","v":0},{"$f":"SUM(CO313,CO327,CO342,CO362,CO373,CO379,CO381,CO383,CO385,CO393,CO346,CO350,CO352,CO357,CO360,)","v":0},{"$f":"SUM(CP313,CP327,CP342,CP362,CP373,CP379,CP381,CP383,CP385,CP393,CP346,CP350,CP352,CP357,CP360,)","v":0},{"$f":"SUM(CQ313,CQ327,CQ342,CQ362,CQ373,CQ379,CQ381,CQ383,CQ385,CQ393,CQ346,CQ350,CQ352,CQ357,CQ360,)","v":0},{"$f":"SUM(CR313,CR327,CR342,CR362,CR373,CR379,CR381,CR383,CR385,CR393,CR346,CR350,CR352,CR357,CR360,)","v":0},{"$f":"SUM(CS313,CS327,CS342,CS362,CS373,CS379,CS381,CS383,CS385,CS393,CS346,CS350,CS352,CS357,CS360,)","v":0},{"$f":"SUM(CT313,CT327,CT342,CT362,CT373,CT379,CT381,CT383,CT385,CT393,CT346,CT350,CT352,CT357,CT360,)","v":0},{"$f":"SUM(CU313,CU327,CU342,CU362,CU373,CU379,CU381,CU383,CU385,CU393,CU346,CU350,CU352,CU357,CU360,)","v":0},{"$f":"SUM(CV313,CV327,CV342,CV362,CV373,CV379,CV381,CV383,CV385,CV393,CV346,CV350,CV352,CV357,CV360,)","v":0},{"$f":"SUM(CW313,CW327,CW342,CW362,CW373,CW379,CW381,CW383,CW385,CW393,CW346,CW350,CW352,CW357,CW360,)","v":0},{"$f":"SUM(CX313,CX327,CX342,CX362,CX373,CX379,CX381,CX383,CX385,CX393,CX346,CX350,CX352,CX357,CX360,)","v":0},{"$f":"SUM(CY313,CY327,CY342,CY362,CY373,CY379,CY381,CY383,CY385,CY393,CY346,CY350,CY352,CY357,CY360,)","v":0},{"$f":"SUM(CZ313,CZ327,CZ342,CZ362,CZ373,CZ379,CZ381,CZ383,CZ385,CZ393,CZ346,CZ350,CZ352,CZ357,CZ360,)","v":0},{"$f":"SUM(DA313,DA327,DA342,DA362,DA373,DA379,DA381,DA383,DA385,DA393,DA346,DA350,DA352,DA357,DA360,)","v":0},{"$f":"SUM(DB313,DB327,DB342,DB362,DB373,DB379,DB381,DB383,DB385,DB393,DB346,DB350,DB352,DB357,DB360,)","v":0},{"$f":"SUM(DC313,DC327,DC342,DC362,DC373,DC379,DC381,DC383,DC385,DC393,DC346,DC350,DC352,DC357,DC360,)","v":0},{"$f":"SUM(DD313,DD327,DD342,DD362,DD373,DD379,DD381,DD383,DD385,DD393,DD346,DD350,DD352,DD357,DD360,)","v":0},{"$f":"SUM(DE313,DE327,DE342,DE362,DE373,DE379,DE381,DE383,DE385,DE393,DE346,DE350,DE352,DE357,DE360,)","v":0},{"$f":"SUM(DF313,DF327,DF342,DF362,DF373,DF379,DF381,DF383,DF385,DF393,DF346,DF350,DF352,DF357,DF360,)","v":0},{"$f":"SUM(DG313,DG327,DG342,DG362,DG373,DG379,DG381,DG383,DG385,DG393,DG346,DG350,DG352,DG357,DG360,)","v":0},{"$f":"SUM(DH313,DH327,DH342,DH362,DH373,DH379,DH381,DH383,DH385,DH393,DH346,DH350,DH352,DH357,DH360,)","v":0},{"$f":"SUM(DI313,DI327,DI342,DI362,DI373,DI379,DI381,DI383,DI385,DI393,DI346,DI350,DI352,DI357,DI360,)","v":0},{"$f":"SUM(DJ313,DJ327,DJ342,DJ362,DJ373,DJ379,DJ381,DJ383,DJ385,DJ393,DJ346,DJ350,DJ352,DJ357,DJ360,)","v":0},{"$f":"SUM(DK313,DK327,DK342,DK362,DK373,DK379,DK381,DK383,DK385,DK393,DK346,DK350,DK352,DK357,DK360,)","v":0},{"$f":"SUM(DL313,DL327,DL342,DL362,DL373,DL379,DL381,DL383,DL385,DL393,DL346,DL350,DL352,DL357,DL360,)","v":0},{"$f":"SUM(DM313,DM327,DM342,DM362,DM373,DM379,DM381,DM383,DM385,DM393,DM346,DM350,DM352,DM357,DM360,)","v":0},{"$f":"SUM(DN313,DN327,DN342,DN362,DN373,DN379,DN381,DN383,DN385,DN393,DN346,DN350,DN352,DN357,DN360,)","v":0},{"$f":"SUM(DO313,DO327,DO342,DO362,DO373,DO379,DO381,DO383,DO385,DO393,DO346,DO350,DO352,DO357,DO360,)","v":0},{"$f":"SUM(DP313,DP327,DP342,DP362,DP373,DP379,DP381,DP383,DP385,DP393,DP346,DP350,DP352,DP357,DP360,)","v":0},{"$f":"SUM(DQ313,DQ327,DQ342,DQ362,DQ373,DQ379,DQ381,DQ383,DQ385,DQ393,DQ346,DQ350,DQ352,DQ357,DQ360,)","v":0},{"$f":"SUM(DR313,DR327,DR342,DR362,DR373,DR379,DR381,DR383,DR385,DR393,DR346,DR350,DR352,DR357,DR360,)","v":0},{"$f":"SUM(DS313,DS327,DS342,DS362,DS373,DS379,DS381,DS383,DS385,DS393,DS346,DS350,DS352,DS357,DS360,)","v":0},{"$f":"SUM(DT313,DT327,DT342,DT362,DT373,DT379,DT381,DT383,DT385,DT393,DT346,DT350,DT352,DT357,DT360,)","v":0},{"$f":"SUM(DU313,DU327,DU342,DU362,DU373,DU379,DU381,DU383,DU385,DU393,DU346,DU350,DU352,DU357,DU360,)","v":0},{"$f":"SUM(DV313,DV327,DV342,DV362,DV373,DV379,DV381,DV383,DV385,DV393,DV346,DV350,DV352,DV357,DV360,)","v":0},{"$f":"SUM(DW313,DW327,DW342,DW362,DW373,DW379,DW381,DW383,DW385,DW393,DW346,DW350,DW352,DW357,DW360,)","v":0},{"$f":"SUM(DX313,DX327,DX342,DX362,DX373,DX379,DX381,DX383,DX385,DX393,DX346,DX350,DX352,DX357,DX360,)","v":0},{"$f":"SUM(DY313,DY327,DY342,DY362,DY373,DY379,DY381,DY383,DY385,DY393,DY346,DY350,DY352,DY357,DY360,)","v":0},{"$f":"SUM(DZ313,DZ327,DZ342,DZ362,DZ373,DZ379,DZ381,DZ383,DZ385,DZ393,DZ346,DZ350,DZ352,DZ357,DZ360,)","v":0},{"$f":"SUM(EA313,EA327,EA342,EA362,EA373,EA379,EA381,EA383,EA385,EA393,EA346,EA350,EA352,EA357,EA360,)","v":0},{"$f":"SUM(EB313,EB327,EB342,EB362,EB373,EB379,EB381,EB383,EB385,EB393,EB346,EB350,EB352,EB357,EB360,)","v":0},{"$f":"SUM(EC313,EC327,EC342,EC362,EC373,EC379,EC381,EC383,EC385,EC393,EC346,EC350,EC352,EC357,EC360,)","v":0},{"$f":"SUM(ED313,ED327,ED342,ED362,ED373,ED379,ED381,ED383,ED385,ED393,ED346,ED350,ED352,ED357,ED360,)","v":0},{"$f":"SUM(EE313,EE327,EE342,EE362,EE373,EE379,EE381,EE383,EE385,EE393,EE346,EE350,EE352,EE357,EE360,)","v":0},{"$f":"SUM(EF313,EF327,EF342,EF362,EF373,EF379,EF381,EF383,EF385,EF393,EF346,EF350,EF352,EF357,EF360,)","v":0},{"$f":"SUM(EG313,EG327,EG342,EG362,EG373,EG379,EG381,EG383,EG385,EG393,EG346,EG350,EG352,EG357,EG360,)","v":0},{"$f":"SUM(EH313,EH327,EH342,EH362,EH373,EH379,EH381,EH383,EH385,EH393,EH346,EH350,EH352,EH357,EH360,)","v":0},{"$f":"SUM(EI313,EI327,EI342,EI362,EI373,EI379,EI381,EI383,EI385,EI393,EI346,EI350,EI352,EI357,EI360,)","v":0},{"$f":"SUM(EJ313,EJ327,EJ342,EJ362,EJ373,EJ379,EJ381,EJ383,EJ385,EJ393,EJ346,EJ350,EJ352,EJ357,EJ360,)","v":0},{"$f":"SUM(EK313,EK327,EK342,EK362,EK373,EK379,EK381,EK383,EK385,EK393,EK346,EK350,EK352,EK357,EK360,)","v":0},{"$f":"SUM(EL313,EL327,EL342,EL362,EL373,EL379,EL381,EL383,EL385,EL393,EL346,EL350,EL352,EL357,EL360,)","v":0},{"$f":"SUM(EM313,EM327,EM342,EM362,EM373,EM379,EM381,EM383,EM385,EM393,EM346,EM350,EM352,EM357,EM360,)","v":0},{"$f":"SUM(EN313,EN327,EN342,EN362,EN373,EN379,EN381,EN383,EN385,EN393,EN346,EN350,EN352,EN357,EN360,)","v":0},{"$f":"SUM(EO313,EO327,EO342,EO362,EO373,EO379,EO381,EO383,EO385,EO393,EO346,EO350,EO352,EO357,EO360,)","v":0},{"$f":"SUM(EP313,EP327,EP342,EP362,EP373,EP379,EP381,EP383,EP385,EP393,EP346,EP350,EP352,EP357,EP360,)","v":0},{"$f":"SUM(EQ313,EQ327,EQ342,EQ362,EQ373,EQ379,EQ381,EQ383,EQ385,EQ393,EQ346,EQ350,EQ352,EQ357,EQ360,)","v":0},{"$f":"SUM(ER313,ER327,ER342,ER362,ER373,ER379,ER381,ER383,ER385,ER393,ER346,ER350,ER352,ER357,ER360,)","v":0},{"$f":"SUM(ES313,ES327,ES342,ES362,ES373,ES379,ES381,ES383,ES385,ES393,ES346,ES350,ES352,ES357,ES360,)","v":0},{"$f":"SUM(ET313,ET327,ET342,ET362,ET373,ET379,ET381,ET383,ET385,ET393,ET346,ET350,ET352,ET357,ET360,)","v":0},{"$f":"SUM(EU313,EU327,EU342,EU362,EU373,EU379,EU381,EU383,EU385,EU393,EU346,EU350,EU352,EU357,EU360,)","v":0},{"$f":"SUM(EV313,EV327,EV342,EV362,EV373,EV379,EV381,EV383,EV385,EV393,EV346,EV350,EV352,EV357,EV360,)","v":0},{"$f":"SUM(EW313,EW327,EW342,EW362,EW373,EW379,EW381,EW383,EW385,EW393,EW346,EW350,EW352,EW357,EW360,)","v":0},{"$f":"SUM(EX313,EX327,EX342,EX362,EX373,EX379,EX381,EX383,EX385,EX393,EX346,EX350,EX352,EX357,EX360,)","v":0},{"$f":"SUM(EY313,EY327,EY342,EY362,EY373,EY379,EY381,EY383,EY385,EY393,EY346,EY350,EY352,EY357,EY360,)","v":0},{"$f":"SUM(EZ313,EZ327,EZ342,EZ362,EZ373,EZ379,EZ381,EZ383,EZ385,EZ393,EZ346,EZ350,EZ352,EZ357,EZ360,)","v":0},{"$f":"SUM(FA313,FA327,FA342,FA362,FA373,FA379,FA381,FA383,FA385,FA393,FA346,FA350,FA352,FA357,FA360,)","v":0},{"$f":"SUM(FB313,FB327,FB342,FB362,FB373,FB379,FB381,FB383,FB385,FB393,FB346,FB350,FB352,FB357,FB360,)","v":0},{"$f":"SUM(FC313,FC327,FC342,FC362,FC373,FC379,FC381,FC383,FC385,FC393,FC346,FC350,FC352,FC357,FC360,)","v":0},{"$f":"SUM(FD313,FD327,FD342,FD362,FD373,FD379,FD381,FD383,FD385,FD393,FD346,FD350,FD352,FD357,FD360,)","v":0},{"$f":"SUM(FE313,FE327,FE342,FE362,FE373,FE379,FE381,FE383,FE385,FE393,FE346,FE350,FE352,FE357,FE360,)","v":0},{"$f":"SUM(FF313,FF327,FF342,FF362,FF373,FF379,FF381,FF383,FF385,FF393,FF346,FF350,FF352,FF357,FF360,)","v":0},{"$f":"SUM(FG313,FG327,FG342,FG362,FG373,FG379,FG381,FG383,FG385,FG393,FG346,FG350,FG352,FG357,FG360,)","v":0},{"$f":"SUM(FH313,FH327,FH342,FH362,FH373,FH379,FH381,FH383,FH385,FH393,FH346,FH350,FH352,FH357,FH360,)","v":0},{"$f":"SUM(FI313,FI327,FI342,FI362,FI373,FI379,FI381,FI383,FI385,FI393,FI346,FI350,FI352,FI357,FI360,)","v":0},{"$f":"SUM(FJ313,FJ327,FJ342,FJ362,FJ373,FJ379,FJ381,FJ383,FJ385,FJ393,FJ346,FJ350,FJ352,FJ357,FJ360,)","v":0},{"$f":"SUM(FK313,FK327,FK342,FK362,FK373,FK379,FK381,FK383,FK385,FK393,FK346,FK350,FK352,FK357,FK360,)","v":0},{"$f":"SUM(FL313,FL327,FL342,FL362,FL373,FL379,FL381,FL383,FL385,FL393,FL346,FL350,FL352,FL357,FL360,)","v":0},{"$f":"SUM(FM313,FM327,FM342,FM362,FM373,FM379,FM381,FM383,FM385,FM393,FM346,FM350,FM352,FM357,FM360,)","v":0},{"$f":"SUM(FN313,FN327,FN342,FN362,FN373,FN379,FN381,FN383,FN385,FN393,FN346,FN350,FN352,FN357,FN360,)","v":0},{"$f":"SUM(FO313,FO327,FO342,FO362,FO373,FO379,FO381,FO383,FO385,FO393,FO346,FO350,FO352,FO357,FO360,)","v":0},{"$f":"SUM(FP313,FP327,FP342,FP362,FP373,FP379,FP381,FP383,FP385,FP393,FP346,FP350,FP352,FP357,FP360,)","v":0},{"$f":"SUM(FQ313,FQ327,FQ342,FQ362,FQ373,FQ379,FQ381,FQ383,FQ385,FQ393,FQ346,FQ350,FQ352,FQ357,FQ360,)","v":0},{"$f":"SUM(FR313,FR327,FR342,FR362,FR373,FR379,FR381,FR383,FR385,FR393,FR346,FR350,FR352,FR357,FR360,)","v":0},{"$f":"SUM(FS313,FS327,FS342,FS362,FS373,FS379,FS381,FS383,FS385,FS393,FS346,FS350,FS352,FS357,FS360,)","v":0},{"$f":"SUM(FT313,FT327,FT342,FT362,FT373,FT379,FT381,FT383,FT385,FT393,FT346,FT350,FT352,FT357,FT360,)","v":0},{"$f":"SUM(FU313,FU327,FU342,FU362,FU373,FU379,FU381,FU383,FU385,FU393,FU346,FU350,FU352,FU357,FU360,)","v":0},{"$f":"SUM(FV313,FV327,FV342,FV362,FV373,FV379,FV381,FV383,FV385,FV393,FV346,FV350,FV352,FV357,FV360,)","v":0},{"$f":"SUM(FW313,FW327,FW342,FW362,FW373,FW379,FW381,FW383,FW385,FW393,FW346,FW350,FW352,FW357,FW360,)","v":0},{"$f":"SUM(FX313,FX327,FX342,FX362,FX373,FX379,FX381,FX383,FX385,FX393,FX346,FX350,FX352,FX357,FX360,)","v":0},{"$f":"SUM(FY313,FY327,FY342,FY362,FY373,FY379,FY381,FY383,FY385,FY393,FY346,FY350,FY352,FY357,FY360,)","v":0},{"$f":"SUM(FZ313,FZ327,FZ342,FZ362,FZ373,FZ379,FZ381,FZ383,FZ385,FZ393,FZ346,FZ350,FZ352,FZ357,FZ360,)","v":0},{"$f":"SUM(GA313,GA327,GA342,GA362,GA373,GA379,GA381,GA383,GA385,GA393,GA346,GA350,GA352,GA357,GA360,)","v":0},{"$f":"SUM(GB313,GB327,GB342,GB362,GB373,GB379,GB381,GB383,GB385,GB393,GB346,GB350,GB352,GB357,GB360,)","v":0},{"$f":"SUM(GC313,GC327,GC342,GC362,GC373,GC379,GC381,GC383,GC385,GC393,GC346,GC350,GC352,GC357,GC360,)","v":0},{"$f":"SUM(GD313,GD327,GD342,GD362,GD373,GD379,GD381,GD383,GD385,GD393,GD346,GD350,GD352,GD357,GD360,)","v":0},{"$f":"SUM(GE313,GE327,GE342,GE362,GE373,GE379,GE381,GE383,GE385,GE393,GE346,GE350,GE352,GE357,GE360,)","v":0},{"$f":"SUM(GF313,GF327,GF342,GF362,GF373,GF379,GF381,GF383,GF385,GF393,GF346,GF350,GF352,GF357,GF360,)","v":0},{"$f":"SUM(GG313,GG327,GG342,GG362,GG373,GG379,GG381,GG383,GG385,GG393,GG346,GG350,GG352,GG357,GG360,)","v":0},{"$f":"SUM(GH313,GH327,GH342,GH362,GH373,GH379,GH381,GH383,GH385,GH393,GH346,GH350,GH352,GH357,GH360,)","v":0},{"$f":"SUM(GI313,GI327,GI342,GI362,GI373,GI379,GI381,GI383,GI385,GI393,GI346,GI350,GI352,GI357,GI360,)","v":0},{"$f":"SUM(GJ313,GJ327,GJ342,GJ362,GJ373,GJ379,GJ381,GJ383,GJ385,GJ393,GJ346,GJ350,GJ352,GJ357,GJ360,)","v":0},{"$f":"SUM(GK313,GK327,GK342,GK362,GK373,GK379,GK381,GK383,GK385,GK393,GK346,GK350,GK352,GK357,GK360,)","v":0},{"$f":"SUM(GL313,GL327,GL342,GL362,GL373,GL379,GL381,GL383,GL385,GL393,GL346,GL350,GL352,GL357,GL360,)","v":0},{"$f":"SUM(GM313,GM327,GM342,GM362,GM373,GM379,GM381,GM383,GM385,GM393,GM346,GM350,GM352,GM357,GM360,)","v":0},{"$f":"SUM(GN313,GN327,GN342,GN362,GN373,GN379,GN381,GN383,GN385,GN393,GN346,GN350,GN352,GN357,GN360,)","v":0},{"$f":"SUM(GO313,GO327,GO342,GO362,GO373,GO379,GO381,GO383,GO385,GO393,GO346,GO350,GO352,GO357,GO360,)","v":0},{"$f":"SUM(GP313,GP327,GP342,GP362,GP373,GP379,GP381,GP383,GP385,GP393,GP346,GP350,GP352,GP357,GP360,)","v":0},{"$f":"SUM(GQ313,GQ327,GQ342,GQ362,GQ373,GQ379,GQ381,GQ383,GQ385,GQ393,GQ346,GQ350,GQ352,GQ357,GQ360,)","v":0},{"$f":"SUM(GR313,GR327,GR342,GR362,GR373,GR379,GR381,GR383,GR385,GR393,GR346,GR350,GR352,GR357,GR360,)","v":0},{"$f":"SUM(GS313,GS327,GS342,GS362,GS373,GS379,GS381,GS383,GS385,GS393,GS346,GS350,GS352,GS357,GS360,)","v":0},{"$f":"SUM(GT313,GT327,GT342,GT362,GT373,GT379,GT381,GT383,GT385,GT393,GT346,GT350,GT352,GT357,GT360,)","v":0},{"$f":"SUM(GU313,GU327,GU342,GU362,GU373,GU379,GU381,GU383,GU385,GU393,GU346,GU350,GU352,GU357,GU360,)","v":0},{"$f":"SUM(GV313,GV327,GV342,GV362,GV373,GV379,GV381,GV383,GV385,GV393,GV346,GV350,GV352,GV357,GV360,)","v":0},{"$f":"SUM(GW313,GW327,GW342,GW362,GW373,GW379,GW381,GW383,GW385,GW393,GW346,GW350,GW352,GW357,GW360,)","v":0},{"$f":"SUM(GX313,GX327,GX342,GX362,GX373,GX379,GX381,GX383,GX385,GX393,GX346,GX350,GX352,GX357,GX360,)","v":0},{"$f":"SUM(GY313,GY327,GY342,GY362,GY373,GY379,GY381,GY383,GY385,GY393,GY346,GY350,GY352,GY357,GY360,)","v":0},{"$f":"SUM(GZ313,GZ327,GZ342,GZ362,GZ373,GZ379,GZ381,GZ383,GZ385,GZ393,GZ346,GZ350,GZ352,GZ357,GZ360,)","v":0},{"$f":"SUM(HA313,HA327,HA342,HA362,HA373,HA379,HA381,HA383,HA385,HA393,HA346,HA350,HA352,HA357,HA360,)","v":0},{"$f":"SUM(HB313,HB327,HB342,HB362,HB373,HB379,HB381,HB383,HB385,HB393,HB346,HB350,HB352,HB357,HB360,)","v":0},{"$f":"SUM(HC313,HC327,HC342,HC362,HC373,HC379,HC381,HC383,HC385,HC393,HC346,HC350,HC352,HC357,HC360,)","v":0},{"$f":"SUM(HD313,HD327,HD342,HD362,HD373,HD379,HD381,HD383,HD385,HD393,HD346,HD350,HD352,HD357,HD360,)","v":0},{"$f":"SUM(HE313,HE327,HE342,HE362,HE373,HE379,HE381,HE383,HE385,HE393,HE346,HE350,HE352,HE357,HE360,)","v":0},{"$f":"SUM(HF313,HF327,HF342,HF362,HF373,HF379,HF381,HF383,HF385,HF393,HF346,HF350,HF352,HF357,HF360,)","v":0},{"$f":"SUM(HG313,HG327,HG342,HG362,HG373,HG379,HG381,HG383,HG385,HG393,HG346,HG350,HG352,HG357,HG360,)","v":0},{"$f":"SUM(HH313,HH327,HH342,HH362,HH373,HH379,HH381,HH383,HH385,HH393,HH346,HH350,HH352,HH357,HH360,)","v":0},{"$f":"SUM(HI313,HI327,HI342,HI362,HI373,HI379,HI381,HI383,HI385,HI393,HI346,HI350,HI352,HI357,HI360,)","v":0},{"$f":"SUM(HJ313,HJ327,HJ342,HJ362,HJ373,HJ379,HJ381,HJ383,HJ385,HJ393,HJ346,HJ350,HJ352,HJ357,HJ360,)","v":0},{"$f":"SUM(HK313,HK327,HK342,HK362,HK373,HK379,HK381,HK383,HK385,HK393,HK346,HK350,HK352,HK357,HK360,)","v":0},{"$f":"SUM(HL313,HL327,HL342,HL362,HL373,HL379,HL381,HL383,HL385,HL393,HL346,HL350,HL352,HL357,HL360,)","v":0},{"$f":"SUM(HM313,HM327,HM342,HM362,HM373,HM379,HM381,HM383,HM385,HM393,HM346,HM350,HM352,HM357,HM360,)","v":0},{"$f":"SUM(HN313,HN327,HN342,HN362,HN373,HN379,HN381,HN383,HN385,HN393,HN346,HN350,HN352,HN357,HN360,)","v":0},{"$f":"SUM(HO313,HO327,HO342,HO362,HO373,HO379,HO381,HO383,HO385,HO393,HO346,HO350,HO352,HO357,HO360,)","v":0},null,{"$f":"IF(COUNT(DI312:DR312)=0,\"\",SUM(DI312:DR312))","v":0},{"$f":"IF(COUNT(DS312:EB312)=0,\"\",SUM(DS312:EB312))","v":0},{"$f":"IF(COUNT(EC312:EL312)=0,\"\",SUM(EC312:EL312))","v":0},{"$f":"IF(COUNT(EM312:EP312)=0,\"\",SUM(EM312:EP312))","v":0},{"$f":"IF(COUNT(EQ312:EZ312)=0,\"\",SUM(EQ312:EZ312))","v":0},{"$f":"IF(COUNT(FA312:FD312)=0,\"\",SUM(FA312:FD312))","v":0},{"$f":"IF(COUNT(FE312:FK312)=0,\"\",SUM(FE312:FK312))","v":0},{"$f":"IF(COUNT(FL312:FL312)=0,\"\",SUM(FL312:FL312))","v":0},{"$f":"IF(COUNT(FM312:FP312)=0,\"\",SUM(FM312:FP312))","v":0},{"$f":"IF(COUNT(FQ312:FQ312)=0,\"\",SUM(FQ312:FQ312))","v":0},{"$f":"IF(COUNT(FR312:FW312)=0,\"\",SUM(FR312:FW312))","v":0},{"$f":"IF(COUNT(FX312:GB312)=0,\"\",SUM(FX312:GB312))","v":0},{"$f":"IF(COUNT(GC312:GH312)=0,\"\",SUM(GC312:GH312))","v":0},{"$f":"IF(COUNT(GI312:GS312)=0,\"\",SUM(GI312:GS312))","v":0},{"$f":"IF(COUNT(GT312:HD312)=0,\"\",SUM(GT312:HD312))","v":0},{"$f":"IF(COUNT(HE312:HO312)=0,\"\",SUM(HE312:HO312))","v":0},{"$f":"IF(COUNT(H312:DH312)=0,\"\",SUM(H312:DH312))","v":0}]
[6001,"Betreuungsbeiträge Trägerkanton",0,0,{"$f":"SUM(C315:D315)","v":0},"i.o.",null,null,null,null,null,null,null,null,null,null,null,null,null,null,null,null,null,null,null,null,null,null,null,null,null,null,null,null,null,null,null,null,null,null,null,null,null,null,null,null,null,null,null,null,null,null,null,null,null,null,null,null,null,null,null,null,null,null,null,null,null,null,null,null,null,null,null,null,null,null,null,null,null,null,null,null,null,null,null,null,null,null,null,null,null,null,null,null,null,null,null,null,null,null,null,null,null,null,null,null,null,null,null,null,null,null,0,0,0,0,0,0,0,0,0,0,0,0,0,0,0,0,0,0,0,0,0,0,0,0,0,0,0,0,0,0,0,0,0,0,0,0,0,0,0,0,0,0,0,0,0,0,0,0,0,0,0,0,0,0,0,0,0,0,0,0,0,0,0,0,0,0,0,0,0,0,0,0,0,0,0,0,0,0,0,0,0,0,0,0,0,0,0,0,0,0,0,0,0,0,0,0,0,0,0,0,0,0,0,0,0,0,0,0,0,0,0,null,0,0,0,0,0,0,null,null,0,0,0,0,0]
[6002,"Objektbeiträge Trägerkanton",0,0,0,"i.o.",null,null,null,null,null,null,null,null,null,null,null,null,null,null,null,null,null,null,null,null,null,null,null,null,null,null,null,null,null,null,null,null,null,null,null,null,null,null,null,null,null,null,null,null,null,null,null,null,null,null,null,null,null,null,null,null,null,null,null,null,null,null,null,null,null,null,null,null,null,null,null,null,null,null,null,null,null,null,null,null,null,null,null,null,null,null,null,null,null,null,null,null,null,null,null,null,null,null,null,null,null,null,null,null,null,null,0,0,0,0,0,0,0,0,0,0,0,0,0,0,0,0,0,0,0,0,0,0,0,0,0,0,0,0,0,0,0,0,0,0,0,0,0,0,0,0,0,0,0,0,0,0,0,0,0,0,0,0,0,0,0,0,0,0,0,0,0,0,0,0,0,0,0,0,0,0,0,0,0,0,0,0,0,0,0,0,0,0,0,0,0,0,0,0,0,0,0,0,0,0,0,0,0,0,0,0,0,0,0,0,0,0,0,0,0,0,0,null,0,0,0,0,0,0,null,null,0,0,0,0,0]
[6021,"Eltern- bzw. Versorgerbeitrag Extern",0,0,0,"i.o.",null,null,null,null,null,null,null,null,null,null,null,null,null,null,null,null,null,null,null,null,null,null,null,null,null,null,null,null,null,null,null,null,null,null,null,null,null,null,null,null,null,null,null,null,null,null,null,null,null,null,null,null,null,null,null,null,null,null,null,null,null,null,null,null,null,null,null,null,null,null,null,null,null,null,null,null,null,null,null,null,null,null,null,null,null,null,null,null,null,null,null,null,null,null,null,null,null,null,null,null,null,null,null,null,null,null,null,null,null,null,null,null,null,null,null,null,null,null,null,null,null,null,null,null,null,null,null,null,null,null,null,null,null,null,null,null,null,null,null,null,null,null,null,null,null,null,null,null,null,null,null,null,null,null,0,0,0,0,0,0,0,0,0,0,0,0,0,0,0,0,0,0,0,0,0,0,0,0,0,0,0,0,0,0,0,0,0,0,0,0,0,0,0,0,0,0,0,0,0,0,0,0,0,0,0,0,0,0,0,0,0,0,0,0,0,0,0,null,"","","","","","",0,0,0,0,0,0,0,{"$f":"IF(COUNT(GI319:GS319)=0,\"\",SUM(GI319:GS319))","v":0},{"$f":"IF(COUNT(GT319:HD319)=0,\"\",SUM(GT319:HD319))","v":0},0,""]
[6032,"Beiträge Betreute/MA mit IV-Rente Tagestaxe",0,0,0,"i.o.",null,null,null,null,null,null,null,null,null,null,null,null,null,null,null,null,null,null,null,null,null,null,null,null,null,null,null,null,null,null,null,null,null,null,null,null,null,null,null,null,null,null,null,null,null,null,null,null,null,null,null,null,null,null,null,null,null,null,null,null,null,null,null,null,null,null,null,null,null,null,null,null,null,null,null,null,null,null,null,null,null,null,null,null,null,null,null,null,null,null,null,null,null,null,null,null,null,null,null,null,null,null,null,null,null,null,0,0,0,0,0,0,0,0,0,0,0,0,0,0,0,0,0,0,0,0,0,0,0,0,0,0,0,0,0,0,0,0,0,0,0,0,0,0,0,0,0,0,0,0,0,0,0,0,0,0,0,0,0,0,0,0,0,0,0,0,0,0,0,0,0,0,0,0,0,0,0,0,0,0,0,0,0,0,0,0,0,0,0,0,0,0,0,0,0,0,0,0,0,0,0,0,0,0,0,0,0,0,0,0,0,0,0,0,0,0,0,null,0,0,0,0,0,0,0,0,0,0,0,0,0,0,0,0,""]
[6099,"Erlösminderungen aus Leistungsabgeltung innerkantonal",0,0,0,"i.o.",null,null,null,null,null,null,null,null,null,null,null,null,null,null,null,null,null,null,null,null,null,null,null,null,null,null,null,null,null,null,null,null,null,null,null,null,null,null,null,null,null,null,null,null,null,null,null,null,null,null,null,null,null,null,null,null,null,null,null,null,null,null,null,null,null,null,null,null,null,null,null,null,null,null,null,null,null,null,null,null,null,null,null,null,null,null,null,null,null,null,null,null,null,null,null,null,null,null,null,null,null,null,null,null,null,null,0,0,0,0,0,0,0,0,0,0,0,0,0,0,0,0,0,0,0,0,0,0,0,0,0,0,0,0,0,0,0,0,0,0,0,0,0,0,0,0,0,0,0,0,0,0,0,0,0,0,0,0,0,0,0,0,0,0,0,0,0,0,0,0,0,0,0,0,0,0,0,0,0,0,0,0,0,0,0,0,0,0,0,0,0,0,0,0,0,0,0,0,0,0,0,0,0,0,0,0,0,0,0,0,0,0,0,0,0,0,0,null,0,0,0,0,0,0,0,0,0,0,0,0,0,0,0,0,""]
[6101,"Betreuungsbeiträge Wohnkanton",0,0,{"$f":"SUM(C329:D329)","v":0},"i.o.",null,null,null,null,null,null,null,null,null,null,null,null,null,null,null,null,null,null,null,null,null,null,null,null,null,null,null,null,null,null,null,null,null,null,null,null,null,null,null,null,null,null,null,null,null,null,null,null,null,null,null,null,null,null,null,null,null,null,null,null,null,null,null,null,null,null,null,null,null,null,null,null,null,null,null,null,null,null,null,null,null,null,null,null,null,null,null,null,null,null,null,null,null,null,null,null,null,null,null,null,null,null,null,null,null,null,0,0,0,0,0,0,0,0,0,0,0,0,0,0,0,0,0,0,0,0,0,0,0,0,0,0,0,0,0,0,0,0,0,0,0,0,0,0,0,0,0,0,0,0,0,0,0,0,0,0,0,0,0,0,0,0,0,0,0,0,0,0,0,0,0,0,0,0,0,0,0,0,0,0,0,0,0,0,0,0,0,0,0,0,0,0,0,0,0,0,0,0,0,0,0,0,0,0,0,0,0,0,0,0,0,0,0,0,0,0,0,null,0,0,0,0,0,0,null,null,0,0,0,0,0]
[6222,"Eltern- bzw. Versorgerbeitrag Intern",0,0,0,"i.o.",null,null,null,null,null,null,null,null,null,null,null,null,null,null,null,null,null,null,null,null,null,null,null,null,null,null,null,null,null,null,null,null,null,null,null,null,null,null,null,null,null,null,null,null,null,null,null,null,null,null,null,null,null,null,null,null,null,null,null,null,null,null,null,null,null,null,null,null,null,null,null,null,null,null,null,null,null,null,null,null,null,null,null,null,null,null,null,null,null,null,null,null,null,null,null,null,null,null,null,null,null,null,null,null,null,null,null,null,null,null,null,null,null,null,null,null,null,null,null,null,null,null,null,null,null,null,null,null,null,null,null,null,null,null,null,null,null,null,null,null,null,null,null,null,null,null,null,null,null,null,null,null,null,null,0,0,0,0,0,0,0,0,0,0,0,0,0,0,0,0,0,0,0,0,0,0,0,0,0,0,0,0,0,0,0,0,0,0,0,0,0,0,0,0,0,0,0,0,0,0,0,0,0,0,0,0,0,0,0,0,0,0,0,0,0,0,0,null,"","","","","","",0,0,0,0,0,0,0,0,0,0,""]
[6132,"Beiträge Betreute/MA mit IV-Rente Tagestaxe",0,0,0,"i.o.",null,null,null,null,null,null,null,null,null,null,null,null,null,null,null,null,null,null,null,null,null,null,null,null,null,null,null,null,null,null,null,null,null,null,null,null,null,null,null,null,null,null,null,null,null,null,null,null,null,null,null,null,null,null,null,null,null,null,null,null,null,null,null,null,null,null,null,null,null,null,null,null,null,null,null,null,null,null,null,null,null,null,null,null,null,null,null,null,null,null,null,null,null,null,null,null,null,null,null,null,null,null,null,null,null,null,0,0,0,0,0,0,0,0,0,0,0,0,0,0,0,0,0,0,0,0,0,0,0,0,0,0,0,0,0,0,0,0,0,0,0,0,0,0,0,0,0,0,0,0,0,0,0,0,0,0,0,0,0,0,0,0,0,0,0,0,0,0,0,0,0,0,0,0,0,0,0,0,0,0,0,0,0,0,0,0,0,0,0,0,0,0,0,0,0,0,0,0,0,0,0,0,0,0,0,0,0,0,0,0,0,0,0,0,0,0,0,null,0,0,0,0,0,0,0,0,0,0,0,0,0,0,0,0,""]
[6190,"Erträge aus Investitionszuschlägen",0,0,{"$f":"SUM(C340:D340)","v":0},{"$f":"IF(SUM(H340:HO340)=E340,\"i.o.\",E340-SUM(H340:HO340))","v":"i.o."},null,null,null,null,null,null,null,null,null,null,null,null,null,null,null,null,null,null,null,null,null,null,null,null,null,null,null,null,null,null,null,null,null,null,null,null,null,null,null,null,null,null,null,null,null,null,null,null,null,null,null,null,null,null,null,null,null,null,null,null,null,null,null,null,null,null,null,null,null,null,null,null,null,null,null,null,null,null,null,null,null,null,null,null,null,null,null,null,null,null,null,null,null,null,null,null,null,null,null,null,null,null,null,null,null,null,0,0,0,0,0,0,0,0,0,0,0,0,0,0,0,0,0,0,0,0,0,0,0,0,0,0,0,0,0,0,0,0,0,0,0,0,0,0,0,0,0,0,0,0,0,0,0,0,0,0,0,0,0,0,0,0,0,0,0,0,0,0,0,0,0,0,0,0,0,0,0,0,0,0,0,0,0,0,0,0,0,0,0,0,0,0,0,0,0,0,0,0,0,0,0,0,0,0,0,0,0,0,0,0,0,0,0,0,0,0,0,null,{"$f":"IF(COUNT(DI340:DR340)=0,\"\",SUM(DI340:DR340))","v":0},{"$f":"IF(COUNT(DS340:EB340)=0,\"\",SUM(DS340:EB340))","v":0},{"$f":"IF(COUNT(EC340:EL340)=0,\"\",SUM(EC340:EL340))","v":0},{"$f":"IF(COUNT(EM340:EP340)=0,\"\",SUM(EM340:EP340))","v":0},{"$f":"IF(COUNT(EQ340:EZ340)=0,\"\",SUM(EQ340:EZ340))","v":0},{"$f":"IF(COUNT(FA340:FD340)=0,\"\",SUM(FA340:FD340))","v":0},{"$f":"IF(COUNT(FE340:FK340)=0,\"\",SUM(FE340:FK340))","v":0},{"$f":"IF(COUNT(FL340:FL340)=0,\"\",SUM(FL340:FL340))","v":0},{"$f":"IF(COUNT(FM340:FP340)=0,\"\",SUM(FM340:FP340))","v":0},{"$f":"IF(COUNT(FQ340:FQ340)=0,\"\",SUM(FQ340:FQ340))","v":0},{"$f":"IF(COUNT(FR340:FW340)=0,\"\",SUM(FR340:FW340))","v":0},{"$f":"IF(COUNT(FX340:GB340)=0,\"\",SUM(FX340:GB340))","v":0},{"$f":"IF(COUNT(GC340:GH340)=0,\"\",SUM(GC340:GH340))","v":0},{"$f":"IF(COUNT(GI340:GS340)=0,\"\",SUM(GI340:GS340))","v":0},{"$f":"IF(COUNT(GT340:HD340)=0,\"\",SUM(GT340:HD340))","v":0},{"$f":"IF(COUNT(HE340:HO340)=0,\"\",SUM(HE340:HO340))","v":0},{"$f":"IF(COUNT(H340:DH340)=0,\"\",SUM(H340:DH340))","v":""}]
[6199,"Erlösminderungen aus Leistungsabgeltung ausserkantonal",0,0,0,"i.o.",null,null,null,null,null,null,null,null,null,null,null,null,null,null,null,null,null,null,null,null,null,null,null,null,null,null,null,null,null,null,null,null,null,null,null,null,null,null,null,null,null,null,null,null,null,null,null,null,null,null,null,null,null,null,null,null,null,null,null,null,null,null,null,null,null,null,null,null,null,null,null,null,null,null,null,null,null,null,null,null,null,null,null,null,null,null,null,null,null,null,null,null,null,null,null,null,null,null,null,null,null,null,null,null,null,null,0,0,0,0,0,0,0,0,0,0,0,0,0,0,0,0,0,0,0,0,0,0,0,0,0,0,0,0,0,0,0,0,0,0,0,0,0,0,0,0,0,0,0,0,0,0,0,0,0,0,0,0,0,0,0,0,0,0,0,0,0,0,0,0,0,0,0,0,0,0,0,0,0,0,0,0,0,0,0,0,0,0,0,0,0,0,0,0,0,0,0,0,0,0,0,0,0,0,0,0,0,0,0,0,0,0,0,0,0,0,0,null,0,0,0,0,0,0,0,0,0,0,0,0,0,0,0,0,""]
[6201,"Ausbildungsbeiträge",0,0,0,"i.o.",null,null,null,null,null,null,null,null,null,null,null,null,null,null,null,null,null,null,null,null,null,null,null,null,null,null,null,null,null,null,null,null,null,null,null,null,null,null,null,null,null,null,null,null,null,null,null,null,null,null,null,null,null,null,null,null,null,null,null,null,null,null,null,null,null,null,null,null,null,null,null,null,null,null,null,null,null,null,null,null,null,null,null,null,null,null,null,null,null,null,null,null,null,null,null,null,null,null,null,null,null,null,null,null,null,null,null,null,null,null,null,null,null,null,null,null,null,null,null,null,null,null,null,null,null,null,null,null,null,null,null,null,null,null,null,null,null,null,null,null,null,null,null,null,null,null,null,null,null,null,null,null,null,null,0,0,0,0,0,0,0,0,0,0,0,0,0,0,0,0,0,0,0,0,0,0,0,0,0,0,0,0,0,0,0,0,0,0,0,0,0,0,0,0,0,0,0,0,0,0,0,0,0,0,0,0,0,0,0,0,0,0,0,0,0,0,0,null,"","","","","","",0,0,0,0,0,0,0,0,0,0,""]
[6212,"Beiträge integrative Schulung",0,0,0,"i.o.",null,null,null,null,null,null,null,null,null,null,null,null,null,null,null,null,null,null,null,null,null,null,null,null,null,null,null,null,null,null,null,null,null,null,null,null,null,null,null,null,null,null,null,null,null,null,null,null,null,null,null,null,null,null,null,null,null,null,null,null,null,null,null,null,null,null,null,null,null,null,null,null,null,null,null,null,null,null,null,null,null,null,null,null,null,null,null,null,null,null,null,null,null,null,null,null,null,null,null,null,null,null,null,null,null,null,null,null,null,null,null,null,null,null,null,null,null,null,null,null,null,null,null,null,null,null,null,null,null,null,null,null,null,null,null,null,null,null,null,null,null,null,null,null,null,null,null,null,null,null,null,null,null,null,0,0,0,0,0,0,0,0,0,0,0,0,0,0,0,0,0,0,0,0,0,0,0,0,0,0,0,0,0,0,0,0,0,0,0,0,0,0,0,0,0,0,0,0,0,0,0,0,0,0,0,0,0,0,0,0,0,0,0,0,0,0,0,null,"","","","","","",0,0,0,0,0,0,0,0,0,0,""]
[6221,"Beiträge medizinisch-therapeutische Massnahmen",0,0,0,"i.o.",null,null,null,null,null,null,null,null,null,null,null,null,null,null,null,null,null,null,null,null,null,null,null,null,null,null,null,null,null,null,null,null,null,null,null,null,null,null,null,null,null,null,null,null,null,null,null,null,null,null,null,null,null,null,null,null,null,null,null,null,null,null,null,null,null,null,null,null,null,null,null,null,null,null,null,null,null,null,0,0,0,0,0,0,0,null,null,null,null,null,null,null,null,null,null,null,null,null,null,null,null,null,null,null,null,null,0,0,0,0,0,0,0,0,0,0,0,0,0,0,0,0,0,0,0,0,0,0,0,0,0,0,0,0,0,0,0,0,0,0,0,0,0,0,0,0,0,0,0,0,0,0,0,0,0,0,0,0,0,0,0,0,0,0,0,0,0,0,0,0,0,0,0,0,0,0,0,0,0,0,0,0,0,0,0,0,0,0,0,0,0,0,0,0,0,0,0,0,0,0,0,0,0,0,0,0,0,0,0,0,0,0,0,0,0,0,0,null,0,0,0,0,0,0,0,0,0,0,0,0,0,0,0,0,0]
[6232,"Pflegetaxe Krankenversicherer",0,0,0,"i.o.",null,null,null,null,null,null,null,null,null,null,null,null,null,null,null,null,null,null,null,null,null,null,null,null,null,null,null,null,null,null,null,null,null,null,null,null,null,null,null,null,null,null,null,null,null,null,null,null,null,null,null,null,null,null,null,null,null,null,null,null,null,null,null,null,null,null,null,null,null,null,null,null,null,null,null,null,null,null,0,0,0,0,0,0,0,null,null,null,null,null,null,null,null,null,null,null,null,null,null,null,null,null,null,null,null,null,null,null,null,null,null,null,null,null,null,null,null,null,null,null,null,null,null,null,null,null,null,null,null,null,null,null,null,null,null,null,null,null,null,null,null,null,null,null,null,null,null,null,null,null,null,null,null,null,0,0,0,0,0,0,0,0,0,0,0,0,0,0,0,0,0,0,0,0,0,0,0,0,0,0,0,0,0,0,0,0,0,0,0,0,0,0,0,0,0,0,0,0,0,0,0,0,0,0,0,0,0,0,0,0,0,0,0,0,0,0,0,null,"","","","","","",0,0,0,0,0,0,0,0,0,0,0]
[6252,"Beiträge für Schülertransporte ausserkantonal",0,0,0,"i.o.",null,null,null,null,null,null,null,null,null,null,null,null,null,null,null,null,null,null,null,null,null,null,null,null,null,null,null,null,null,null,null,null,null,null,null,null,null,null,null,null,null,null,null,null,null,null,null,null,null,null,null,null,null,null,null,null,null,null,null,null,null,null,null,null,null,null,null,null,null,null,null,null,null,null,null,null,null,null,null,null,null,null,null,null,null,null,null,null,null,null,null,null,null,null,null,null,null,null,null,null,null,null,null,null,null,null,null,null,null,null,null,null,null,null,null,null,null,null,null,null,null,null,null,null,null,null,null,null,null,null,null,null,null,null,null,null,null,null,null,null,null,null,null,null,null,null,null,null,null,null,null,null,null,null,0,0,0,0,0,0,0,0,0,0,0,0,0,0,0,0,0,0,0,0,0,0,0,0,0,0,0,0,0,0,0,0,0,0,0,0,0,0,0,0,0,0,0,0,0,0,0,0,0,0,0,0,0,0,0,0,0,0,0,0,0,0,0,null,"","","","","","",0,0,0,0,0,0,0,0,0,0,""]
[630,"Erträge aus Dienstleistungen, Handel und Produktion",{"$f":"SUM(C363:C372)","v":0},{"$f":"SUM(D363:D372)","v":0},{"$f":"SUM(C362:D362)","v":0},"i.o.",null,{"$f":"SUM(H363:H372)","v":0},{"$f":"SUM(I363:I372)","v":0},0,0,0,0,0,0,0,0,0,0,0,0,0,0,0,0,0,0,0,0,0,0,0,0,0,0,0,0,0,0,0,0,0,0,0,0,0,0,0,0,0,0,0,0,0,0,0,0,0,0,0,0,0,0,0,0,0,0,0,0,0,0,0,{"$f":"SUM(BU363:BU372)","v":0},0,0,0,0,0,0,0,0,0,0,0,0,0,0,0,0,0,0,0,0,0,0,0,0,0,0,0,0,0,0,0,0,0,0,0,0,0,0,0,0,0,0,0,0,0,0,0,0,0,0,{"$f":"SUM(DT363:DT372)","v":0},0,0,0,0,0,0,0,0,0,0,0,0,0,0,0,0,0,0,0,{"$f":"SUM(EN363:EN372)","v":0},0,{"$f":"SUM(EP363:EP372)","v":0},0,0,0,0,0,0,0,0,0,{"$f":"SUM(EZ363:EZ372)","v":0},0,{"$f":"SUM(FB363:FB372)","v":0},0,{"$f":"SUM(FD363:FD372)","v":0},0,0,0,0,0,0,0,0,0,0,0,0,0,0,0,0,0,0,0,0,0,0,0,0,0,0,0,0,0,0,0,0,0,0,0,0,0,0,0,0,0,0,0,0,0,0,0,0,0,0,0,0,0,0,0,0,0,0,0,{"$f":"SUM(HL363:HL372)","v":0},0,0,{"$f":"SUM(HO363:HO372)","v":0},null,0,0,0,0,0,0,0,0,0,0,0,0,0,{"$f":"IF(COUNT(GI362:GS362)=0,\"\",SUM(GI362:GS362))","v":0},0,0,0]
[6300,"Verkauf Fertigwaren",0,0,{"$f":"SUM(C363:D363)","v":0},"i.o.",null,null,null,null,null,null,null,null,null,null,null,null,null,null,null,null,null,null,null,null,null,null,null,null,null,null,null,null,null,null,null,null,null,null,null,null,null,null,null,null,null,null,null,null,null,null,null,null,null,null,null,null,null,null,null,null,null,null,null,null,null,null,null,null,null,null,null,null,null,null,null,null,null,null,null,null,null,null,null,null,null,null,null,null,null,null,null,null,null,null,null,null,null,null,null,null,null,null,null,null,null,null,null,null,null,null,null,null,null,null,null,null,null,null,null,null,null,null,null,null,null,null,null,null,null,null,0,0,0,0,0,0,0,0,0,0,0,0,0,0,null,null,null,null,null,null,null,null,null,null,null,null,null,null,0,0,0,0,0,0,0,0,0,0,0,0,0,0,0,0,0,0,0,0,0,0,0,0,0,0,0,0,0,0,0,0,0,0,0,0,0,0,0,0,0,0,0,0,0,0,0,0,0,0,0,0,0,0,0,0,0,0,0,0,0,0,0,null,"","",0,0,"","",0,0,0,0,0,0,0,0,0,0,""]
[6320,"Ertrag aus Dienstleistungen",0,0,0,"i.o.",null,null,null,null,null,null,null,null,null,null,null,null,null,null,null,null,null,null,null,null,null,null,null,null,null,null,null,null,null,null,null,null,null,null,null,null,null,null,null,null,null,null,null,null,null,null,null,null,null,null,null,null,null,null,null,null,null,null,null,null,null,null,null,null,null,null,null,null,null,null,null,null,null,null,null,null,null,null,null,null,null,null,null,null,null,null,null,null,null,null,null,null,null,null,null,null,null,null,null,null,null,null,null,null,null,null,null,null,null,null,null,null,null,null,null,null,null,null,null,null,null,null,null,null,null,null,0,0,0,0,0,0,0,0,0,0,0,0,0,0,null,null,null,null,null,null,null,null,null,null,null,null,null,null,0,0,0,0,0,0,0,0,0,0,0,0,0,0,0,0,0,0,0,0,0,0,0,0,0,0,0,0,0,0,0,0,0,0,0,0,0,0,0,0,0,0,0,0,0,0,0,0,0,0,0,0,0,0,0,0,0,0,0,0,0,0,0,null,"","",0,0,"","",0,0,0,0,0,0,0,0,0,0,""]
[6371,"Bestandsänderung fertige Erzeugnisse",0,0,0,"i.o.",null,null,null,null,null,null,null,null,null,null,null,null,null,null,null,null,null,null,null,null,null,null,null,null,null,null,null,null,null,null,null,null,null,null,null,null,null,null,null,null,null,null,null,null,null,null,null,null,null,null,null,null,null,null,null,null,null,null,null,null,null,null,null,null,null,null,null,null,null,null,null,null,null,null,null,null,null,null,null,null,null,null,null,null,null,null,null,null,null,null,null,null,null,null,null,null,null,null,null,null,null,null,null,null,null,null,null,null,null,null,null,null,null,null,null,null,null,null,null,null,null,null,null,null,null,null,null,null,null,null,null,null,null,null,null,null,null,null,null,null,null,null,null,null,null,null,null,null,null,null,null,null,null,null,0,0,0,0,0,0,0,0,0,0,0,0,0,0,0,0,0,0,0,0,0,0,0,0,0,0,0,0,0,0,0,0,0,0,0,0,0,0,0,0,0,0,0,0,0,0,0,0,0,0,0,0,0,0,0,0,0,0,0,0,0,0,0,null,"","","","","","",{"$f":"IF(COUNT(FE369:FK369)=0,\"\",SUM(FE369:FK369))","v":0},{"$f":"IF(COUNT(FL369:FL369)=0,\"\",SUM(FL369:FL369))","v":0},0,0,0,0,0,0,0,0,{"$f":"IF(COUNT(H369:DH369)=0,\"\",SUM(H369:DH369))","v":""}]
[650,"Erträge aus weiteren Dienstleistungen für Betreute/MA mit IV-Rente",{"$f":"SUM(C374:C378)","v":0},{"$f":"SUM(D374:D378)","v":0},{"$f":"SUM(C373:D373)","v":0},"i.o.",null,{"$f":"SUM(H374:H378)","v":0},{"$f":"SUM(I374:I378)","v":0},0,0,0,0,0,0,0,0,0,0,0,0,0,0,0,0,0,0,0,0,0,0,0,0,0,0,0,0,0,0,0,0,0,0,0,0,0,0,0,0,0,0,0,0,0,0,0,0,0,0,0,0,0,0,0,0,0,0,0,0,0,0,0,{"$f":"SUM(BU374:BU378)","v":0},0,0,0,0,0,0,0,0,0,0,0,0,0,0,0,0,0,0,0,0,0,0,0,0,0,0,0,0,0,0,0,0,0,0,0,0,0,0,0,0,0,0,0,0,0,0,0,0,0,0,{"$f":"SUM(DT374:DT378)","v":0},0,0,0,0,0,0,0,0,0,0,0,0,0,0,0,0,0,0,0,{"$f":"SUM(EN374:EN378)","v":0},0,{"$f":"SUM(EP374:EP378)","v":0},0,0,0,0,0,0,0,0,0,{"$f":"SUM(EZ374:EZ378)","v":0},0,{"$f":"SUM(FB374:FB378)","v":0},0,{"$f":"SUM(FD374:FD378)","v":0},0,0,0,0,0,0,0,0,0,0,0,0,0,0,0,0,0,0,0,{"$f":"SUM(FX374:FX378)","v":0},0,0,0,0,0,0,0,0,0,0,0,0,0,0,0,0,0,0,0,0,0,0,0,0,0,0,0,0,0,0,0,0,0,0,0,0,0,0,0,{"$f":"SUM(HL374:HL378)","v":0},0,0,0,null,0,0,0,{"$f":"IF(COUNT(EM373:EP373)=0,\"\",SUM(EM373:EP373))","v":0},0,0,0,0,0,0,0,0,0,0,0,0,0]
[6520,"Erträge aus \"Auslagen für Betreute\", Kinder",0,0,0,"i.o.",null,null,null,null,null,null,null,null,null,null,null,null,null,null,null,null,null,null,null,null,null,null,null,null,null,null,null,null,null,null,null,null,null,null,null,null,null,null,null,null,null,null,null,null,null,null,null,null,null,null,null,null,null,null,null,null,null,null,null,null,null,null,null,null,null,null,null,null,null,null,null,null,null,null,null,null,null,null,null,null,null,null,null,null,null,null,null,null,null,null,null,null,null,null,null,null,null,null,null,null,null,null,null,null,null,null,null,null,null,null,null,null,null,null,null,null,null,null,null,null,null,null,null,null,null,null,null,null,null,null,null,null,null,null,null,null,null,null,null,null,null,null,null,null,null,null,null,null,null,null,null,null,null,null,0,0,0,0,0,0,0,0,0,0,0,0,0,0,0,0,0,0,0,0,0,0,0,0,0,0,0,0,0,0,0,0,0,0,0,0,0,0,0,0,0,0,0,0,0,0,0,0,0,0,0,0,0,0,0,0,0,0,0,0,0,0,0,null,"","","","","","",0,0,0,0,0,0,0,0,0,0,""]
[660,"Mieterträge (exklusive Kapitalzinsertrag)",{"$f":"SUM(C380)","v":0},{"$f":"SUM(D380)","v":0},{"$f":"SUM(C379:D379)","v":0},"i.o.",null,{"$f":"SUM(H380)","v":0},{"$f":"SUM(I380)","v":0},0,0,0,0,0,0,0,0,0,0,0,0,0,0,0,0,0,0,0,0,0,0,0,0,0,0,0,0,0,0,0,0,0,0,0,0,0,0,0,0,0,0,0,0,0,0,0,0,0,0,0,0,0,0,0,0,0,0,0,0,0,0,0,{"$f":"SUM(BU380)","v":0},0,0,0,0,0,0,0,0,0,0,0,0,0,0,0,0,0,0,0,0,0,0,0,0,0,0,0,0,0,0,0,0,0,0,0,0,0,0,0,0,0,0,0,0,0,0,0,0,0,0,0,0,0,0,0,0,0,0,0,0,0,0,0,0,0,0,0,0,0,0,0,0,0,0,0,0,0,0,0,0,0,0,{"$f":"SUM(EZ380)","v":0},0,0,0,0,0,0,0,0,0,0,0,0,0,0,0,0,0,0,0,0,0,0,0,0,0,0,0,0,0,0,0,0,0,0,{"$f":"SUM(GI380)","v":0},0,0,0,0,0,0,0,0,0,0,0,0,0,0,0,0,0,0,0,0,0,0,0,0,0,0,0,0,{"$f":"SUM(HL380)","v":0},0,0,0,null,0,0,0,0,0,0,0,0,0,0,0,0,0,0,0,0,0]
[670,"Erträge aus Nebenbetrieben (wie Restaurant usw.)",{"$f":"SUM(C384)","v":0},{"$f":"SUM(D384)","v":0},{"$f":"SUM(C383:D383)","v":0},"i.o.",null,{"$f":"SUM(H384)","v":0},{"$f":"SUM(I384)","v":0},0,0,0,0,0,0,0,0,0,0,0,0,0,0,0,0,0,0,0,0,0,0,0,0,0,0,0,0,0,0,0,0,0,0,0,0,0,0,0,0,0,0,0,0,0,0,0,0,0,0,0,0,0,0,0,0,0,0,0,0,0,0,0,{"$f":"SUM(BU384)","v":0},0,0,0,0,0,0,0,0,0,0,0,0,0,0,0,0,0,0,0,0,0,0,0,0,0,0,0,0,0,0,0,0,0,0,0,0,0,0,0,0,0,0,0,0,0,0,0,0,0,0,0,0,0,0,0,0,0,0,0,0,0,0,0,0,0,0,0,0,0,0,0,0,0,0,0,0,0,0,0,0,0,0,{"$f":"SUM(EZ384)","v":0},0,0,0,0,0,0,0,0,0,0,0,0,0,0,0,0,0,0,0,0,0,0,0,{"$f":"SUM(FX384)","v":0},0,0,0,0,0,0,0,0,0,0,0,0,0,0,0,0,0,0,0,0,0,0,0,0,0,0,0,0,0,0,0,0,0,0,0,0,0,0,0,{"$f":"SUM(HL384)","v":0},0,0,0,null,0,0,0,0,0,0,0,0,0,0,0,0,0,0,0,0,0]
[6700,"Umsatz Cafeteria / Restaurant",0,0,0,"i.o.",null,null,null,null,null,null,null,null,null,null,null,null,null,null,null,null,null,null,null,null,null,null,null,null,null,null,null,null,null,null,null,null,null,null,null,null,null,null,null,null,null,null,null,null,null,null,null,null,null,null,null,null,null,null,null,null,null,null,null,null,null,null,null,null,0,0,0,0,0,0,0,0,0,0,0,0,0,0,null,null,null,null,null,null,null,null,null,null,null,null,null,null,null,null,null,null,null,null,null,null,null,null,null,null,null,null,null,null,null,null,null,null,null,null,null,null,null,null,null,null,null,null,null,null,null,null,null,null,null,null,null,null,null,null,null,null,null,null,null,null,null,null,null,null,null,null,null,null,null,null,null,null,null,null,0,0,0,0,0,0,0,0,0,0,0,0,0,0,0,0,0,0,0,0,0,0,0,0,0,0,0,0,0,0,0,0,0,0,0,0,0,0,0,0,0,0,0,0,0,0,0,0,0,0,0,0,0,0,0,0,0,0,0,0,0,0,0,null,"","","","","","",0,0,0,0,0,0,0,0,0,0,0]
[6820,"Schul- und Kursgelder",0,0,0,"i.o.",null,null,null,null,null,null,null,null,null,null,null,null,null,null,null,null,null,null,null,null,null,null,null,null,null,null,null,null,null,null,null,null,null,null,null,null,null,null,null,null,null,null,null,null,null,null,null,null,null,null,null,null,null,null,null,null,null,null,null,null,null,null,null,null,null,null,null,null,null,null,null,null,null,null,null,null,null,null,null,null,null,null,null,null,null,null,null,null,null,null,null,null,null,null,null,null,null,null,null,0,0,0,0,0,0,0,null,null,null,null,null,null,null,null,null,null,null,null,null,null,null,null,null,null,null,null,null,null,null,null,null,null,null,null,null,null,null,null,null,null,null,null,null,null,null,null,null,null,null,null,null,null,null,null,0,0,0,0,0,0,0,0,0,0,0,0,0,0,0,0,0,0,0,0,0,0,0,0,0,0,0,0,0,0,0,0,0,0,0,0,0,0,0,0,0,0,0,0,0,0,0,0,0,0,0,0,0,0,0,0,0,0,0,0,0,0,0,null,"","","","","","",0,0,0,0,0,0,0,0,0,0,0]
[6890,"Übrige Nebenerlöse (Verrechnung andere Institutionen)",0,0,{"$f":"SUM(C391:D391)","v":0},{"$f":"IF(SUM(H391:HO391)=E391,\"i.o.\",E391-SUM(H391:HO391))","v":"i.o."},null,null,null,null,null,null,null,null,null,null,null,null,null,null,null,null,null,null,null,null,null,null,null,null,null,null,null,null,null,null,null,null,null,null,null,null,null,null,null,null,null,null,null,null,null,null,null,null,null,null,null,null,null,null,null,null,null,null,null,null,null,null,null,null,0,0,0,0,0,0,0,0,0,0,0,0,0,0,null,null,null,null,null,null,null,null,null,null,null,null,null,null,null,null,null,null,null,null,null,0,0,0,0,0,0,0,null,null,null,null,null,null,null,null,null,null,null,null,null,null,null,null,null,null,null,null,null,null,null,null,null,null,null,null,null,null,null,null,null,null,null,null,null,null,null,null,null,null,null,null,null,null,null,null,0,0,0,0,0,0,0,0,0,0,0,0,0,0,0,0,0,0,0,0,0,0,0,0,0,0,0,0,0,0,0,0,0,0,0,0,0,0,0,0,0,0,0,0,0,0,0,0,0,0,0,0,0,0,0,0,0,0,0,0,0,0,0,null,{"$f":"IF(COUNT(DI391:DR391)=0,\"\",SUM(DI391:DR391))","v":""},{"$f":"IF(COUNT(DS391:EB391)=0,\"\",SUM(DS391:EB391))","v":""},{"$f":"IF(COUNT(EC391:EL391)=0,\"\",SUM(EC391:EL391))","v":""},{"$f":"IF(COUNT(EM391:EP391)=0,\"\",SUM(EM391:EP391))","v":""},{"$f":"IF(COUNT(EQ391:EZ391)=0,\"\",SUM(EQ391:EZ391))","v":""},{"$f":"IF(COUNT(FA391:FD391)=0,\"\",SUM(FA391:FD391))","v":""},{"$f":"IF(COUNT(FE391:FK391)=0,\"\",SUM(FE391:FK391))","v":0},{"$f":"IF(COUNT(FL391:FL391)=0,\"\",SUM(FL391:FL391))","v":0},{"$f":"IF(COUNT(FM391:FP391)=0,\"\",SUM(FM391:FP391))","v":0},{"$f":"IF(COUNT(FQ391:FQ391)=0,\"\",SUM(FQ391:FQ391))","v":0},{"$f":"IF(COUNT(FR391:FW391)=0,\"\",SUM(FR391:FW391))","v":0},{"$f":"IF(COUNT(FX391:GB391)=0,\"\",SUM(FX391:GB391))","v":0},{"$f":"IF(COUNT(GC391:GH391)=0,\"\",SUM(GC391:GH391))","v":0},{"$f":"IF(COUNT(GI391:GS391)=0,\"\",SUM(GI391:GS391))","v":0},{"$f":"IF(COUNT(GT391:HD391)=0,\"\",SUM(GT391:HD391))","v":0},{"$f":"IF(COUNT(HE391:HO391)=0,\"\",SUM(HE391:HO391))","v":0},{"$f":"IF(COUNT(H391:DH391)=0,\"\",SUM(H391:DH391))","v":0}]
[6900,"Betriebsbeiträge der Gemeinden",0,0,0,"i.o.",null,null,null,null,null,null,null,null,null,null,null,null,null,null,null,null,null,null,null,null,null,null,null,null,null,null,null,null,null,null,null,null,null,null,null,null,null,null,null,null,null,null,null,null,null,null,null,null,null,null,null,null,null,null,null,null,null,null,null,null,null,null,null,null,null,null,null,null,null,null,null,null,null,null,null,null,null,null,null,null,null,null,null,null,null,null,null,null,null,null,null,null,null,null,null,null,null,null,null,null,null,null,null,null,null,null,0,0,0,0,0,0,0,0,0,0,0,0,0,0,0,0,0,0,0,0,0,0,0,0,0,0,0,0,0,0,0,0,0,0,0,0,0,0,0,0,0,0,0,0,0,0,0,0,0,0,0,0,0,0,0,0,0,0,0,0,0,0,0,0,0,0,0,0,0,0,0,0,0,0,0,0,0,0,0,0,0,0,0,0,0,0,0,0,0,0,0,0,0,0,0,0,0,0,0,0,0,0,0,0,0,0,0,0,0,0,0,null,0,0,0,0,0,0,0,0,0,0,0,0,0,{"$f":"IF(COUNT(GI394:GS394)=0,\"\",SUM(GI394:GS394))","v":0},{"$f":"IF(COUNT(GT394:HD394)=0,\"\",SUM(GT394:HD394))","v":0},{"$f":"IF(COUNT(HE394:HO394)=0,\"\",SUM(HE394:HO394))","v":0},""]
[6920,"Betriebsbeiträge andere Kantone",0,0,0,"i.o.",null,null,null,null,null,null,null,null,null,null,null,null,null,null,null,null,null,null,null,null,null,null,null,null,null,null,null,null,null,null,null,null,null,null,null,null,null,null,null,null,null,null,null,null,null,null,null,null,null,null,null,null,null,null,null,null,null,null,null,null,null,null,null,null,null,null,null,null,null,null,null,null,null,null,null,null,null,null,null,null,null,null,null,null,null,null,null,null,null,null,null,null,null,null,null,null,null,null,null,null,null,null,null,null,null,null,0,0,0,0,0,0,0,0,0,0,0,0,0,0,0,0,0,0,0,0,0,0,0,0,0,0,0,0,0,0,0,0,0,0,0,0,0,0,0,0,0,0,0,0,0,0,0,0,0,0,0,0,0,0,0,0,0,0,0,0,0,0,0,0,0,0,0,0,0,0,0,0,0,0,0,0,0,0,0,0,0,0,0,0,0,0,0,0,0,0,0,0,0,0,0,0,0,0,0,0,0,0,0,0,0,0,0,0,0,0,0,null,0,0,0,0,0,0,0,0,0,0,0,0,0,0,0,0,{"$f":"IF(COUNT(H398:DH398)=0,\"\",SUM(H398:DH398))","v":""}]
[6930,"Betriebsbeiträge des Bundes",0,0,0,"i.o.",null,null,null,null,null,null,null,null,null,null,null,null,null,null,null,null,null,null,null,null,null,null,null,null,null,null,null,null,null,null,null,null,null,null,null,null,null,null,null,null,null,null,null,null,null,null,null,null,null,null,null,null,null,null,null,null,null,null,null,null,null,null,null,null,null,null,null,null,null,null,null,null,null,null,null,null,null,null,null,null,null,null,null,null,null,null,null,null,null,null,null,null,null,null,null,null,null,null,null,null,null,null,null,null,null,null,0,0,0,0,0,0,0,0,0,0,0,0,0,0,0,0,0,0,0,0,0,0,0,0,0,0,0,0,0,0,0,0,0,0,0,0,0,0,0,0,0,0,0,0,0,0,0,0,0,0,0,0,0,0,0,0,0,0,0,0,0,0,0,0,0,0,0,0,0,0,0,0,0,0,0,0,0,0,0,0,0,0,0,0,0,0,0,0,0,0,0,0,0,0,0,0,0,0,0,0,0,0,0,0,0,0,0,0,0,0,0,null,0,0,0,0,0,0,0,0,0,0,0,0,0,0,0,0,{"$f":"IF(COUNT(H401:DH401)=0,\"\",SUM(H401:DH401))","v":""}]
[6980,"Mitgliederbeiträge Verein",0,0,0,"i.o.",null,null,null,null,null,null,null,null,null,null,null,null,null,null,null,null,null,null,null,null,null,null,null,null,null,null,null,null,null,null,null,null,null,null,null,null,null,null,null,null,null,null,null,null,null,null,null,null,null,null,null,null,null,null,null,null,null,null,null,null,null,null,null,null,null,null,null,null,null,null,null,null,null,null,null,null,null,null,null,null,null,null,null,null,null,null,null,null,null,null,null,null,null,null,null,null,null,null,null,null,null,null,null,null,null,null,null,null,null,null,null,null,null,null,null,null,null,null,null,null,null,null,null,null,null,null,null,null,null,null,null,null,null,null,null,null,null,null,null,null,null,null,null,null,null,null,null,null,null,null,null,null,null,null,0,0,0,0,0,0,0,0,0,0,0,0,0,0,0,0,0,0,0,0,0,0,0,0,0,0,0,0,0,0,0,0,0,0,0,0,0,0,0,0,0,0,0,0,0,0,0,0,0,0,0,0,0,0,0,0,0,0,0,0,0,0,0,null,"","","","","","",{"$f":"IF(COUNT(FE404:FK404)=0,\"\",SUM(FE404:FK404))","v":0},{"$f":"IF(COUNT(FL404:FL404)=0,\"\",SUM(FL404:FL404))","v":0},0,0,0,0,0,0,0,0,""]
["7060- 7090","Ausserordentlicher Ertrag",0,0,0,"i.o.",null,0,0,0,0,0,0,0,0,0,0,0,0,0,0,0,0,0,0,0,0,0,0,0,0,0,0,0,0,0,0,0,0,0,0,0,0,0,0,0,0,0,0,0,0,0,0,0,0,0,0,0,0,0,0,0,0,0,0,0,0,0,0,0,0,0,0,0,0,0,0,0,0,0,0,0,0,0,0,0,0,0,0,0,0,0,0,0,0,0,0,0,0,0,0,0,0,0,0,0,0,0,0,0,0,0,0,0,0,0,0,0,0,0,0,0,0,0,0,0,0,0,0,0,0,0,0,0,0,0,0,0,0,0,0,0,0,0,0,0,0,0,0,0,0,0,0,0,0,0,0,0,0,0,0,0,0,0,0,0,0,0,0,0,0,0,0,0,0,0,0,0,0,0,0,0,0,0,0,0,0,0,0,0,0,0,0,0,0,0,0,0,0,0,0,0,0,0,0,0,0,0,0,0,0,0,0,0,0,0,0,0,0,0,0,0,0,null,0,0,0,0,0,0,0,0,0,0,0,0,0,0,0,0,0]
[710,"Liegenschaften organisationsfremd",{"$f":"SUM(C410:C411)","v":0},{"$f":"SUM(D410:D411)","v":0},{"$f":"SUM(C409:D409)","v":0},"i.o.",null,{"$f":"SUM(H410:H411)","v":0},{"$f":"SUM(I410:I411)","v":0},0,0,0,0,0,0,0,0,0,0,0,0,0,0,0,0,0,0,0,0,0,0,0,0,0,0,0,0,0,0,0,0,0,0,0,0,0,0,0,0,0,0,0,0,0,0,0,0,0,0,0,0,0,0,0,0,0,0,0,0,0,0,0,{"$f":"SUM(BU410:BU411)","v":0},0,0,0,0,0,0,0,0,0,0,0,0,0,0,0,0,0,0,0,0,0,0,0,0,0,0,0,0,0,0,0,0,0,0,0,0,0,0,0,0,0,0,0,0,0,0,0,0,0,0,{"$f":"SUM(DT410:DT411)","v":0},0,0,0,0,0,0,0,0,0,0,0,0,0,0,0,0,0,0,0,{"$f":"SUM(EN410:EN411)","v":0},0,{"$f":"SUM(EP410:EP411)","v":0},0,0,0,0,0,0,0,0,0,{"$f":"SUM(EZ410:EZ411)","v":0},0,{"$f":"SUM(FB410:FB411)","v":0},0,{"$f":"SUM(FD410:FD411)","v":0},0,0,0,0,0,0,0,0,0,0,0,0,0,0,0,0,0,0,0,0,0,0,0,0,{"$f":"SUM(GC410:GC411)","v":0},0,0,0,0,0,0,0,0,0,0,0,0,0,0,0,0,0,0,0,0,0,0,0,0,0,0,0,0,0,0,0,0,0,0,{"$f":"SUM(HL410:HL411)","v":0},0,0,0,null,0,0,0,0,0,0,0,0,0,0,0,0,0,0,0,0,0]
["7200 - 7900","Konti nach Bedarf",0,0,0,"i.o.",null,0,0,0,0,0,0,0,0,0,0,0,0,0,0,0,0,0,0,0,0,0,0,0,0,0,0,0,0,0,0,0,0,0,0,0,0,0,0,0,0,0,0,0,0,0,0,0,0,0,0,0,0,0,0,0,0,0,0,0,0,0,0,0,0,0,0,0,0,0,0,0,0,0,0,0,0,0,0,0,0,0,0,0,0,0,0,0,0,0,0,0,0,0,0,0,0,0,0,0,0,0,0,0,0,0,0,0,0,0,0,0,0,0,0,0,0,0,0,0,0,0,0,0,0,0,0,0,0,0,0,0,0,0,0,0,0,0,0,0,0,0,0,0,0,0,0,0,0,0,0,0,0,0,0,0,0,0,0,0,0,0,0,0,0,0,0,0,0,0,0,0,0,0,0,0,0,0,0,0,0,0,0,0,0,0,0,0,0,0,0,0,0,0,0,0,0,0,0,0,0,0,0,0,0,0,0,0,0,0,0,0,0,0,0,0,0,null,0,0,0,0,0,0,0,0,0,0,0,0,0,0,0,0,0]
[7610,"Direkte Bundessteuer",0,0,0,"i.o.",null,0,0,0,0,0,0,0,0,0,0,0,0,0,0,0,0,0,0,0,0,0,0,0,0,0,0,0,0,0,0,0,0,0,0,0,0,0,0,0,0,0,0,0,0,0,0,0,0,0,0,0,0,0,0,0,0,0,0,0,0,0,0,0,0,0,0,0,0,0,0,0,0,0,0,0,0,0,0,0,0,0,0,0,0,0,0,0,0,0,0,0,0,0,0,0,0,0,0,0,0,0,0,0,0,0,0,0,0,0,0,0,0,0,0,0,0,0,0,0,0,0,0,0,0,0,0,0,0,0,0,0,0,0,0,0,0,0,0,0,0,0,0,0,0,0,0,0,0,0,0,0,0,0,0,0,0,0,0,0,0,0,0,0,0,0,0,0,0,0,0,0,0,0,0,0,0,0,0,0,0,0,0,0,0,0,0,0,0,0,0,0,0,0,0,0,0,0,0,0,0,0,0,0,0,0,0,0,0,0,0,0,0,0,0,0,0,null,0,0,0,0,0,0,0,0,0,0,0,0,0,0,0,0,0]
[]
[null,{"$f":"CONCATENATE(\"Umlage \",Grunddaten!C10)","v":"Umlage Reserve"},null,null,null,{"$f":"IF(ROUND(I$417+SUM(I422:I442),12)=0,\"i.o.\",I$417+SUM(I422:I442))","v":"i.o."},null,null,{"$f":"-SUM(J423:$HO423,$H423:H423)","v":0},null,null,null,null,null,null,null,null,null,null,null,null,null,null,null,null,null,null,null,0,0,0,0,0,0,0,0,0,0,0,0,0,0,0,0,0,0,0,0,0,0,0,0,0,0,0,0,0,0,0,0,0,0,0,0,0,0,0,0,0,0,0,0,0,0,0,0,0,0,0,0,0,0,0,0,0,0,0,0,0,0,0,0,0,0,0,0,0,0,0,0,0,0,0,0,0,0,0,0,0,0,0,0,0,0,0,0,0,0,0,0,0,0,0,0,0,0,0,0,0,0,0,0,0,0,0,0,0,0,0,0,0,0,0,0,0,0,0,0,0,0,0,0,0,0,0,0,0,0,0,0,0,0,0,0,0,0,0,0,0,0,0,0,0,0,0,0,0,0,0,0,0,0,0,0,0,0,0,0,0,0,0,0,0,0,0,0,0,0,0,0,0,0,0,0,0,0,0,0,0,0,0,0,0,0,0,0,0,0,0,0,0,0,0,null,{"$f":"IF(COUNT(DI423:DS423)=0,\"\",SUM(DI423:DS423))","v":0},{"$f":"IF(COUNT(DS423:DT423)=0,\"\",SUM(DS423:DT423))","v":0},0,0,0,0,0,0,0,0,0,0,0,0,0,0]
[null,{"$f":"CONCATENATE(\"Umlage \",Grunddaten!C13)","v":"Umlage Reserve"},null,null,null,{"$f":"IF(ROUND(L$417+SUM(L422:L442),12)=0,\"i.o.\",L$417+SUM(L422:L442))","v":"i.o."},null,null,null,null,null,{"$f":"-SUM(M426:$HO426,$H426:K426)","v":0},null,null,null,null,null,null,null,null,null,null,null,null,null,null,null,null,0,0,0,0,0,0,0,0,0,0,0,0,0,0,0,0,0,0,0,0,0,0,0,0,0,0,0,0,0,0,0,0,0,0,0,0,0,0,0,0,0,0,0,0,0,0,0,0,0,0,0,0,0,0,0,0,0,0,0,0,0,0,0,0,0,0,0,0,0,0,0,0,0,0,0,0,0,0,0,0,0,0,0,0,0,0,0,0,0,0,0,0,0,0,0,0,0,0,0,0,0,0,0,0,0,0,0,0,0,0,0,0,0,0,0,0,0,0,0,0,0,0,0,0,0,0,0,0,0,0,0,0,0,0,0,0,0,0,0,0,0,0,0,0,0,0,0,0,0,0,0,0,0,0,0,0,0,0,0,0,0,0,0,0,0,0,0,0,0,0,0,0,0,0,0,0,0,0,0,0,0,0,0,0,0,0,0,0,0,0,0,0,0,0,0,null,0,0,0,0,0,0,0,0,0,0,0,0,0,0,0,0]
[null,{"$f":"CONCATENATE(\"Umlage \",Grunddaten!C17)","v":"Umlage Reserve"},null,null,null,{"$f":"IF(ROUND(P$417+SUM(P422:P442),12)=0,\"i.o.\",P$417+SUM(P422:P442))","v":"i.o."},null,null,null,null,null,null,null,null,null,{"$f":"-SUM(Q430:$HO430,$H430:O430)","v":0},null,null,null,null,null,null,null,null,null,null,null,null,0,0,0,0,0,0,0,0,0,0,0,0,0,0,0,0,0,0,0,0,0,0,0,0,0,0,0,0,0,0,0,0,0,0,0,0,0,0,0,0,0,0,0,0,0,0,0,0,0,0,0,0,0,0,0,0,0,0,0,0,0,0,0,0,0,0,0,0,0,0,0,0,0,0,0,0,0,0,0,0,0,0,0,0,0,0,0,0,0,0,0,0,0,0,0,0,0,0,0,0,0,0,0,0,0,0,0,0,0,0,0,0,0,0,0,0,0,0,0,0,0,0,0,0,0,0,0,0,0,0,0,0,0,0,0,0,0,0,0,0,0,0,0,0,0,0,0,0,0,0,0,0,0,0,0,0,0,0,0,0,0,0,0,0,0,0,0,0,0,0,0,0,0,0,0,0,0,0,0,0,0,0,0,0,0,0,0,0,0,0,0,0,0,0,0,null,0,0,0,0,0,0,0,0,0,0,0,0,0,0,0,0]
[null,{"$f":"CONCATENATE(\"Umlage \",Grunddaten!C20)","v":"Umlage Reserve"},null,null,null,{"$f":"IF(ROUND(S$417+SUM(S422:S442),12)=0,\"i.o.\",S$417+SUM(S422:S442))","v":"i.o."},null,null,null,null,null,null,null,null,null,null,null,null,{"$f":"-SUM(T433:$HO433,$H433:R433)","v":0},null,null,null,null,null,null,null,null,null,0,0,0,0,0,0,0,0,0,0,0,0,0,0,0,0,0,0,0,0,0,0,0,0,0,0,0,0,0,0,0,0,0,0,0,0,0,0,0,0,0,0,0,0,0,0,0,0,0,0,0,0,0,0,0,0,0,0,0,0,0,0,0,0,0,0,0,0,0,0,0,0,0,0,0,0,0,0,0,0,0,0,0,0,0,0,0,0,0,0,0,0,0,0,0,0,0,0,0,0,0,0,0,0,0,0,0,0,0,0,0,0,0,0,0,0,0,0,0,0,0,0,0,0,0,0,0,0,0,0,0,0,0,0,0,0,0,0,0,0,0,0,0,0,0,0,0,0,0,0,0,0,0,0,0,0,0,0,0,0,0,0,0,0,0,0,0,0,0,0,0,0,0,0,0,0,0,0,0,0,0,0,0,0,0,0,0,0,0,0,0,0,0,0,0,null,0,0,0,0,0,0,0,0,0,0,0,0,0,0,0,0]
[null,{"$f":"CONCATENATE(\"Umlage \",Grunddaten!C21)","v":"Umlage Reserve"},null,null,null,{"$f":"IF(ROUND(T$417+SUM(T422:T442),12)=0,\"i.o.\",T$417+SUM(T422:T442))","v":"i.o."},null,null,null,null,null,null,null,null,null,null,null,null,null,{"$f":"-SUM(U434:$HO434,$H434:S434)","v":0},null,null,null,null,null,null,null,null,0,0,0,0,0,0,0,0,0,0,0,0,0,0,0,0,0,0,0,0,0,0,0,0,0,0,0,0,0,0,0,0,0,0,0,0,0,0,0,0,0,0,0,0,0,0,0,0,0,0,0,0,0,0,0,0,0,0,0,0,0,0,0,0,0,0,0,0,0,0,0,0,0,0,0,0,0,0,0,0,0,0,0,0,0,0,0,0,0,0,0,0,0,0,0,0,0,0,0,0,0,0,0,0,0,0,0,0,0,0,0,0,0,0,0,0,0,0,0,0,0,0,0,0,0,0,0,0,0,0,0,0,0,0,0,0,0,0,0,0,0,0,0,0,0,0,0,0,0,0,0,0,0,0,0,0,0,0,0,0,0,0,0,0,0,0,0,0,0,0,0,0,0,0,0,0,0,0,0,0,0,0,0,0,0,0,0,0,0,0,0,0,0,0,0,null,0,0,0,0,0,0,0,0,0,0,0,0,0,0,0,0]
[null,{"$f":"CONCATENATE(\"Umlage \",Grunddaten!C25)","v":"Umlage Reserve"},null,null,null,{"$f":"IF(ROUND(X$417+SUM(X422:X442),12)=0,\"i.o.\",X$417+SUM(X422:X442))","v":"i.o."},null,null,null,null,null,null,null,null,null,null,null,null,null,null,null,null,null,{"$f":"-SUM(Y438:$HO438,$H438:W438)","v":0},null,null,null,null,0,0,0,0,0,0,0,0,0,0,0,0,0,0,0,0,0,0,0,0,0,0,0,0,0,0,0,0,0,0,0,0,0,0,0,0,0,0,0,0,0,0,0,0,0,0,0,0,0,0,0,0,0,0,0,0,0,0,0,0,0,0,0,0,0,0,0,0,0,0,0,0,0,0,0,0,0,0,0,0,0,0,0,0,0,0,0,0,0,0,0,0,0,0,0,0,0,0,0,0,0,0,0,0,0,0,0,0,0,0,0,0,0,0,0,0,0,0,0,0,0,0,0,0,0,0,0,0,0,0,0,0,0,0,0,0,0,0,0,0,0,0,0,0,0,0,0,0,0,0,0,0,0,0,0,0,0,0,0,0,0,0,0,0,0,0,0,0,0,0,0,0,0,0,0,0,0,0,0,0,0,0,0,0,0,0,0,0,0,0,0,0,0,0,0,null,0,0,0,0,0,0,0,0,0,0,0,0,0,0,0,0]
[null,{"$f":"CONCATENATE(\"Umlage \",Grunddaten!C28)","v":"Umlage Reserve"},null,null,null,{"$f":"IF(ROUND(AA$417+SUM(AA422:AA442),12)=0,\"i.o.\",AA$417+SUM(AA422:AA442))","v":"i.o."},null,null,null,null,null,null,null,null,null,null,null,null,null,null,null,null,null,null,null,null,{"$f":"-SUM(AB441:$HO441,$H441:Z441)","v":0},null,0,0,0,0,0,0,0,0,0,0,0,0,0,0,0,0,0,0,0,0,0,0,0,0,0,0,0,0,0,0,0,0,0,0,0,0,0,0,0,0,0,0,0,0,0,0,0,0,0,0,0,0,0,0,0,0,0,0,0,0,0,0,0,0,0,0,0,0,0,0,0,0,0,0,0,0,0,0,0,0,0,0,0,0,0,0,0,0,0,0,0,0,0,0,0,0,0,0,0,0,0,0,0,0,0,0,0,0,0,0,0,0,0,0,0,0,0,0,0,0,0,0,0,0,0,0,0,0,0,0,0,0,0,0,0,0,0,0,0,0,0,0,0,0,0,0,0,0,0,0,0,0,0,0,0,0,0,0,0,0,0,0,0,0,0,0,0,0,0,0,0,0,0,0,0,0,0,0,0,0,0,0,0,0,0,0,0,0,0,0,0,0,0,0,0,null,0,0,0,0,0,0,0,0,0,0,0,0,0,0,0,0]
[null,"Umlage Hilfskostenstellen"]
[null,{"$f":"CONCATENATE(\"Umlage \",Grunddaten!C35)","v":"Umlage Reserve"},null,null,null,{"$f":"IF(ROUND(AF443+SUM(AF445:AF528),12)=0,\"i.o.\",AF443+SUM(AF445:AF528))","v":"i.o."},null,null,null,null,null,null,null,null,null,null,null,null,null,null,null,null,null,null,null,null,null,null,null,null,null,{"$f":"-SUM($AC448:AE448,AG448:$HO448)","v":0},null,null,null,null,null,null,null,null,null,null,null,null,null,null,null,null,null,null,null,null,null,null,null,null,null,null,null,null,null,null,null,null,null,null,null,null,null,null,null,null,null,null,null,null,null,null,null,null,null,null,null,null,null,null,null,null,null,null,null,null,null,null,null,null,null,null,null,null,null,null,null,null,null,null,null,null,null,null,null,null,0,0,0,0,0,0,0,0,0,0,0,0,0,0,0,0,0,0,0,0,0,0,0,0,0,0,0,0,0,0,0,0,0,0,0,0,0,0,0,0,0,0,0,0,0,0,0,0,0,0,0,0,0,0,0,0,0,0,0,0,0,0,0,0,0,0,0,0,0,0,0,0,0,0,0,0,0,0,0,0,0,0,0,0,0,0,0,0,0,0,0,0,0,0,0,0,0,0,0,0,0,0,0,0,0,0,0,0,0,0,0,null,0,0,0,0,0,0,0,0,0,0,0,0,0,0,0,0]
[null,{"$f":"CONCATENATE(\"Umlage \",Grunddaten!C38)","v":"Umlage Reserve"},null,null,null,{"$f":"IF(ROUND(AI443+SUM(AI445:AI528),12)=0,\"i.o.\",AI443+SUM(AI445:AI528))","v":"i.o."},null,null,null,null,null,null,null,null,null,null,null,null,null,null,null,null,null,null,null,null,null,null,null,null,null,null,null,null,{"$f":"-SUM($AC451:AH451,AJ451:$HO451)","v":0},null,null,null,null,null,null,null,null,null,null,null,null,null,null,null,null,null,null,null,null,null,null,null,null,null,null,null,null,null,null,null,null,null,null,null,null,null,null,null,null,null,null,null,null,null,null,null,null,null,null,null,null,null,null,null,null,null,null,null,null,null,null,null,null,null,null,null,null,null,null,null,null,null,null,null,null,null,0,0,0,0,0,0,0,0,0,0,0,0,0,0,0,0,0,0,0,0,0,0,0,0,0,0,0,0,0,0,0,0,0,0,0,0,0,0,0,0,0,0,0,0,0,0,0,0,0,0,0,0,0,0,0,0,0,0,0,0,0,0,0,0,0,0,0,0,0,0,0,0,0,0,0,0,0,0,0,0,0,0,0,0,0,0,0,0,0,0,0,0,0,0,0,0,0,0,0,0,0,0,0,0,0,0,0,0,0,0,0,null,0,0,0,0,0,0,0,0,0,0,0,0,0,0,0,0]
[null,{"$f":"CONCATENATE(\"Umlage \",Grunddaten!C42)","v":"Umlage Reserve"},null,null,null,{"$f":"IF(ROUND(AM443+SUM(AM445:AM528),12)=0,\"i.o.\",AM443+SUM(AM445:AM528))","v":"i.o."},null,null,null,null,null,null,null,null,null,null,null,null,null,null,null,null,null,null,null,null,null,null,null,null,null,null,null,null,null,null,null,null,{"$f":"-SUM($AC455:AL455,AN455:$HO455)","v":0},null,null,null,null,null,null,null,null,null,null,null,null,null,null,null,null,null,null,null,null,null,null,null,null,null,null,null,null,null,null,null,null,null,null,null,null,null,null,null,null,null,null,null,null,null,null,null,null,null,null,null,null,null,null,null,null,null,null,null,null,null,null,null,null,null,null,null,null,null,null,null,null,null,0,0,0,0,0,0,0,0,0,0,0,0,0,0,0,0,0,0,0,0,0,0,0,0,0,0,0,0,0,0,0,0,0,0,0,0,0,0,0,0,0,0,0,0,0,0,0,0,0,0,0,0,0,0,0,0,0,0,0,0,0,0,0,0,0,0,0,0,0,0,0,0,0,0,0,0,0,0,0,0,0,0,0,0,0,0,0,0,0,0,0,0,0,0,0,0,0,0,0,0,0,0,0,0,0,0,0,0,0,0,0,null,0,0,0,0,0,0,0,0,0,0,0,0,0,0,0,0]
[null,{"$f":"CONCATENATE(\"Umlage \",Grunddaten!C45)","v":"Umlage Reserve"},null,null,null,{"$f":"IF(ROUND(AP443+SUM(AP445:AP528),12)=0,\"i.o.\",AP443+SUM(AP445:AP528))","v":"i.o."},null,null,null,null,null,null,null,null,null,null,null,null,null,null,null,null,null,null,null,null,null,null,null,null,null,null,null,null,null,null,null,null,null,null,null,{"$f":"-SUM($AC458:AO458,AQ458:$HO458)","v":0},null,null,null,null,null,null,null,null,null,null,null,null,null,null,null,null,null,null,null,null,null,null,null,null,null,null,null,null,null,null,null,null,null,null,null,null,null,null,null,null,null,null,null,null,null,null,null,null,null,null,null,null,null,null,null,null,null,null,null,null,null,null,null,null,null,null,null,null,null,null,0,0,0,0,0,0,0,0,0,0,0,0,0,0,0,0,0,0,0,0,0,0,0,0,0,0,0,0,0,0,0,0,0,0,0,0,0,0,0,0,0,0,0,0,0,0,0,0,0,0,0,0,0,0,0,0,0,0,0,0,0,0,0,0,0,0,0,0,0,0,0,0,0,0,0,0,0,0,0,0,0,0,0,0,0,0,0,0,0,0,0,0,0,0,0,0,0,0,0,0,0,0,0,0,0,0,0,0,0,0,0,null,0,0,0,0,0,0,0,0,0,0,0,0,0,0,0,0]
[null,{"$f":"CONCATENATE(\"Umlage \",Grunddaten!C48)","v":"Umlage Reserve"},null,null,null,{"$f":"IF(ROUND(AS443+SUM(AS445:AS528),12)=0,\"i.o.\",AS443+SUM(AS445:AS528))","v":"i.o."},null,null,null,null,null,null,null,null,null,null,null,null,null,null,null,null,null,null,null,null,null,null,null,null,null,null,null,null,null,null,null,null,null,null,null,null,null,null,{"$f":"-SUM($AC461:AR461,AT461:$HO461)","v":0},null,null,null,null,null,null,null,null,null,null,null,null,null,null,null,null,null,null,null,null,null,null,null,null,null,null,null,null,null,null,null,null,null,null,null,null,null,null,null,null,null,null,null,null,null,null,null,null,null,null,null,null,null,null,null,null,null,null,null,null,null,null,null,null,null,null,null,0,0,0,0,0,0,0,0,0,0,0,0,0,0,0,0,0,0,0,0,0,0,0,0,0,0,0,0,0,0,0,0,0,0,0,0,0,0,0,0,0,0,0,0,0,0,0,0,0,0,0,0,0,0,0,0,0,0,0,0,0,0,0,0,0,0,0,0,0,0,0,0,0,0,0,0,0,0,0,0,0,0,0,0,0,0,0,0,0,0,0,0,0,0,0,0,0,0,0,0,0,0,0,0,0,0,0,0,0,0,0,null,0,0,0,0,0,0,0,0,0,0,0,0,0,0,0,0]
[null,{"$f":"CONCATENATE(\"Umlage \",Grunddaten!C50)","v":"Umlage Reserve"},null,null,null,{"$f":"IF(ROUND(AU443+SUM(AU445:AU528),12)=0,\"i.o.\",AU443+SUM(AU445:AU528))","v":"i.o."},null,null,null,null,null,null,null,null,null,null,null,null,null,null,null,null,null,null,null,null,null,null,null,null,null,null,null,null,null,null,null,null,null,null,null,null,null,null,null,null,{"$f":"-SUM($AC463:AT463,AV463:$HO463)","v":0},null,null,null,null,null,null,null,null,null,null,null,null,null,null,null,null,null,null,null,null,null,null,null,null,null,null,null,null,null,null,null,null,null,null,null,null,null,null,null,null,null,null,null,null,null,null,null,null,null,null,null,null,null,null,null,null,null,null,null,null,null,null,null,null,null,0,0,0,0,0,0,0,0,0,0,0,0,0,0,0,0,0,0,0,0,0,0,0,0,0,0,0,0,0,0,0,0,0,0,0,0,0,0,0,0,0,0,0,0,0,0,0,0,0,0,0,0,0,0,0,0,0,0,0,0,0,0,0,0,0,0,0,0,0,0,0,0,0,0,0,0,0,0,0,0,0,0,0,0,0,0,0,0,0,0,0,0,0,0,0,0,0,0,0,0,0,0,0,0,0,0,0,0,0,0,0,null,0,0,0,0,0,0,0,0,0,0,0,0,0,0,0,0]
[null,{"$f":"CONCATENATE(\"Umlage \",Grunddaten!C53)","v":"Umlage Technischer Dienst / Hauswartung"},null,null,null,{"$f":"IF(ROUND(AX443+SUM(AX445:AX528),12)=0,\"i.o.\",AX443+SUM(AX445:AX528))","v":"i.o."},null,null,null,null,null,null,null,null,null,null,null,null,null,null,null,null,null,null,null,null,null,null,null,null,null,null,null,null,null,null,null,null,null,null,null,null,null,null,null,null,null,null,null,{"$f":"-SUM($AC466:AW466,AY466:$HO466)","v":0},null,null,null,null,null,null,null,null,null,null,null,null,null,null,null,null,null,null,null,null,null,null,null,null,null,null,null,null,null,null,null,null,null,null,null,null,null,null,null,null,null,null,null,null,null,null,null,null,null,null,null,null,null,null,null,null,null,null,null,null,null,null,0,0,0,0,0,0,0,0,0,0,0,0,0,0,0,0,0,0,0,0,0,0,0,0,0,0,0,0,0,0,0,0,0,0,0,0,0,0,0,0,0,0,0,0,0,0,0,0,0,0,0,0,0,0,0,0,0,0,0,0,0,0,0,0,0,0,0,0,0,0,0,0,0,0,0,0,0,0,0,0,0,0,0,0,0,0,0,0,0,0,0,0,0,0,0,0,0,0,0,0,0,0,0,0,0,0,0,0,0,0,0,null,0,0,0,0,0,0,0,0,0,0,0,0,0,0,0,0]
[null,{"$f":"CONCATENATE(\"Umlage \",Grunddaten!C57)","v":"Umlage Reserve"},null,null,null,{"$f":"IF(ROUND(BB443+SUM(BB445:BB528),12)=0,\"i.o.\",BB443+SUM(BB445:BB528))","v":"i.o."},null,null,null,null,null,null,null,null,null,null,null,null,null,null,null,null,null,null,null,null,null,null,null,null,null,null,null,null,null,null,null,null,null,null,null,null,null,null,null,null,null,null,null,null,null,null,null,{"$f":"-SUM($AC470:BA470,BC470:$HO470)","v":0},null,null,null,null,null,null,null,null,null,null,null,null,null,null,null,null,null,null,null,null,null,null,null,null,null,null,null,null,null,null,null,null,null,null,null,null,null,null,null,null,null,null,null,null,null,null,null,null,null,null,null,null,null,null,null,null,null,null,0,0,0,0,0,0,0,0,0,0,0,0,0,0,0,0,0,0,0,0,0,0,0,0,0,0,0,0,0,0,0,0,0,0,0,0,0,0,0,0,0,0,0,0,0,0,0,0,0,0,0,0,0,0,0,0,0,0,0,0,0,0,0,0,0,0,0,0,0,0,0,0,0,0,0,0,0,0,0,0,0,0,0,0,0,0,0,0,0,0,0,0,0,0,0,0,0,0,0,0,0,0,0,0,0,0,0,0,0,0,0,null,0,0,0,0,0,0,0,0,0,0,0,0,0,0,0,0]
[null,{"$f":"CONCATENATE(\"Umlage \",Grunddaten!C60)","v":"Umlage Reinigung / Haushalt"},null,null,null,{"$f":"IF(ROUND(BE443+SUM(BE445:BE528),12)=0,\"i.o.\",BE443+SUM(BE445:BE528))","v":"i.o."},null,null,null,null,null,null,null,null,null,null,null,null,null,null,null,null,null,null,null,null,null,null,null,null,null,null,null,null,null,null,null,null,null,null,null,null,null,null,null,null,null,null,null,null,null,null,null,null,null,null,{"$f":"-SUM($AC473:BD473,BF473:$HO473)","v":0},null,null,null,null,null,null,null,null,null,null,null,null,null,null,null,null,null,null,null,null,null,null,null,null,null,null,null,null,null,null,null,null,null,null,null,null,null,null,null,null,null,null,null,null,null,null,null,null,null,null,null,null,null,null,null,0,0,0,0,0,0,0,0,0,0,0,0,0,0,0,0,0,0,0,0,0,0,0,0,0,0,0,0,0,0,0,0,0,0,0,0,0,0,0,0,0,0,0,0,0,0,0,0,0,0,0,0,0,0,0,0,0,0,0,0,0,0,0,0,0,0,0,0,0,0,0,0,0,0,0,0,0,0,0,0,0,0,0,0,0,0,0,0,0,0,0,0,0,0,0,0,0,0,0,0,0,0,0,0,0,0,0,0,0,0,0,null,0,0,0,0,0,0,0,0,0,0,0,0,0,0,0,0]
[null,{"$f":"CONCATENATE(\"Umlage \",Grunddaten!C63)","v":"Umlage Reserve"},null,null,null,{"$f":"IF(ROUND(BH443+SUM(BH445:BH528),12)=0,\"i.o.\",BH443+SUM(BH445:BH528))","v":"i.o."},null,null,null,null,null,null,null,null,null,null,null,null,null,null,null,null,null,null,null,null,null,null,null,null,null,null,null,null,null,null,null,null,null,null,null,null,null,null,null,null,null,null,null,null,null,null,null,null,null,null,null,null,null,{"$f":"-SUM($AC476:BG476,BI476:$HO476)","v":0},null,null,null,null,null,null,null,null,null,null,null,null,null,null,null,null,null,null,null,null,null,null,null,null,null,null,null,null,null,null,null,null,null,null,null,null,null,null,null,null,null,null,null,null,null,null,null,null,null,null,null,null,0,0,0,0,0,0,0,0,0,0,0,0,0,0,0,0,0,0,0,0,0,0,0,0,0,0,0,0,0,0,0,0,0,0,0,0,0,0,0,0,0,0,0,0,0,0,0,0,0,0,0,0,0,0,0,0,0,0,0,0,0,0,0,0,0,0,0,0,0,0,0,0,0,0,0,0,0,0,0,0,0,0,0,0,0,0,0,0,0,0,0,0,0,0,0,0,0,0,0,0,0,0,0,0,0,0,0,0,0,0,0,null,0,0,0,0,0,0,0,0,0,0,0,0,0,0,0,0]
[null,{"$f":"CONCATENATE(\"Umlage \",Grunddaten!C67)","v":"Umlage Wäscherei"},null,null,null,{"$f":"IF(ROUND(BL443+SUM(BL445:BL528),12)=0,\"i.o.\",BL443+SUM(BL445:BL528))","v":"i.o."},null,null,null,null,null,null,null,null,null,null,null,null,null,null,null,null,null,null,null,null,null,null,null,null,null,null,null,null,null,null,null,null,null,null,null,null,null,null,null,null,null,null,null,null,null,null,null,null,null,null,null,null,null,null,null,null,null,{"$f":"-SUM($AC480:BK480,BM480:$HO480)","v":0},null,null,null,null,null,null,null,null,null,null,null,null,null,null,null,null,null,null,null,null,null,null,null,null,null,null,null,null,null,null,null,null,null,null,null,null,null,null,null,null,null,null,null,null,null,null,null,null,0,0,0,0,0,0,0,0,0,0,0,0,0,0,0,0,0,0,0,0,0,0,0,0,0,0,0,0,0,0,0,0,0,0,0,0,0,0,0,0,0,0,0,0,0,0,0,0,0,0,0,0,0,0,0,0,0,0,0,0,0,0,0,0,0,0,0,0,0,0,0,0,0,0,0,0,0,0,0,0,0,0,0,0,0,0,0,0,0,0,0,0,0,0,0,0,0,0,0,0,0,0,0,0,0,0,0,0,0,0,0,null,0,0,0,0,0,0,0,0,0,0,0,0,0,0,0,0]
[null,{"$f":"CONCATENATE(\"Umlage \",Grunddaten!C70)","v":"Umlage Reserve"},null,null,null,{"$f":"IF(ROUND(BO443+SUM(BO445:BO528),12)=0,\"i.o.\",BO443+SUM(BO445:BO528))","v":"i.o."},null,null,null,null,null,null,null,null,null,null,null,null,null,null,null,null,null,null,null,null,null,null,null,null,null,null,null,null,null,null,null,null,null,null,null,null,null,null,null,null,null,null,null,null,null,null,null,null,null,null,null,null,null,null,null,null,null,null,null,null,{"$f":"-SUM($AC483:BN483,BP483:$HO483)","v":0},null,null,null,null,null,null,null,null,null,null,null,null,null,null,null,null,null,null,null,null,null,null,null,null,null,null,null,null,null,null,null,null,null,null,null,null,null,null,null,null,null,null,null,null,null,0,0,0,0,0,0,0,0,0,0,0,0,0,0,0,0,0,0,0,0,0,0,0,0,0,0,0,0,0,0,0,0,0,0,0,0,0,0,0,0,0,0,0,0,0,0,0,0,0,0,0,0,0,0,0,0,0,0,0,0,0,0,0,0,0,0,0,0,0,0,0,0,0,0,0,0,0,0,0,0,0,0,0,0,0,0,0,0,0,0,0,0,0,0,0,0,0,0,0,0,0,0,0,0,0,0,0,0,0,0,0,null,0,0,0,0,0,0,0,0,0,0,0,0,0,0,0,0]
[null,{"$f":"CONCATENATE(\"Umlage \",Grunddaten!C73)","v":"Umlage Reserve"},null,null,null,{"$f":"IF(ROUND(BR443+SUM(BR445:BR528),12)=0,\"i.o.\",BR443+SUM(BR445:BR528))","v":"i.o."},null,null,null,null,null,null,null,null,null,null,null,null,null,null,null,null,null,null,null,null,null,null,null,null,null,null,null,null,null,null,null,null,null,null,null,null,null,null,null,null,null,null,null,null,null,null,null,null,null,null,null,null,null,null,null,null,null,null,null,null,null,null,null,{"$f":"-SUM($AC486:BQ486,BS486:$HO486)","v":0},null,null,null,null,null,null,null,null,null,null,null,null,null,null,null,null,null,null,null,null,null,null,null,null,null,null,null,null,null,null,null,null,null,null,null,null,null,null,null,null,null,null,0,0,0,0,0,0,0,0,0,0,0,0,0,0,0,0,0,0,0,0,0,0,0,0,0,0,0,0,0,0,0,0,0,0,0,0,0,0,0,0,0,0,0,0,0,0,0,0,0,0,0,0,0,0,0,0,0,0,0,0,0,0,0,0,0,0,0,0,0,0,0,0,0,0,0,0,0,0,0,0,0,0,0,0,0,0,0,0,0,0,0,0,0,0,0,0,0,0,0,0,0,0,0,0,0,0,0,0,0,0,0,null,0,0,0,0,0,0,0,0,0,0,0,0,0,0,0,0]
[null,{"$f":"CONCATENATE(\"Umlage \",Grunddaten!C75)","v":"Umlage Reserve"},null,null,null,{"$f":"IF(ROUND(BT443+SUM(BT445:BT528),12)=0,\"i.o.\",BT443+SUM(BT445:BT528))","v":"i.o."},null,null,null,null,null,null,null,null,null,null,null,null,null,null,null,null,null,null,null,null,null,null,null,null,null,null,null,null,null,null,null,null,null,null,null,null,null,null,null,null,null,null,null,null,null,null,null,null,null,null,null,null,null,null,null,null,null,null,null,null,null,null,null,null,null,{"$f":"-SUM($AC488:BS488,BU488:$HO488)","v":0},null,null,null,null,null,null,null,null,null,null,null,null,null,null,null,null,null,null,null,null,null,null,null,null,null,null,null,null,null,null,null,null,null,null,null,null,null,null,null,null,0,0,0,0,0,0,0,0,0,0,0,0,0,0,0,0,0,0,0,0,0,0,0,0,0,0,0,0,0,0,0,0,0,0,0,0,0,0,0,0,0,0,0,0,0,0,0,0,0,0,0,0,0,0,0,0,0,0,0,0,0,0,0,0,0,0,0,0,0,0,0,0,0,0,0,0,0,0,0,0,0,0,0,0,0,0,0,0,0,0,0,0,0,0,0,0,0,0,0,0,0,0,0,0,0,0,0,0,0,0,0,null,0,0,0,0,0,0,0,0,0,0,0,0,0,0,0,0]
[null,{"$f":"CONCATENATE(\"Umlage \",Grunddaten!C78)","v":"Umlage Reserve"},null,null,null,{"$f":"IF(ROUND(BW443+SUM(BW445:BW528),12)=0,\"i.o.\",BW443+SUM(BW445:BW528))","v":"i.o."},null,null,null,null,null,null,null,null,null,null,null,null,null,null,null,null,null,null,null,null,null,null,null,null,null,null,null,null,null,null,null,null,null,null,null,null,null,null,null,null,null,null,null,null,null,null,null,null,null,null,null,null,null,null,null,null,null,null,null,null,null,null,null,null,null,null,null,null,{"$f":"-SUM($AC491:BV491,BX491:$HO491)","v":0},null,null,null,null,null,null,null,null,null,null,null,null,null,null,null,null,null,null,null,null,null,null,null,null,null,null,null,null,null,null,null,null,null,null,null,null,null,0,0,0,0,0,0,0,0,0,0,0,0,0,0,0,0,0,0,0,0,0,0,0,0,0,0,0,0,0,0,0,0,0,0,0,0,0,0,0,0,0,0,0,0,0,0,0,0,0,0,0,0,0,0,0,0,0,0,0,0,0,0,0,0,0,0,0,0,0,0,0,0,0,0,0,0,0,0,0,0,0,0,0,0,0,0,0,0,0,0,0,0,0,0,0,0,0,0,0,0,0,0,0,0,0,0,0,0,0,0,0,null,0,0,0,0,0,0,0,0,0,0,0,0,0,0,0,0]
[null,{"$f":"CONCATENATE(\"Umlage \",Grunddaten!C82)","v":"Umlage Reserve"},null,null,null,{"$f":"IF(ROUND(CA443+SUM(CA445:CA528),12)=0,\"i.o.\",CA443+SUM(CA445:CA528))","v":"i.o."},null,null,null,null,null,null,null,null,null,null,null,null,null,null,null,null,null,null,null,null,null,null,null,null,null,null,null,null,null,null,null,null,null,null,null,null,null,null,null,null,null,null,null,null,null,null,null,null,null,null,null,null,null,null,null,null,null,null,null,null,null,null,null,null,null,null,null,null,null,null,null,null,{"$f":"-SUM($AC495:BZ495,CB495:$HO495)","v":0},null,null,null,null,null,null,null,null,null,null,null,null,null,null,null,null,null,null,null,null,null,null,null,null,null,null,null,null,null,null,null,null,null,0,0,0,0,0,0,0,0,0,0,0,0,0,0,0,0,0,0,0,0,0,0,0,0,0,0,0,0,0,0,0,0,0,0,0,0,0,0,0,0,0,0,0,0,0,0,0,0,0,0,0,0,0,0,0,0,0,0,0,0,0,0,0,0,0,0,0,0,0,0,0,0,0,0,0,0,0,0,0,0,0,0,0,0,0,0,0,0,0,0,0,0,0,0,0,0,0,0,0,0,0,0,0,0,0,0,0,0,0,0,0,null,0,0,0,0,0,0,0,0,0,0,0,0,0,0,0,0]
[null,{"$f":"CONCATENATE(\"Umlage \",Grunddaten!C85)","v":"Umlage Reserve"},null,null,null,{"$f":"IF(ROUND(CD443+SUM(CD445:CD528),12)=0,\"i.o.\",CD443+SUM(CD445:CD528))","v":"i.o."},null,null,null,null,null,null,null,null,null,null,null,null,null,null,null,null,null,null,null,null,null,null,null,null,null,null,null,null,null,null,null,null,null,null,null,null,null,null,null,null,null,null,null,null,null,null,null,null,null,null,null,null,null,null,null,null,null,null,null,null,null,null,null,null,null,null,null,null,null,null,null,null,null,null,null,{"$f":"-SUM($AC498:CC498,CE498:$HO498)","v":0},null,null,null,null,null,null,null,null,null,null,null,null,null,null,null,null,null,null,null,null,null,null,null,null,null,null,null,null,null,null,0,0,0,0,0,0,0,0,0,0,0,0,0,0,0,0,0,0,0,0,0,0,0,0,0,0,0,0,0,0,0,0,0,0,0,0,0,0,0,0,0,0,0,0,0,0,0,0,0,0,0,0,0,0,0,0,0,0,0,0,0,0,0,0,0,0,0,0,0,0,0,0,0,0,0,0,0,0,0,0,0,0,0,0,0,0,0,0,0,0,0,0,0,0,0,0,0,0,0,0,0,0,0,0,0,0,0,0,0,0,0,null,0,0,0,0,0,0,0,0,0,0,0,0,0,0,0,0]
[null,{"$f":"CONCATENATE(\"Umlage \",Grunddaten!C88)","v":"Umlage Med.-therap. Massnah."},null,null,null,{"$f":"IF(ROUND(CG443+SUM(CG445:CG528),12)=0,\"i.o.\",CG443+SUM(CG445:CG528))","v":"i.o."},null,null,null,null,null,null,null,null,null,null,null,null,null,null,null,null,null,null,null,null,null,null,null,null,null,null,null,null,null,null,null,null,null,null,null,null,null,null,null,null,null,null,null,null,null,null,null,null,null,null,null,null,null,null,null,null,null,null,null,null,null,null,null,null,null,null,null,null,null,null,null,null,null,null,null,null,null,null,{"$f":"-SUM($AC501:CF501,CH501:$HO501)","v":0},null,null,null,null,null,null,null,null,null,null,null,null,null,null,null,null,null,null,null,null,null,null,null,null,null,null,null,0,0,0,0,0,0,0,0,0,0,0,0,0,0,0,0,0,0,0,0,0,0,0,0,0,0,0,0,0,0,0,0,0,0,0,0,0,0,0,0,0,0,0,0,0,0,0,0,0,0,0,0,0,0,0,0,0,0,0,0,0,0,0,0,0,0,0,0,0,0,0,0,0,0,0,0,0,0,0,0,0,0,0,0,0,0,0,0,0,0,0,0,0,0,0,0,0,0,0,0,0,0,0,0,0,0,0,0,0,0,0,null,0,0,0,0,0,0,0,0,0,0,0,0,0,0,0,0]
[null,{"$f":"CONCATENATE(\"Umlage \",Grunddaten!C92)","v":"Umlage Reserve"},null,null,null,{"$f":"IF(ROUND(CK443+SUM(CK445:CK528),12)=0,\"i.o.\",CK443+SUM(CK445:CK528))","v":"i.o."},null,null,null,null,null,null,null,null,null,null,null,null,null,null,null,null,null,null,null,null,null,null,null,null,null,null,null,null,null,null,null,null,null,null,null,null,null,null,null,null,null,null,null,null,null,null,null,null,null,null,null,null,null,null,null,null,null,null,null,null,null,null,null,null,null,null,null,null,null,null,null,null,null,null,null,null,null,null,null,null,null,null,{"$f":"-SUM($AC505:CJ505,CL505:$HO505)","v":0},null,null,null,null,null,null,null,null,null,null,null,null,null,null,null,null,null,null,null,null,null,null,null,0,0,0,0,0,0,0,0,0,0,0,0,0,0,0,0,0,0,0,0,0,0,0,0,0,0,0,0,0,0,0,0,0,0,0,0,0,0,0,0,0,0,0,0,0,0,0,0,0,0,0,0,0,0,0,0,0,0,0,0,0,0,0,0,0,0,0,0,0,0,0,0,0,0,0,0,0,0,0,0,0,0,0,0,0,0,0,0,0,0,0,0,0,0,0,0,0,0,0,0,0,0,0,0,0,0,0,0,0,0,0,null,0,0,0,0,0,0,0,0,0,0,0,0,0,0,0,0]
[null,{"$f":"CONCATENATE(\"Umlage \",Grunddaten!C95)","v":"Umlage Päd.-therap. Massnah."},null,null,null,{"$f":"IF(ROUND(CN443+SUM(CN445:CN528),12)=0,\"i.o.\",CN443+SUM(CN445:CN528))","v":"i.o."},null,null,null,null,null,null,null,null,null,null,null,null,null,null,null,null,null,null,null,null,null,null,null,null,null,null,null,null,null,null,null,null,null,null,null,null,null,null,null,null,null,null,null,null,null,null,null,null,null,null,null,null,null,null,null,null,null,null,null,null,null,null,null,null,null,null,null,null,null,null,null,null,null,null,null,null,null,null,null,null,null,null,null,null,null,{"$f":"-SUM($AC508:CM508,CO508:$HO508)","v":0},null,null,null,null,null,null,null,null,null,null,null,null,null,null,null,null,null,null,null,null,0,0,0,0,0,0,0,0,0,0,0,0,0,0,0,0,0,0,0,0,0,0,0,0,0,0,0,0,0,0,0,0,0,0,0,0,0,0,0,0,0,0,0,0,0,0,0,0,0,0,0,0,0,0,0,0,0,0,0,0,0,0,0,0,0,0,0,0,0,0,0,0,0,0,0,0,0,0,0,0,0,0,0,0,0,0,0,0,0,0,0,0,0,0,0,0,0,0,0,0,0,0,0,0,0,0,0,0,0,0,0,null,0,0,0,0,0,0,0,0,0,0,0,0,0,0,0,0]
[null,{"$f":"CONCATENATE(\"Umlage \",Grunddaten!C98)","v":"Umlage Reserve"},null,null,null,{"$f":"IF(ROUND(CQ443+SUM(CQ445:CQ528),12)=0,\"i.o.\",CQ443+SUM(CQ445:CQ528))","v":"i.o."},null,null,null,null,null,null,null,null,null,null,null,null,null,null,null,null,null,null,null,null,null,null,null,null,null,null,null,null,null,null,null,null,null,null,null,null,null,null,null,null,null,null,null,null,null,null,null,null,null,null,null,null,null,null,null,null,null,null,null,null,null,null,null,null,null,null,null,null,null,null,null,null,null,null,null,null,null,null,null,null,null,null,null,null,null,null,null,null,{"$f":"-SUM($AC511:CP511,CR511:$HO511)","v":0},null,null,null,null,null,null,null,null,null,null,null,null,null,null,null,null,null,0,0,0,0,0,0,0,0,0,0,0,0,0,0,0,0,0,0,0,0,0,0,0,0,0,0,0,0,0,0,0,0,0,0,0,0,0,0,0,0,0,0,0,0,0,0,0,0,0,0,0,0,0,0,0,0,0,0,0,0,0,0,0,0,0,0,0,0,0,0,0,0,0,0,0,0,0,0,0,0,0,0,0,0,0,0,0,0,0,0,0,0,0,0,0,0,0,0,0,0,0,0,0,0,0,0,0,0,0,0,0,null,0,0,0,0,0,0,0,0,0,0,0,0,0,0,0,0]
[null,{"$f":"CONCATENATE(\"Umlage \",Grunddaten!C100)","v":"Umlage Reserve"},null,null,null,{"$f":"IF(ROUND(CS443+SUM(CS445:CS528),12)=0,\"i.o.\",CS443+SUM(CS445:CS528))","v":"i.o."},null,null,null,null,null,null,null,null,null,null,null,null,null,null,null,null,null,null,null,null,null,null,null,null,null,null,null,null,null,null,null,null,null,null,null,null,null,null,null,null,null,null,null,null,null,null,null,null,null,null,null,null,null,null,null,null,null,null,null,null,null,null,null,null,null,null,null,null,null,null,null,null,null,null,null,null,null,null,null,null,null,null,null,null,null,null,null,null,null,null,{"$f":"-SUM($AC513:CR513,CT513:$HO513)","v":0},null,null,null,null,null,null,null,null,null,null,null,null,null,null,null,0,0,0,0,0,0,0,0,0,0,0,0,0,0,0,0,0,0,0,0,0,0,0,0,0,0,0,0,0,0,0,0,0,0,0,0,0,0,0,0,0,0,0,0,0,0,0,0,0,0,0,0,0,0,0,0,0,0,0,0,0,0,0,0,0,0,0,0,0,0,0,0,0,0,0,0,0,0,0,0,0,0,0,0,0,0,0,0,0,0,0,0,0,0,0,0,0,0,0,0,0,0,0,0,0,0,0,0,0,0,0,null,0,0,0,0,0,0,0,0,0,0,0,0,0,0,0,0]
[null,{"$f":"CONCATENATE(\"Umlage \",Grunddaten!C103)","v":"Umlage Reserve"},null,null,null,{"$f":"IF(ROUND(CV443+SUM(CV445:CV528),12)=0,\"i.o.\",CV443+SUM(CV445:CV528))","v":"i.o."},null,null,null,null,null,null,null,null,null,null,null,null,null,null,null,null,null,null,null,null,null,null,null,null,null,null,null,null,null,null,null,null,null,null,null,null,null,null,null,null,null,null,null,null,null,null,null,null,null,null,null,null,null,null,null,null,null,null,null,null,null,null,null,null,null,null,null,null,null,null,null,null,null,null,null,null,null,null,null,null,null,null,null,null,null,null,null,null,null,null,null,null,null,{"$f":"-SUM($AC516:CU516,CW516:$HO516)","v":0},null,null,null,null,null,null,null,null,null,null,null,null,0,0,0,0,0,0,0,0,0,0,0,0,0,0,0,0,0,0,0,0,0,0,0,0,0,0,0,0,0,0,0,0,0,0,0,0,0,0,0,0,0,0,0,0,0,0,0,0,0,0,0,0,0,0,0,0,0,0,0,0,0,0,0,0,0,0,0,0,0,0,0,0,0,0,0,0,0,0,0,0,0,0,0,0,0,0,0,0,0,0,0,0,0,0,0,0,0,0,0,0,0,0,0,0,0,0,0,0,0,0,0,null,0,0,0,0,0,0,0,0,0,0,0,0,0,0,0,0]
[null,{"$f":"CONCATENATE(\"Umlage \",Grunddaten!C104)","v":"Umlage Reserve"},null,null,null,{"$f":"IF(ROUND(CW443+SUM(CW445:CW528),12)=0,\"i.o.\",CW443+SUM(CW445:CW528))","v":"i.o."},null,null,null,null,null,null,null,null,null,null,null,null,null,null,null,null,null,null,null,null,null,null,null,null,null,null,null,null,null,null,null,null,null,null,null,null,null,null,null,null,null,null,null,null,null,null,null,null,null,null,null,null,null,null,null,null,null,null,null,null,null,null,null,null,null,null,null,null,null,null,null,null,null,null,null,null,null,null,null,null,null,null,null,null,null,null,null,null,null,null,null,null,null,null,{"$f":"-SUM($AC517:CV517,CX517:$HO517)","v":0},null,null,null,null,null,null,null,null,null,null,null,0,0,0,0,0,0,0,0,0,0,0,0,0,0,0,0,0,0,0,0,0,0,0,0,0,0,0,0,0,0,0,0,0,0,0,0,0,0,0,0,0,0,0,0,0,0,0,0,0,0,0,0,0,0,0,0,0,0,0,0,0,0,0,0,0,0,0,0,0,0,0,0,0,0,0,0,0,0,0,0,0,0,0,0,0,0,0,0,0,0,0,0,0,0,0,0,0,0,0,0,0,0,0,0,0,0,0,0,0,0,0,null,0,0,0,0,0,0,0,0,0,0,0,0,0,0,0,0]
[null,{"$f":"CONCATENATE(\"Umlage \",Grunddaten!C105)","v":"Umlage Reserve"},null,null,null,{"$f":"IF(ROUND(CX443+SUM(CX445:CX528),12)=0,\"i.o.\",CX443+SUM(CX445:CX528))","v":"i.o."},null,null,null,null,null,null,null,null,null,null,null,null,null,null,null,null,null,null,null,null,null,null,null,null,null,null,null,null,null,null,null,null,null,null,null,null,null,null,null,null,null,null,null,null,null,null,null,null,null,null,null,null,null,null,null,null,null,null,null,null,null,null,null,null,null,null,null,null,null,null,null,null,null,null,null,null,null,null,null,null,null,null,null,null,null,null,null,null,null,null,null,null,null,null,null,{"$f":"-SUM($AC518:CW518,CY518:$HO518)","v":0},null,null,null,null,null,null,null,null,null,null,0,0,0,0,0,0,0,0,0,0,0,0,0,0,0,0,0,0,0,0,0,0,0,0,0,0,0,0,0,0,0,0,0,0,0,0,0,0,0,0,0,0,0,0,0,0,0,0,0,0,0,0,0,0,0,0,0,0,0,0,0,0,0,0,0,0,0,0,0,0,0,0,0,0,0,0,0,0,0,0,0,0,0,0,0,0,0,0,0,0,0,0,0,0,0,0,0,0,0,0,0,0,0,0,0,0,0,0,0,0,0,null,0,0,0,0,0,0,0,0,0,0,0,0,0,0,0,0]
[null,{"$f":"CONCATENATE(\"Umlage \",Grunddaten!C106)","v":"Umlage Reserve"},null,null,null,{"$f":"IF(ROUND(CY443+SUM(CY445:CY528),12)=0,\"i.o.\",CY443+SUM(CY445:CY528))","v":"i.o."},null,null,null,null,null,null,null,null,null,null,null,null,null,null,null,null,null,null,null,null,null,null,null,null,null,null,null,null,null,null,null,null,null,null,null,null,null,null,null,null,null,null,null,null,null,null,null,null,null,null,null,null,null,null,null,null,null,null,null,null,null,null,null,null,null,null,null,null,null,null,null,null,null,null,null,null,null,null,null,null,null,null,null,null,null,null,null,null,null,null,null,null,null,null,null,null,{"$f":"-SUM($AC519:CX519,CZ519:$HO519)","v":0},null,null,null,null,null,null,null,null,null,0,0,0,0,0,0,0,0,0,0,0,0,0,0,0,0,0,0,0,0,0,0,0,0,0,0,0,0,0,0,0,0,0,0,0,0,0,0,0,0,0,0,0,0,0,0,0,0,0,0,0,0,0,0,0,0,0,0,0,0,0,0,0,0,0,0,0,0,0,0,0,0,0,0,0,0,0,0,0,0,0,0,0,0,0,0,0,0,0,0,0,0,0,0,0,0,0,0,0,0,0,0,0,0,0,0,0,0,0,0,0,null,0,0,0,0,0,0,0,0,0,0,0,0,0,0,0,0]
[null,{"$f":"CONCATENATE(\"Umlage \",Grunddaten!C107)","v":"Umlage Reserve"},null,null,null,{"$f":"IF(ROUND(CZ443+SUM(CZ445:CZ528),12)=0,\"i.o.\",CZ443+SUM(CZ445:CZ528))","v":"i.o."},null,null,null,null,null,null,null,null,null,null,null,null,null,null,null,null,null,null,null,null,null,null,null,null,null,null,null,null,null,null,null,null,null,null,null,null,null,null,null,null,null,null,null,null,null,null,null,null,null,null,null,null,null,null,null,null,null,null,null,null,null,null,null,null,null,null,null,null,null,null,null,null,null,null,null,null,null,null,null,null,null,null,null,null,null,null,null,null,null,null,null,null,null,null,null,null,null,{"$f":"-SUM($AC520:CY520,DA520:$HO520)","v":0},null,null,null,null,null,null,null,null,0,0,0,0,0,0,0,0,0,0,0,0,0,0,0,0,0,0,0,0,0,0,0,0,0,0,0,0,0,0,0,0,0,0,0,0,0,0,0,0,0,0,0,0,0,0,0,0,0,0,0,0,0,0,0,0,0,0,0,0,0,0,0,0,0,0,0,0,0,0,0,0,0,0,0,0,0,0,0,0,0,0,0,0,0,0,0,0,0,0,0,0,0,0,0,0,0,0,0,0,0,0,0,0,0,0,0,0,0,0,0,null,0,0,0,0,0,0,0,0,0,0,0,0,0,0,0,0]
[null,{"$f":"CONCATENATE(\"Umlage \",Grunddaten!C108)","v":"Umlage Reserve"},null,null,null,{"$f":"IF(ROUND(DA443+SUM(DA445:DA528),12)=0,\"i.o.\",DA443+SUM(DA445:DA528))","v":"i.o."},null,null,null,null,null,null,null,null,null,null,null,null,null,null,null,null,null,null,null,null,null,null,null,null,null,null,null,null,null,null,null,null,null,null,null,null,null,null,null,null,null,null,null,null,null,null,null,null,null,null,null,null,null,null,null,null,null,null,null,null,null,null,null,null,null,null,null,null,null,null,null,null,null,null,null,null,null,null,null,null,null,null,null,null,null,null,null,null,null,null,null,null,null,null,null,null,null,null,{"$f":"-SUM($AC521:CZ521,DB521:$HO521)","v":0},null,null,null,null,null,null,null,0,0,0,0,0,0,0,0,0,0,0,0,0,0,0,0,0,0,0,0,0,0,0,0,0,0,0,0,0,0,0,0,0,0,0,0,0,0,0,0,0,0,0,0,0,0,0,0,0,0,0,0,0,0,0,0,0,0,0,0,0,0,0,0,0,0,0,0,0,0,0,0,0,0,0,0,0,0,0,0,0,0,0,0,0,0,0,0,0,0,0,0,0,0,0,0,0,0,0,0,0,0,0,0,0,0,0,0,0,0,0,null,0,0,0,0,0,0,0,0,0,0,0,0,0,0,0,0]
[null,{"$f":"CONCATENATE(\"Umlage \",Grunddaten!C109)","v":"Umlage Diverses"},null,null,null,{"$f":"IF(ROUND(DB443+SUM(DB445:DB528),12)=0,\"i.o.\",DB443+SUM(DB445:DB528))","v":"i.o."},null,null,null,null,null,null,null,null,null,null,null,null,null,null,null,null,null,null,null,null,null,null,null,null,null,null,null,null,null,null,null,null,null,null,null,null,null,null,null,null,null,null,null,null,null,null,null,null,null,null,null,null,null,null,null,null,null,null,null,null,null,null,null,null,null,null,null,null,null,null,null,null,null,null,null,null,null,null,null,null,null,null,null,null,null,null,null,null,null,null,null,null,null,null,null,null,null,null,null,{"$f":"-SUM($AC522:DA522,DC522:$HO522)","v":0},null,null,null,null,null,null,0,0,0,0,0,0,0,0,0,0,0,0,0,0,0,0,0,0,0,0,0,0,0,0,0,0,0,0,0,0,0,0,0,0,0,0,0,0,0,0,0,0,0,0,0,0,0,0,0,0,0,0,0,0,0,0,0,0,0,0,0,0,0,0,0,0,0,0,0,0,0,0,0,0,0,0,0,0,0,0,0,0,0,0,0,0,0,0,0,0,0,0,0,0,0,0,0,0,0,0,0,0,0,0,0,0,0,0,0,0,0,null,0,0,0,0,0,0,0,0,0,0,0,0,0,0,0,0]
[null,{"$f":"CONCATENATE(\"Umlage \",Grunddaten!C110)","v":"Umlage Reserve"},null,null,null,{"$f":"IF(ROUND(DC443+SUM(DC445:DC528),12)=0,\"i.o.\",DC443+SUM(DC445:DC528))","v":"i.o."},null,null,null,null,null,null,null,null,null,null,null,null,null,null,null,null,null,null,null,null,null,null,null,null,null,null,null,null,null,null,null,null,null,null,null,null,null,null,null,null,null,null,null,null,null,null,null,null,null,null,null,null,null,null,null,null,null,null,null,null,null,null,null,null,null,null,null,null,null,null,null,null,null,null,null,null,null,null,null,null,null,null,null,null,null,null,null,null,null,null,null,null,null,null,null,null,null,null,null,null,{"$f":"-SUM($AC523:DB523,DD523:$HO523)","v":0},null,null,null,null,null,0,0,0,0,0,0,0,0,0,0,0,0,0,0,0,0,0,0,0,0,0,0,0,0,0,0,0,0,0,0,0,0,0,0,0,0,0,0,0,0,0,0,0,0,0,0,0,0,0,0,0,0,0,0,0,0,0,0,0,0,0,0,0,0,0,0,0,0,0,0,0,0,0,0,0,0,0,0,0,0,0,0,0,0,0,0,0,0,0,0,0,0,0,0,0,0,0,0,0,0,0,0,0,0,0,0,0,0,0,0,0,null,0,0,0,0,0,0,0,0,0,0,0,0,0,0,0,0]
[null,{"$f":"CONCATENATE(\"Umlage \",Grunddaten!C111)","v":"Umlage Reserve"},null,null,null,{"$f":"IF(ROUND(DD443+SUM(DD445:DD528),12)=0,\"i.o.\",DD443+SUM(DD445:DD528))","v":"i.o."},null,null,null,null,null,null,null,null,null,null,null,null,null,null,null,null,null,null,null,null,null,null,null,null,null,null,null,null,null,null,null,null,null,null,null,null,null,null,null,null,null,null,null,null,null,null,null,null,null,null,null,null,null,null,null,null,null,null,null,null,null,null,null,null,null,null,null,null,null,null,null,null,null,null,null,null,null,null,null,null,null,null,null,null,null,null,null,null,null,null,null,null,null,null,null,null,null,null,null,null,null,{"$f":"-SUM($AC524:DC524,DE524:$HO524)","v":0},null,null,null,null,0,0,0,0,0,0,0,0,0,0,0,0,0,0,0,0,0,0,0,0,0,0,0,0,0,0,0,0,0,0,0,0,0,0,0,0,0,0,0,0,0,0,0,0,0,0,0,0,0,0,0,0,0,0,0,0,0,0,0,0,0,0,0,0,0,0,0,0,0,0,0,0,0,0,0,0,0,0,0,0,0,0,0,0,0,0,0,0,0,0,0,0,0,0,0,0,0,0,0,0,0,0,0,0,0,0,0,0,0,0,0,null,0,0,0,0,0,0,0,0,0,0,0,0,0,0,0,0]
[null,{"$f":"CONCATENATE(\"Umlage \",Grunddaten!C112)","v":"Umlage Reserve"},null,null,null,{"$f":"IF(ROUND(DE443+SUM(DE445:DE528),12)=0,\"i.o.\",DE443+SUM(DE445:DE528))","v":"i.o."},null,null,null,null,null,null,null,null,null,null,null,null,null,null,null,null,null,null,null,null,null,null,null,null,null,null,null,null,null,null,null,null,null,null,null,null,null,null,null,null,null,null,null,null,null,null,null,null,null,null,null,null,null,null,null,null,null,null,null,null,null,null,null,null,null,null,null,null,null,null,null,null,null,null,null,null,null,null,null,null,null,null,null,null,null,null,null,null,null,null,null,null,null,null,null,null,null,null,null,null,null,null,{"$f":"-SUM($AC525:DD525,DF525:$HO525)","v":0},null,null,null,0,0,0,0,0,0,0,0,0,0,0,0,0,0,0,0,0,0,0,0,0,0,0,0,0,0,0,0,0,0,0,0,0,0,0,0,0,0,0,0,0,0,0,0,0,0,0,0,0,0,0,0,0,0,0,0,0,0,0,0,0,0,0,0,0,0,0,0,0,0,0,0,0,0,0,0,0,0,0,0,0,0,0,0,0,0,0,0,0,0,0,0,0,0,0,0,0,0,0,0,0,0,0,0,0,0,0,0,0,0,0,null,0,0,0,0,0,0,0,0,0,0,0,0,0,0,0,0]
[null,{"$f":"CONCATENATE(\"Umlage \",Grunddaten!C113)","v":"Umlage Reserve"},null,null,null,{"$f":"IF(ROUND(DF443+SUM(DF445:DF528),12)=0,\"i.o.\",DF443+SUM(DF445:DF528))","v":"i.o."},null,null,null,null,null,null,null,null,null,null,null,null,null,null,null,null,null,null,null,null,null,null,null,null,null,null,null,null,null,null,null,null,null,null,null,null,null,null,null,null,null,null,null,null,null,null,null,null,null,null,null,null,null,null,null,null,null,null,null,null,null,null,null,null,null,null,null,null,null,null,null,null,null,null,null,null,null,null,null,null,null,null,null,null,null,null,null,null,null,null,null,null,null,null,null,null,null,null,null,null,null,null,null,{"$f":"-SUM($AC526:DE526,DG526:$HO526)","v":0},null,null,0,0,0,0,0,0,0,0,0,0,0,0,0,0,0,0,0,0,0,0,0,0,0,0,0,0,0,0,0,0,0,0,0,0,0,0,0,0,0,0,0,0,0,0,0,0,0,0,0,0,0,0,0,0,0,0,0,0,0,0,0,0,0,0,0,0,0,0,0,0,0,0,0,0,0,0,0,0,0,0,0,0,0,0,0,0,0,0,0,0,0,0,0,0,0,0,0,0,0,0,0,0,0,0,0,0,0,0,0,0,0,null,0,0,0,0,0,0,0,0,0,0,0,0,0,0,0,0]
[null,{"$f":"CONCATENATE(\"Umlage \",Grunddaten!C114)","v":"Umlage Reserve"},null,null,null,{"$f":"IF(ROUND(DG443+SUM(DG445:DG528),12)=0,\"i.o.\",DG443+SUM(DG445:DG528))","v":"i.o."},null,null,null,null,null,null,null,null,null,null,null,null,null,null,null,null,null,null,null,null,null,null,null,null,null,null,null,null,null,null,null,null,null,null,null,null,null,null,null,null,null,null,null,null,null,null,null,null,null,null,null,null,null,null,null,null,null,null,null,null,null,null,null,null,null,null,null,null,null,null,null,null,null,null,null,null,null,null,null,null,null,null,null,null,null,null,null,null,null,null,null,null,null,null,null,null,null,null,null,null,null,null,null,null,{"$f":"-SUM($AC527:DF527,DH527:$HO527)","v":0},null,0,0,0,0,0,0,0,0,0,0,0,0,0,0,0,0,0,0,0,0,0,0,0,0,0,0,0,0,0,0,0,0,0,0,0,0,0,0,0,0,0,0,0,0,0,0,0,0,0,0,0,0,0,0,0,0,0,0,0,0,0,0,0,0,0,0,0,0,0,0,0,0,0,0,0,0,0,0,0,0,0,0,0,0,0,0,0,0,0,0,0,0,0,0,0,0,0,0,0,0,0,0,0,0,0,0,0,0,0,0,0,null,0,0,0,0,0,0,0,0,0,0,0,0,0,0,0,0]
[null,{"$f":"CONCATENATE(\"Umlage \",Grunddaten!C115)","v":"Umlage Reserve"},null,null,null,{"$f":"IF(ROUND(DH443+SUM(DH445:DH528),12)=0,\"i.o.\",DH443+SUM(DH445:DH528))","v":"i.o."},null,null,null,null,null,null,null,null,null,null,null,null,null,null,null,null,null,null,null,null,null,null,null,null,null,null,null,null,null,null,null,null,null,null,null,null,null,null,null,null,null,null,null,null,null,null,null,null,null,null,null,null,null,null,null,null,null,null,null,null,null,null,null,null,null,null,null,null,null,null,null,null,null,null,null,null,null,null,null,null,null,null,null,null,null,null,null,null,null,null,null,null,null,null,null,null,null,null,null,null,null,null,null,null,null,{"$f":"-SUM($AC528:DG528,DI528:$HO528)","v":0},0,0,0,0,0,0,0,0,0,0,0,0,0,0,0,0,0,0,0,0,0,0,0,0,0,0,0,0,0,0,0,0,0,0,0,0,0,0,0,0,0,0,0,0,0,0,0,0,0,0,0,0,0,0,0,0,0,0,0,0,0,0,0,0,0,0,0,0,0,0,0,0,0,0,0,0,0,0,0,0,0,0,0,0,0,0,0,0,0,0,0,0,0,0,0,0,0,0,0,0,0,0,0,0,0,0,0,0,0,0,0,null,0,0,0,0,0,0,0,0,0,0,0,0,0,0,0,0]
[null,"Erträge HauptKS\nnach Umlage HilfsKS",null,null,null,null,null,null,null,null,null,null,null,null,null,null,null,null,null,null,null,null,null,null,null,null,null,null,{"$f":"IF(ROUND(SUM(AC445:AC528,AC443),5)=0,\"i.o.\",SUM(AC445:AC528,AC443))","v":"i.o."},{"$f":"IF(ROUND(SUM(AD445:AD528,AD443),5)=0,\"i.o.\",SUM(AD445:AD528,AD443))","v":"i.o."},"i.o.","i.o.","i.o.","i.o.","i.o.","i.o.","i.o.","i.o.","i.o.","i.o.","i.o.","i.o.","i.o.","i.o.","i.o.","i.o.","i.o.","i.o.","i.o.","i.o.","i.o.","i.o.","i.o.","i.o.","i.o.","i.o.","i.o.","i.o.","i.o.","i.o.","i.o.","i.o.","i.o.","i.o.","i.o.","i.o.","i.o.","i.o.","i.o.","i.o.","i.o.","i.o.","i.o.","i.o.","i.o.","i.o.","i.o.","i.o.","i.o.","i.o.","i.o.","i.o.","i.o.","i.o.","i.o.","i.o.","i.o.","i.o.","i.o.","i.o.","i.o.","i.o.","i.o.",{"$f":"IF(ROUND(SUM(CP445:CP528,CP443),5)=0,\"i.o.\",SUM(CP445:CP528,CP443))","v":"i.o."},"i.o.","i.o.","i.o.","i.o.","i.o.","i.o.","i.o.","i.o.","i.o.","i.o.","i.o.","i.o.","i.o.","i.o.","i.o.",{"$f":"IF(ROUND(SUM(DF445:DF528,DF443),5)=0,\"i.o.\",SUM(DF445:DF528,DF443))","v":"i.o."},{"$f":"IF(ROUND(SUM(DG445:DG528,DG443),5)=0,\"i.o.\",SUM(DG445:DG528,DG443))","v":"i.o."},{"$f":"IF(ROUND(SUM(DH445:DH528,DH443),5)=0,\"i.o.\",SUM(DH445:DH528,DH443))","v":"i.o."},{"$f":"SUM(DI445:DI528,DI443)","v":0},{"$f":"SUM(DJ445:DJ528,DJ443)","v":0},{"$f":"SUM(DK445:DK528,DK443)","v":0},0,0,0,0,0,0,0,0,{"$f":"SUM(DT445:DT528,DT443)","v":0},0,0,0,0,0,0,0,0,0,0,0,0,0,0,0,0,0,0,0,{"$f":"SUM(EN445:EN528,EN443)","v":0},0,{"$f":"SUM(EP445:EP528,EP443)","v":0},0,0,0,0,0,0,0,0,0,0,0,{"$f":"SUM(FB445:FB528,FB443)","v":0},0,{"$f":"SUM(FD445:FD528,FD443)","v":0},0,0,0,0,0,0,0,0,0,0,0,0,0,0,0,0,0,0,0,{"$f":"SUM(FX445:FX528,FX443)","v":0},0,0,0,0,0,0,0,0,0,0,{"$f":"SUM(GI445:GI528,GI443)","v":0},0,0,0,0,0,0,0,0,0,0,0,0,0,0,0,0,0,0,0,0,0,0,0,0,0,0,0,0,0,0,0,0,null,0,0,0,0,0,0,0,0,0,0,0,0,0,0,0,{"$f":"IF(COUNT(HE529:HO529)=0,\"\",SUM(HE529:HO529))","v":0}]
[]
[null,"Anrechenbare Brutto Objekterträge",{"$f":"SUM(DI531:FA531)","v":0},null,null,null,null,null,null,null,null,null,null,null,null,null,null,null,null,null,null,null,null,null,null,null,null,null,null,null,null,null,null,null,null,null,null,null,null,null,null,null,null,null,null,null,null,null,null,null,null,null,null,null,null,null,null,null,null,null,null,null,null,null,null,null,null,null,null,null,null,null,null,null,null,null,null,null,null,null,null,null,null,null,null,null,null,null,null,null,null,null,null,null,null,null,null,null,null,null,null,null,null,null,null,null,null,null,null,null,null,null,{"$f":"SUM(DI445:DI528,DI443)-SUM(DI405,DI393,DI327,DI313)","v":0},0,0,0,0,0,0,0,0,0,0,0,0,0,0,0,0,0,0,0,0,0,0,0,0,0,0,0,0,0,0,0,0,0,0,0,0,0,0,0,0,0,0,0,0,0,0,0,null,null,null,null,null,null,null,null,{"$f":"SUM(FM445:FM528,FM443)-SUM(FM405,FM393,FM327,FM313)","v":0},0,0,0,0,null,null,null,null,null,null,null,null,null,null,null,null,null,null,null,null,null,null,null,null,null,null,null,null,null,null,null,null,null,null,null,null,null,null,null,null,null,null,null,null,null,null,null,null,null,null,null,null,null,null,null,{"$f":"SUM(HQ445:HQ528,HQ443)-SUM(HQ405,HQ393,HQ327,HQ313)","v":0},0,0,0,0,0,null,null,{"$f":"SUM(HY445:HY528,HY443)-SUM(HY405,HY393,HY327,HY313)","v":0},{"$f":"SUM(HZ445:HZ528,HZ443)-SUM(HZ405,HZ393,HZ327,HZ313)","v":0}]
[]
[null,"Erträge Hauptkostenstellen",{"$f":"C417","v":0},{"$f":"D417","v":0},{"$f":"E417","v":0},{"$f":"IF(SUM(DI533:HO533)=E533,\"i.o.\",E533-SUM(DI533:HO533))","v":"i.o."},null,null,null,null,null,null,null,null,null,null,null,null,null,null,null,null,null,null,null,null,null,null,null,null,null,null,null,null,null,null,null,null,null,null,null,null,null,null,null,null,null,null,null,null,null,null,null,null,null,null,null,null,null,null,null,null,null,null,null,null,null,null,null,null,null,null,null,null,null,null,null,null,null,null,null,null,null,null,null,null,null,null,null,null,null,null,null,null,null,null,null,null,null,null,null,null,null,null,null,null,null,null,null,null,null,null,{"$f":"SUM(DI445:DI528,DI443)","v":0},{"$f":"SUM(DJ445:DJ528,DJ443)","v":0},0,0,0,0,0,0,0,0,0,{"$f":"SUM(DT445:DT528,DT443)","v":0},0,0,0,0,0,0,0,0,0,0,0,0,0,0,0,0,0,0,0,{"$f":"SUM(EN445:EN528,EN443)","v":0},0,{"$f":"SUM(EP445:EP528,EP443)","v":0},0,0,0,0,0,0,0,0,0,0,0,{"$f":"SUM(FB445:FB528,FB443)","v":0},0,{"$f":"SUM(FD445:FD528,FD443)","v":0},0,0,0,0,0,0,0,0,0,0,0,0,0,0,0,0,0,0,0,0,0,0,0,0,0,0,0,0,0,{"$f":"SUM(GH445:GH528,GH443)","v":0},0,0,0,0,0,0,0,0,0,0,0,0,0,0,0,0,0,0,0,0,0,0,0,0,0,0,0,0,0,0,0,0,0,null,{"$f":"SUM(HQ445:HQ528,HQ443)","v":0},{"$f":"SUM(HR445:HR528,HR443)","v":0},{"$f":"SUM(HS445:HS528,HS443)","v":0},{"$f":"SUM(HT445:HT528,HT443)","v":0},0,{"$f":"SUM(HV445:HV528,HV443)","v":0},0,{"$f":"SUM(HX445:HX528,HX443)","v":0},{"$f":"IF(COUNT(FM533:FP533)=0,\"\",SUM(FM533:FP533))","v":0},{"$f":"IF(COUNT(FQ533:FQ533)=0,\"\",SUM(FQ533:FQ533))","v":0},{"$f":"IF(COUNT(FR533:FW533)=0,\"\",SUM(FR533:FW533))","v":0},{"$f":"IF(COUNT(FX533:GB533)=0,\"\",SUM(FX533:GB533))","v":0},{"$f":"IF(COUNT(GC533:GH533)=0,\"\",SUM(GC533:GH533))","v":0},0,0,0]
[null,"− Kosten Hauptkostenstellen",{"$f":"C195","v":0},{"$f":"D195","v":0},{"$f":"E195","v":0},{"$f":"IF(SUM(DI534:HO534)=E534,\"i.o.\",E534-SUM(DI534:HO534))","v":"i.o."},null,null,null,null,null,null,null,null,null,null,null,null,null,null,null,null,null,null,null,null,null,null,null,null,null,null,null,null,null,null,null,null,null,null,null,null,null,null,null,null,null,null,null,null,null,null,null,null,null,null,null,null,null,null,null,null,null,null,null,null,null,null,null,null,null,null,null,null,null,null,null,null,null,null,null,null,null,null,null,null,null,null,null,null,null,null,null,null,null,null,null,null,null,null,null,null,null,null,null,null,null,null,null,null,null,null,{"$f":"DI307","v":0},0,0,0,0,0,0,0,0,0,0,0,0,0,0,0,0,0,0,0,0,0,0,0,0,0,0,0,0,0,0,0,{"$f":"EO307","v":0},0,0,0,0,0,0,0,0,0,0,0,0,0,0,0,0,0,0,0,0,0,0,0,0,0,0,0,0,0,0,0,{"$f":"FU307","v":0},0,0,0,0,0,0,0,0,0,0,0,0,0,0,0,0,0,0,0,0,0,0,0,0,0,0,0,0,0,0,0,{"$f":"HA307","v":0},0,0,0,0,0,0,0,0,0,0,0,0,0,0,null,{"$f":"HQ307","v":0},0,0,0,0,0,0,0,{"$f":"IF(COUNT(FM534:FP534)=0,\"\",SUM(FM534:FP534))","v":0},{"$f":"IF(COUNT(FQ534:FQ534)=0,\"\",SUM(FQ534:FQ534))","v":0},{"$f":"IF(COUNT(FR534:FW534)=0,\"\",SUM(FR534:FW534))","v":0},{"$f":"IF(COUNT(FX534:GB534)=0,\"\",SUM(FX534:GB534))","v":0},{"$f":"IF(COUNT(GC534:GH534)=0,\"\",SUM(GC534:GH534))","v":0},{"$f":"ID307","v":0},{"$f":"IE307","v":0},{"$f":"IF307","v":0}]
[null,"= (-) Unter- bzw. (+) Überdeckung",{"$f":"C533-C534","v":0},{"$f":"D533-D534","v":0},0,{"$f":"IF(SUM(DI535:HO535)=E535,\"i.o.\",E535-SUM(DI535:HO535))","v":"i.o."},null,null,null,null,null,null,null,null,null,null,null,null,null,null,null,null,null,null,null,null,null,null,null,null,null,null,null,null,null,null,null,null,null,null,null,null,null,null,null,null,null,null,null,null,null,null,null,null,null,null,null,null,null,null,null,null,null,null,null,null,null,null,null,null,null,null,null,null,null,null,null,null,null,null,null,null,null,null,null,null,null,null,null,null,null,null,null,null,null,null,null,null,null,null,null,null,null,null,null,null,null,null,null,null,null,null,{"$f":"DI533-DI534","v":0},{"$f":"DJ533-DJ534","v":0},0,0,0,0,0,0,0,0,0,{"$f":"DT533-DT534","v":0},0,0,0,0,0,0,0,0,0,0,0,0,0,0,0,0,0,0,0,{"$f":"EN533-EN534","v":0},0,{"$f":"EP533-EP534","v":0},0,0,0,0,0,0,0,0,0,0,0,{"$f":"FB533-FB534","v":0},0,{"$f":"FD533-FD534","v":0},0,0,0,0,0,0,0,0,0,0,0,0,0,0,0,0,0,0,0,0,0,0,0,0,0,0,0,0,0,{"$f":"GH533-GH534","v":0},0,0,0,0,0,0,0,0,0,0,0,0,0,0,0,0,0,0,0,0,0,0,0,0,0,0,0,0,0,0,0,0,0,null,{"$f":"HQ533-HQ534","v":0},{"$f":"HR533-HR534","v":0},{"$f":"HS533-HS534","v":0},{"$f":"HT533-HT534","v":0},0,{"$f":"HV533-HV534","v":0},0,{"$f":"HX533-HX534","v":0},{"$f":"IF(COUNT(FM535:FP535)=0,\"\",SUM(FM535:FP535))","v":0},{"$f":"IF(COUNT(FQ535:FQ535)=0,\"\",SUM(FQ535:FQ535))","v":0},{"$f":"IF(COUNT(FR535:FW535)=0,\"\",SUM(FR535:FW535))","v":0},{"$f":"IF(COUNT(FX535:GB535)=0,\"\",SUM(FX535:GB535))","v":0},{"$f":"IF(COUNT(GC535:GH535)=0,\"\",SUM(GC535:GH535))","v":0},0,0,0]
[]
[null,"Ergebnis Betreuungsbereich",null,null,null,null,null,null,null,null,null,null,null,null,null,null,null,null,null,null,null,null,null,null,null,null,null,null,null,null,null,null,null,null,null,null,null,null,null,null,null,null,null,null,null,null,null,null,null,null,null,null,null,null,null,null,null,null,null,null,null,null,null,null,null,null,null,null,null,null,null,null,null,null,null,null,null,null,null,null,null,null,null,null,null,null,null,null,null,null,null,null,null,null,null,null,null,null,null,null,null,null,null,null,null,null,null,null,null,null,null,null,{"$f":"SUM(DI396,DI399,DI315,DI329)-DI309","v":0},0,0,0,0,0,0,0,0,0,0,0,0,0,0,0,0,0,0,0,0,0,0,0,0,0,0,0,0,0,0,0,0,0,0,0,0,0,0,0,0,0,0,0,0,0,0,0,null,null,null,null,null,null,null,null,null,null,null,null,null,null,null,null,null,null,null,null,null,null,null,null,null,null,null,null,null,null,null,null,null,null,null,null,null,null,null,null,null,null,null,null,null,null,null,null,null,null,null,null,null,null,null,null,null,null,null,null,null,null,null,null,{"$f":"SUM(HQ396,HQ399,HQ315,HQ329)-HQ309","v":0},null,{"$f":"SUM(HS396,HS399,HS315,HS329)-HS309","v":0},null,{"$f":"SUM(HU396,HU399,HU315,HU329)-HU309","v":0}]
[null,"Ergebnis Objektbereich",null,null,null,null,null,null,null,null,null,null,null,null,null,null,null,null,null,null,null,null,null,null,null,null,null,null,null,null,null,null,null,null,null,null,null,null,null,null,null,null,null,null,null,null,null,null,null,null,null,null,null,null,null,null,null,null,null,null,null,null,null,null,null,null,null,null,null,null,null,null,null,null,null,null,null,null,null,null,null,null,null,null,null,null,null,null,null,null,null,null,null,null,null,null,null,null,null,null,null,null,null,null,null,null,null,null,null,null,null,null,{"$f":"SUM(DI394:DI401,DI328:DI341,DI314:DI326)-SUM(DI396,DI399,DI329,DI315,DI310)","v":0},0,0,0,0,0,0,0,0,0,0,0,0,0,0,0,0,0,0,0,0,0,0,0,0,0,0,0,0,0,0,0,0,0,0,0,0,0,0,0,0,0,0,0,0,0,0,0,null,null,null,null,null,null,null,null,null,null,null,null,null,null,null,null,null,null,null,null,null,null,null,null,null,null,null,null,null,null,null,null,null,null,null,null,null,null,null,null,null,null,null,null,null,null,null,null,null,null,null,null,null,null,null,null,null,null,null,null,null,null,null,null,{"$f":"SUM(HQ394:HQ401,HQ328:HQ341,HQ314:HQ326)-SUM(HQ396,HQ399,HQ329,HQ315,HQ310)","v":0},null,{"$f":"SUM(HS394:HS401,HS328:HS341,HS314:HS326)-SUM(HS396,HS399,HS329,HS315,HS310)","v":0},null,{"$f":"SUM(HU394:HU401,HU328:HU341,HU314:HU326)-SUM(HU396,HU399,HU329,HU315,HU310)","v":0}]
[]
[]
[]
["Farblegende"]
[null,"Keine Kontierung"]
[null,"Betreuungskosten"]
[null,"Objektkosten"]
[null,"Für Berechnung nicht berücksichtigt"]

{"sheet":"Zusammenzug","index":5,"n_rows":23,"n_cols":7,"rows_kept":23,"cut":false,"hidden":false,"merged":[[1,0,1,2],[3,0,3,1],[10,0,10,1]]}
["Kosten für Leistungserbringung IFEG"]
["Betreuungs- und Objektkostenanteile nach Leistung "]
[]
["In Absoluten Zahlen"]
["Hauptkostenstelle","Betreutes Wohnen","Betreute Tagesgestaltung","Begleitete Arbeit ","Total IFEG-Leistungen",null,"Nicht IFEG-Leistungen (AWB)"]
["Leistung"]
["ANA IVSE p.a.",{"$f":"SUM(BAB!HQ307)-SUM(BAB!HQ533)+SUM(BAB!HQ405,BAB!HQ393,BAB!HQ327,BAB!HQ313)","v":0},{"$f":"SUM(BAB!HS307)-SUM(BAB!HS533)+SUM(BAB!HS405,BAB!HS393,BAB!HS327,BAB!HS313)","v":0},{"$f":"SUM(BAB!HU307)-SUM(BAB!HU533)+SUM(BAB!HU405,BAB!HU393,BAB!HU327,BAB!HU313)","v":0},{"$f":"SUM(B7:D7)","v":0},null,{"$f":"SUM(BAB!HY307)-SUM(BAB!HY533)+SUM(BAB!HY405,BAB!HY393,BAB!HY327,BAB!HY313)","v":0}]
["davon Betreuungskosten p.a. (netto)",{"$f":"SUM(BAB!HQ4)","v":0},{"$f":"SUM(BAB!HS4)","v":0},{"$f":"SUM(BAB!HU4)","v":0},{"$f":"SUM(B8:D8)","v":0},null,{"$f":"SUM(BAB!HY4)","v":0}]
["davon Objektkosten p.a. (netto)",{"$f":"B7-B8","v":0},{"$f":"C7-C8","v":0},{"$f":"D7-D8","v":0},{"$f":"SUM(B9:D9)","v":0},null,{"$f":"G7-G8","v":0}]
[]
["Verhältnis Betreuungs zu Objektkosten"]
["Hauptkostenstelle","Betreutes Wohnen","Betreute Tagesgestaltung","Begleitete Arbeit ","Total IFEG-Leistungen",null,"Total IFEG-Leistungen"]
["Leistung"]
["ANA IVSE p.a.",{"$f":"SUM(B15:B16)","v":0},{"$f":"SUM(C15:C16)","v":0},{"$f":"SUM(D15:D16)","v":0},{"$f":"SUM(E15:E16)","v":0},null,{"$f":"SUM(G15:G16)","v":0}]
["davon Betreuungskosten p.a. (netto)",{"$f":"IF(B7=0,0,B8/B7)","v":0},{"$f":"IF(C7=0,0,C8/C7)","v":0},{"$f":"IF(D7=0,0,D8/D7)","v":0},{"$f":"IF(E7=0,0,E8/E7)","v":0},null,{"$f":"IF(G7=0,0,G8/G7)","v":0}]
["davon Objektkosten p.a. (netto)",{"$f":"IF(B7=0,0,B9/B7)","v":0},{"$f":"IF(C7=0,0,C9/C7)","v":0},{"$f":"IF(D7=0,0,D9/D7)","v":0},{"$f":"IF(E7=0,0,E9/E7)","v":0},null,{"$f":"IF(G7=0,0,G9/G7)","v":0}]
[]
[]
["Aufteilung der Nettokosten auf die IFEG-Leistung Variante 1 (wie bisher)"]
["Hauptkostenstelle",{"$f":"B5","v":"Betreutes Wohnen"},{"$f":"C5","v":"Betreute Tagesgestaltung"},{"$f":"D5","v":"Begleitete Arbeit "},"Total IFEG-Leistungen"]
["Leistung"]
["ANA IVSE p.a.",{"$f":"B7","v":0},{"$f":"C7","v":0},{"$f":"D7","v":0},{"$f":"SUM(B22:D22)","v":0}]
["ANA IVSE p.a. im Verhältnis",{"$f":"IF($E$22=0,0,B22/$E$22)","v":0},{"$f":"IF($E$22=0,0,C22/$E$22)","v":0},{"$f":"IF($E$22=0,0,D22/$E$22)","v":0},{"$f":"SUM(B23:D23)","v":0}]

{"sheet":"Umlageschlüssel","index":6,"n_rows":249,"n_cols":196,"rows_kept":249,"cut":false,"hidden":false,"merged":[[165,90,248,90],[133,0,135,2],[133,5,133,88],[133,90,135,92],[136,0,156,0],[136,90,156,90],[133,4,135,4],[133,94,135,94],[162,94,164,94],[133,95,133,195],[162,95,162,195],[0,5,1,83],[38,90,121,90],[6,95,6,195],[35,95,35,195],[162,90,164,92],[6,0,8,2],[6,90,8,92],[35,90,37,92],[35,94,37,94],[6,94,8,94],[9,0,29,0],[9,90,29,90],[6,5,6,88],[6,4,8,4]]}
["Eingabemaske Umlageschlüssel",null,null,null,null,"Vorsicht: Wurden schon Kosten einer Vorkosten- oder Hilfskostenstelle umgelegt, so darf in diesem Tabellenblatt unter diesen Kostenstellen kein Wert <> 0% stehen, da ansonsten die alten Werte überschrieben werden. Da die Übernahme der Werte makrobasiert ist, ist ein Rückgängigmachen nicht mehr möglich."]
[]
["Umlage Kosten"]
[]
[]
[]
["Umlageschlüssel Vorkostenstellen auf Hilfkostenstellen",null,null,null,"Summe der Umlagen","Hilfskostenstellen",null,null,null,null,null,null,null,null,null,null,null,null,null,null,null,null,null,null,null,null,null,null,null,null,null,null,null,null,null,null,null,null,null,null,null,null,null,null,null,null,null,null,null,null,null,null,null,null,null,null,null,null,null,null,null,null,null,null,null,null,null,null,null,null,null,null,null,null,null,null,null,null,null,null,null,null,null,null,null,null,null,null,null,null,"Umlageschlüssel Vorkostenstellen auf Hauptkostenstellen",null,null,null,"Summe der Umlagen","Hauptkostenstellen"]
[null,null,null,null,null,{"$f":"BAB!AC2","v":100},{"$f":"BAB!AD2","v":101},{"$f":"BAB!AE2","v":102},{"$f":"BAB!AF2","v":103},{"$f":"BAB!AG2","v":104},{"$f":"BAB!AH2","v":105},{"$f":"BAB!AI2","v":106},{"$f":"BAB!AJ2","v":200},{"$f":"BAB!AK2","v":201},{"$f":"BAB!AL2","v":202},{"$f":"BAB!AM2","v":203},{"$f":"BAB!AN2","v":204},{"$f":"BAB!AO2","v":205},{"$f":"BAB!AP2","v":206},{"$f":"BAB!AQ2","v":210},{"$f":"BAB!AR2","v":211},{"$f":"BAB!AS2","v":212},{"$f":"BAB!AT2","v":213},{"$f":"BAB!AU2","v":214},{"$f":"BAB!AV2","v":215},{"$f":"BAB!AW2","v":216},{"$f":"BAB!AX2","v":300},{"$f":"BAB!AY2","v":301},{"$f":"BAB!AZ2","v":302},{"$f":"BAB!BA2","v":303},{"$f":"BAB!BB2","v":304},{"$f":"BAB!BC2","v":305},{"$f":"BAB!BD2","v":306},{"$f":"BAB!BE2","v":400},{"$f":"BAB!BF2","v":401},{"$f":"BAB!BG2","v":402},{"$f":"BAB!BH2","v":403},{"$f":"BAB!BI2","v":404},{"$f":"BAB!BJ2","v":405},{"$f":"BAB!BK2","v":406},{"$f":"BAB!BL2","v":500},{"$f":"BAB!BM2","v":501},{"$f":"BAB!BN2","v":502},{"$f":"BAB!BO2","v":503},{"$f":"BAB!BP2","v":504},{"$f":"BAB!BQ2","v":504},{"$f":"BAB!BR2","v":505},{"$f":"BAB!BS2","v":600},{"$f":"BAB!BT2","v":601},{"$f":"BAB!BU2","v":602},{"$f":"BAB!BV2","v":603},{"$f":"BAB!BW2","v":604},{"$f":"BAB!BX2","v":605},{"$f":"BAB!BY2","v":606},{"$f":"BAB!BZ2","v":610},{"$f":"BAB!CA2","v":611},{"$f":"BAB!CB2","v":612},{"$f":"BAB!CC2","v":613},{"$f":"BAB!CD2","v":614},{"$f":"BAB!CE2","v":615},{"$f":"BAB!CF2","v":616},{"$f":"BAB!CG2","v":700},{"$f":"BAB!CH2","v":701},{"$f":"BAB!CI2","v":702},{"$f":"BAB!CJ2","v":703},{"$f":"BAB!CK2","v":704},{"$f":"BAB!CL2","v":705},{"$f":"BAB!CM2","v":706},{"$f":"BAB!CN2","v":800},{"$f":"BAB!CO2","v":801},{"$f":"BAB!CP2","v":802},{"$f":"BAB!CQ2","v":803},{"$f":"BAB!CR2","v":804},{"$f":"BAB!CS2","v":805},{"$f":"BAB!CT2","v":806},{"$f":"BAB!CU2","v":900},{"$f":"BAB!CV2","v":901},{"$f":"BAB!CW2","v":902},{"$f":"BAB!CX2","v":903},{"$f":"BAB!CY2","v":904},{"$f":"BAB!CZ2","v":905},{"$f":"BAB!DA2","v":906},{"$f":"BAB!DB2","v":1000},{"$f":"BAB!DC2","v":1001},{"$f":"BAB!DD2","v":1002},{"$f":"BAB!DE2","v":1003},{"$f":"BAB!DF2","v":1004},{"$f":"BAB!DG2","v":1005},{"$f":"BAB!DH2","v":1006},null,null,null,null,null,null,11000,11001,11002,11003,11004,11005,11006,11007,11008,11009,11010,11011,11012,11013,11014,11015,11016,11017,11018,11019,11100,11101,11102,11103,11104,11105,11106,11107,11108,11109,11110,11111,11112,11113,12000,12001,12002,12003,12004,12005,12006,12007,12008,12009,12010,12011,12012,12013,13000,13001,13002,13003,13004,13005,13006,13010,14000,14001,14002,14003,14004,14005,14006,14007,14008,14009,14010,14900,14901,14902,14903,14904,14905,14906,14907,14908,14909,14910,15000,15001,15002,15003,15004,15005,15006,15007,15008,15009,15010,16000,16001,16002,16003,16004,16005,16006,16007,16008,16009,16010,19000]
[null,null,null,"Bemerkungen zur Umlage",null,{"$f":"BAB!AC3","v":"Leitung & Verwaltung"},{"$f":"BAB!AD3","v":"Reserve"},{"$f":"BAB!AE3","v":"Reserve"},{"$f":"BAB!AF3","v":"Reserve"},{"$f":"BAB!AG3","v":"Reserve"},{"$f":"BAB!AH3","v":"Reserve"},{"$f":"BAB!AI3","v":"Reserve"},{"$f":"BAB!AJ3","v":"Transportdienst"},{"$f":"BAB!AK3","v":"Reserve"},{"$f":"BAB!AL3","v":"Reserve"},{"$f":"BAB!AM3","v":"Reserve"},{"$f":"BAB!AN3","v":"Reserve"},{"$f":"BAB!AO3","v":"Reserve"},{"$f":"BAB!AP3","v":"Reserve"},{"$f":"BAB!AQ3","v":"Transport inkl. Betreuung zu und von TS"},{"$f":"BAB!AR3","v":"Reserve"},{"$f":"BAB!AS3","v":"Reserve"},{"$f":"BAB!AT3","v":"Reserve"},{"$f":"BAB!AU3","v":"Reserve"},{"$f":"BAB!AV3","v":"Reserve"},{"$f":"BAB!AW3","v":"Reserve"},{"$f":"BAB!AX3","v":"Technischer Dienst / Hauswartung"},{"$f":"BAB!AY3","v":"Reserve"},{"$f":"BAB!AZ3","v":"Reserve"},{"$f":"BAB!BA3","v":"Reserve"},{"$f":"BAB!BB3","v":"Reserve"},{"$f":"BAB!BC3","v":"Reserve"},{"$f":"BAB!BD3","v":"Reserve"},{"$f":"BAB!BE3","v":"Reinigung / Haushalt"},{"$f":"BAB!BF3","v":"Reserve"},{"$f":"BAB!BG3","v":"Reserve"},{"$f":"BAB!BH3","v":"Reserve"},{"$f":"BAB!BI3","v":"Reserve"},{"$f":"BAB!BJ3","v":"Reserve"},{"$f":"BAB!BK3","v":"Reserve"},{"$f":"BAB!BL3","v":"Wäscherei"},{"$f":"BAB!BM3","v":"Reserve"},{"$f":"BAB!BN3","v":"Reserve"},{"$f":"BAB!BO3","v":"Reserve"},{"$f":"BAB!BP3","v":"Reserve"},{"$f":"BAB!BQ3","v":"Reserve"},{"$f":"BAB!BR3","v":"Reserve"},{"$f":"BAB!BS3","v":"Verpflegung"},{"$f":"BAB!BT3","v":"Reserve"},{"$f":"BAB!BU3","v":"Reserve"},{"$f":"BAB!BV3","v":"Reserve"},{"$f":"BAB!BW3","v":"Reserve"},{"$f":"BAB!BX3","v":"Reserve"},{"$f":"BAB!BY3","v":"Reserve"},{"$f":"BAB!BZ3","v":"Betreuung und Verpflegung über Mittag (nur TS)"},{"$f":"BAB!CA3","v":"Reserve"},{"$f":"BAB!CB3","v":"Reserve"},{"$f":"BAB!CC3","v":"Reserve"},{"$f":"BAB!CD3","v":"Reserve"},{"$f":"BAB!CE3","v":"Reserve"},{"$f":"BAB!CF3","v":"Reserve"},{"$f":"BAB!CG3","v":"Med.-therap. Massnah."},{"$f":"BAB!CH3","v":"Reserve"},{"$f":"BAB!CI3","v":"Reserve"},{"$f":"BAB!CJ3","v":"Reserve"},{"$f":"BAB!CK3","v":"Reserve"},{"$f":"BAB!CL3","v":"Reserve"},{"$f":"BAB!CM3","v":"Reserve"},{"$f":"BAB!CN3","v":"Päd.-therap. Massnah."},{"$f":"BAB!CO3","v":"Reserve"},{"$f":"BAB!CP3","v":"Reserve"},{"$f":"BAB!CQ3","v":"Reserve"},{"$f":"BAB!CR3","v":"Reserve"},{"$f":"BAB!CS3","v":"Reserve"},{"$f":"BAB!CT3","v":"Reserve"},{"$f":"BAB!CU3","v":"Taschengeld BT"},{"$f":"BAB!CV3","v":"Reserve"},{"$f":"BAB!CW3","v":"Reserve"},{"$f":"BAB!CX3","v":"Reserve"},{"$f":"BAB!CY3","v":"Reserve"},{"$f":"BAB!CZ3","v":"Reserve"},{"$f":"BAB!DA3","v":"Reserve"},{"$f":"BAB!DB3","v":"Diverses"},{"$f":"BAB!DC3","v":"Reserve"},{"$f":"BAB!DD3","v":"Reserve"},{"$f":"BAB!DE3","v":"Reserve"},{"$f":"BAB!DF3","v":"Reserve"},{"$f":"BAB!DG3","v":"Reserve"},{"$f":"BAB!DH3","v":"Reserve"},null,null,null,null,"Bemerkungen zur Umlage",null,"Betreutes Wohnen","Reserve","Reserve","Reserve","Reserve","Reserve","Reserve","Reserve","Reserve","Reserve","BW Corona","Reserve Corona","Reserve Corona","Reserve Corona","Reserve Corona","Reserve Corona","Reserve Corona","Reserve Corona","Reserve Corona","Reserve Corona","Betreute Tagesgestaltung ","Reserve","Reserve","Reserve","Reserve","Reserve","Reserve","Reserve","Reserve","Reserve","BT Corona","Reserve Corona","Reserve Corona","Reserve Corona","Begleitete Arbeit","Reserve","Reserve","Reserve","Reserve","Reserve","Reserve","Reserve","Reserve","Reserve","BA Corona","Reserve Corona","Reserve Corona","Reserve Corona ","Produktion","Reserve","Reserve","Reserve","Reserve","Reserve","Reserve","Produktion Corona","Nicht-IFEG Leistungen","Reserve","Reserve","Reserve","Nicht-IFEG Leistungen Corona","Sonder-/ Zusatzbedarf","Reserve","Reserve","Reserve","Reserve","Reserve","Leistungen für andere Auftraggeber","Reserve","Reserve","Reserve","Reserve","KVG-Leistungen","Reserve","Reserve","Reserve","Reserve","Reserve","Nebenbetriebe","Reserve","Reserve","Reserve","Reserve","Reserve","Reserve","Reserve","Reserve","Reserve","Reserve","Trägerschaft","Reserve","Reserve","Reserve","Reserve","Reserve","Reserve","Reserve","Reserve","Reserve","Reserve","Diverses"]
["Vorkostenstellen",{"$f":"Grunddaten!B9","v":10},{"$f":"Grunddaten!C9","v":"Kapitaldienst"},null,{"$f":"SUM(F10:CK10,CR10:GL10)","v":0},0,0,0,0,0,0,0,0,0,0,0,0,0,0,0,0,0,0,0,0,0,0,0,0,0,0,0,0,0,0,0,0,0,0,0,0,0,0,0,0,0,0,0,0,0,0,0,0,0,0,0,0,0,0,0,0,0,0,0,0,0,0,0,0,0,0,0,0,0,0,0,0,0,0,0,0,0,0,0,0,0,0,0,0,null,"Vorkostenstellen",{"$f":"Grunddaten!B9","v":10},{"$f":"Grunddaten!C9","v":"Kapitaldienst"},null,{"$f":"SUM(F10:CK10,CR10:GL10)","v":0},0,0,0,0,0,0,0,0,0,0,0,0,0,0,0,0,0,0,0,0,0,0,0,0,0,0,0,0,0,0,0,0,0,0,0,0,0,0,0,0,0,0,0,0,0,0,0,0,0,0,0,0,0,0,0,0,0,0,0,0,0,0,0,0,0,0,0,0,0,0,0,0,0,0,0,0,0,0,0,0,0,0,0,0,0,0,0,0,0,0,0,0,0,0,0,0,0,0,0,0,0]
[null,{"$f":"Grunddaten!B10","v":11},{"$f":"Grunddaten!C10","v":"Reserve"},null,{"$f":"SUM(F11:CK11,CR11:GL11)","v":0},0,0,0,0,0,0,0,0,0,0,0,0,0,0,0,0,0,0,0,0,0,0,0,0,0,0,0,0,0,0,0,0,0,0,0,0,0,0,0,0,0,0,0,0,0,0,0,0,0,0,0,0,0,0,0,0,0,0,0,0,0,0,0,0,0,0,0,0,0,0,0,0,0,0,0,0,0,0,0,0,0,0,0,0,null,null,{"$f":"Grunddaten!B10","v":11},{"$f":"Grunddaten!C10","v":"Reserve"},null,0,0,0,0,0,0,0,0,0,0,0,0,0,0,0,0,0,0,0,0,0,0,0,0,0,0,0,0,0,0,0,0,0,0,0,0,0,0,0,0,0,0,0,0,0,0,0,0,0,0,0,0,0,0,0,0,0,0,0,0,0,0,0,0,0,0,0,0,0,0,0,0,0,0,0,0,0,0,0,0,0,0,0,0,0,0,0,0,0,0,0,0,0,0,0,0,0,0,0,0]
[null,{"$f":"Grunddaten!B11","v":12},{"$f":"Grunddaten!C11","v":"Reserve"},null,0,0,0,0,0,0,0,0,0,0,0,0,0,0,0,0,0,0,0,0,0,0,0,0,0,0,0,0,0,0,0,0,0,0,0,0,0,0,0,0,0,0,0,0,0,0,0,0,0,0,0,0,0,0,0,0,0,0,0,0,0,0,0,0,0,0,0,0,0,0,0,0,0,0,0,0,0,0,0,0,0,0,0,0,0,null,null,{"$f":"Grunddaten!B11","v":12},{"$f":"Grunddaten!C11","v":"Reserve"},null,0,0,0,0,0,0,0,0,0,0,0,0,0,0,0,0,0,0,0,0,0,0,0,0,0,0,0,0,0,0,0,0,0,0,0,0,0,0,0,0,0,0,0,0,0,0,0,0,0,0,0,0,0,0,0,0,0,0,0,0,0,0,0,0,0,0,0,0,0,0,0,0,0,0,0,0,0,0,0,0,0,0,0,0,0,0,0,0,0,0,0,0,0,0,0,0,0,0,0,0]
[null,{"$f":"Grunddaten!B12","v":13},{"$f":"Grunddaten!C12","v":"Reserve"},null,0,0,0,0,0,0,0,0,0,0,0,0,0,0,0,0,0,0,0,0,0,0,0,0,0,0,0,0,0,0,0,0,0,0,0,0,0,0,0,0,0,0,0,0,0,0,0,0,0,0,0,0,0,0,0,0,0,0,0,0,0,0,0,0,0,0,0,0,0,0,0,0,0,0,0,0,0,0,0,0,0,0,0,0,0,null,null,{"$f":"Grunddaten!B12","v":13},{"$f":"Grunddaten!C12","v":"Reserve"},null,0,0,0,0,0,0,0,0,0,0,0,0,0,0,0,0,0,0,0,0,0,0,0,0,0,0,0,0,0,0,0,0,0,0,0,0,0,0,0,0,0,0,0,0,0,0,0,0,0,0,0,0,0,0,0,0,0,0,0,0,0,0,0,0,0,0,0,0,0,0,0,0,0,0,0,0,0,0,0,0,0,0,0,0,0,0,0,0,0,0,0,0,0,0,0,0,0,0,0,0]
[null,{"$f":"Grunddaten!B13","v":14},{"$f":"Grunddaten!C13","v":"Reserve"},null,0,0,0,0,0,0,0,0,0,0,0,0,0,0,0,0,0,0,0,0,0,0,0,0,0,0,0,0,0,0,0,0,0,0,0,0,0,0,0,0,0,0,0,0,0,0,0,0,0,0,0,0,0,0,0,0,0,0,0,0,0,0,0,0,0,0,0,0,0,0,0,0,0,0,0,0,0,0,0,0,0,0,0,0,0,null,null,{"$f":"Grunddaten!B13","v":14},{"$f":"Grunddaten!C13","v":"Reserve"},null,0,0,0,0,0,0,0,0,0,0,0,0,0,0,0,0,0,0,0,0,0,0,0,0,0,0,0,0,0,0,0,0,0,0,0,0,0,0,0,0,0,0,0,0,0,0,0,0,0,0,0,0,0,0,0,0,0,0,0,0,0,0,0,0,0,0,0,0,0,0,0,0,0,0,0,0,0,0,0,0,0,0,0,0,0,0,0,0,0,0,0,0,0,0,0,0,0,0,0,0]
[null,{"$f":"Grunddaten!B14","v":15},{"$f":"Grunddaten!C14","v":"Reserve"},null,0,0,0,0,0,0,0,0,0,0,0,0,0,0,0,0,0,0,0,0,0,0,0,0,0,0,0,0,0,0,0,0,0,0,0,0,0,0,0,0,0,0,0,0,0,0,0,0,0,0,0,0,0,0,0,0,0,0,0,0,0,0,0,0,0,0,0,0,0,0,0,0,0,0,0,0,0,0,0,0,0,0,0,0,0,null,null,{"$f":"Grunddaten!B14","v":15},{"$f":"Grunddaten!C14","v":"Reserve"},null,0,0,0,0,0,0,0,0,0,0,0,0,0,0,0,0,0,0,0,0,0,0,0,0,0,0,0,0,0,0,0,0,0,0,0,0,0,0,0,0,0,0,0,0,0,0,0,0,0,0,0,0,0,0,0,0,0,0,0,0,0,0,0,0,0,0,0,0,0,0,0,0,0,0,0,0,0,0,0,0,0,0,0,0,0,0,0,0,0,0,0,0,0,0,0,0,0,0,0,0]
[null,{"$f":"Grunddaten!B15","v":16},{"$f":"Grunddaten!C15","v":"Reserve"},null,0,0,0,0,0,0,0,0,0,0,0,0,0,0,0,0,0,0,0,0,0,0,0,0,0,0,0,0,0,0,0,0,0,0,0,0,0,0,0,0,0,0,0,0,0,0,0,0,0,0,0,0,0,0,0,0,0,0,0,0,0,0,0,0,0,0,0,0,0,0,0,0,0,0,0,0,0,0,0,0,0,0,0,0,0,null,null,{"$f":"Grunddaten!B15","v":16},{"$f":"Grunddaten!C15","v":"Reserve"},null,0,0,0,0,0,0,0,0,0,0,0,0,0,0,0,0,0,0,0,0,0,0,0,0,0,0,0,0,0,0,0,0,0,0,0,0,0,0,0,0,0,0,0,0,0,0,0,0,0,0,0,0,0,0,0,0,0,0,0,0,0,0,0,0,0,0,0,0,0,0,0,0,0,0,0,0,0,0,0,0,0,0,0,0,0,0,0,0,0,0,0,0,0,0,0,0,0,0,0,0]
[null,{"$f":"Grunddaten!B16","v":20},{"$f":"Grunddaten!C16","v":"Gebäude"},null,0,0,0,0,0,0,0,0,0,0,0,0,0,0,0,0,0,0,0,0,0,0,0,0,0,0,0,0,0,0,0,0,0,0,0,0,0,0,0,0,0,0,0,0,0,0,0,0,0,0,0,0,0,0,0,0,0,0,0,0,0,0,0,0,0,0,0,0,0,0,0,0,0,0,0,0,0,0,0,0,0,0,0,0,0,null,null,{"$f":"Grunddaten!B16","v":20},{"$f":"Grunddaten!C16","v":"Gebäude"},null,0,0,0,0,0,0,0,0,0,0,0,0,0,0,0,0,0,0,0,0,0,0,0,0,0,0,0,0,0,0,0,0,0,0,0,0,0,0,0,0,0,0,0,0,0,0,0,0,0,0,0,0,0,0,0,0,0,0,0,0,0,0,0,0,0,0,0,0,0,0,0,0,0,0,0,0,0,0,0,0,0,0,0,0,0,0,0,0,0,0,0,0,0,0,0,0,0,0,0,0,0,0]
[null,{"$f":"Grunddaten!B17","v":21},{"$f":"Grunddaten!C17","v":"Reserve"},null,0,0,0,0,0,0,0,0,0,0,0,0,0,0,0,0,0,0,0,0,0,0,0,0,0,0,0,0,0,0,0,0,0,0,0,0,0,0,0,0,0,0,0,0,0,0,0,0,0,0,0,0,0,0,0,0,0,0,0,0,0,0,0,0,0,0,0,0,0,0,0,0,0,0,0,0,0,0,0,0,0,0,0,0,0,null,null,{"$f":"Grunddaten!B17","v":21},{"$f":"Grunddaten!C17","v":"Reserve"},null,0,0,0,0,0,0,0,0,0,0,0,0,0,0,0,0,0,0,0,0,0,0,0,0,0,0,0,0,0,0,0,0,0,0,0,0,0,0,0,0,0,0,0,0,0,0,0,0,0,0,0,0,0,0,0,0,0,0,0,0,0,0,0,0,0,0,0,0,0,0,0,0,0,0,0,0,0,0,0,0,0,0,0,0,0,0,0,0,0,0,0,0,0,0,0,0,0,0,0,0]
[null,{"$f":"Grunddaten!B18","v":22},{"$f":"Grunddaten!C18","v":"Reserve"},null,0,0,0,0,0,0,0,0,0,0,0,0,0,0,0,0,0,0,0,0,0,0,0,0,0,0,0,0,0,0,0,0,0,0,0,0,0,0,0,0,0,0,0,0,0,0,0,0,0,0,0,0,0,0,0,0,0,0,0,0,0,0,0,0,0,0,0,0,0,0,0,0,0,0,0,0,0,0,0,0,0,0,0,0,0,null,null,{"$f":"Grunddaten!B18","v":22},{"$f":"Grunddaten!C18","v":"Reserve"},null,0,0,0,0,0,0,0,0,0,0,0,0,0,0,0,0,0,0,0,0,0,0,0,0,0,0,0,0,0,0,0,0,0,0,0,0,0,0,0,0,0,0,0,0,0,0,0,0,0,0,0,0,0,0,0,0,0,0,0,0,0,0,0,0,0,0,0,0,0,0,0,0,0,0,0,0,0,0,0,0,0,0,0,0,0,0,0,0,0,0,0,0,0,0,0,0,0,0,0,0]
[null,{"$f":"Grunddaten!B19","v":23},{"$f":"Grunddaten!C19","v":"Reserve"},null,0,0,0,0,0,0,0,0,0,0,0,0,0,0,0,0,0,0,0,0,0,0,0,0,0,0,0,0,0,0,0,0,0,0,0,0,0,0,0,0,0,0,0,0,0,0,0,0,0,0,0,0,0,0,0,0,0,0,0,0,0,0,0,0,0,0,0,0,0,0,0,0,0,0,0,0,0,0,0,0,0,0,0,0,0,null,null,{"$f":"Grunddaten!B19","v":23},{"$f":"Grunddaten!C19","v":"Reserve"},null,0,0,0,0,0,0,0,0,0,0,0,0,0,0,0,0,0,0,0,0,0,0,0,0,0,0,0,0,0,0,0,0,0,0,0,0,0,0,0,0,0,0,0,0,0,0,0,0,0,0,0,0,0,0,0,0,0,0,0,0,0,0,0,0,0,0,0,0,0,0,0,0,0,0,0,0,0,0,0,0,0,0,0,0,0,0,0,0,0,0,0,0,0,0,0,0,0,0,0,0]
[null,{"$f":"Grunddaten!B20","v":24},{"$f":"Grunddaten!C20","v":"Reserve"},null,0,0,0,0,0,0,0,0,0,0,0,0,0,0,0,0,0,0,0,0,0,0,0,0,0,0,0,0,0,0,0,0,0,0,0,0,0,0,0,0,0,0,0,0,0,0,0,0,0,0,0,0,0,0,0,0,0,0,0,0,0,0,0,0,0,0,0,0,0,0,0,0,0,0,0,0,0,0,0,0,0,0,0,0,0,null,null,{"$f":"Grunddaten!B20","v":24},{"$f":"Grunddaten!C20","v":"Reserve"},null,0,0,0,0,0,0,0,0,0,0,0,0,0,0,0,0,0,0,0,0,0,0,0,0,0,0,0,0,0,0,0,0,0,0,0,0,0,0,0,0,0,0,0,0,0,0,0,0,0,0,0,0,0,0,0,0,0,0,0,0,0,0,0,0,0,0,0,0,0,0,0,0,0,0,0,0,0,0,0,0,0,0,0,0,0,0,0,0,0,0,0,0,0,0,0,0,0,0,0,0]
[null,{"$f":"Grunddaten!B21","v":25},{"$f":"Grunddaten!C21","v":"Reserve"},null,0,0,0,0,0,0,0,0,0,0,0,0,0,0,0,0,0,0,0,0,0,0,0,0,0,0,0,0,0,0,0,0,0,0,0,0,0,0,0,0,0,0,0,0,0,0,0,0,0,0,0,0,0,0,0,0,0,0,0,0,0,0,0,0,0,0,0,0,0,0,0,0,0,0,0,0,0,0,0,0,0,0,0,0,0,null,null,{"$f":"Grunddaten!B21","v":25},{"$f":"Grunddaten!C21","v":"Reserve"},null,0,0,0,0,0,0,0,0,0,0,0,0,0,0,0,0,0,0,0,0,0,0,0,0,0,0,0,0,0,0,0,0,0,0,0,0,0,0,0,0,0,0,0,0,0,0,0,0,0,0,0,0,0,0,0,0,0,0,0,0,0,0,0,0,0,0,0,0,0,0,0,0,0,0,0,0,0,0,0,0,0,0,0,0,0,0,0,0,0,0,0,0,0,0,0,0,0,0,0,0]
[null,{"$f":"Grunddaten!B22","v":26},{"$f":"Grunddaten!C22","v":"Reserve"},null,0,0,0,0,0,0,0,0,0,0,0,0,0,0,0,0,0,0,0,0,0,0,0,0,0,0,0,0,0,0,0,0,0,0,0,0,0,0,0,0,0,0,0,0,0,0,0,0,0,0,0,0,0,0,0,0,0,0,0,0,0,0,0,0,0,0,0,0,0,0,0,0,0,0,0,0,0,0,0,0,0,0,0,0,0,null,null,{"$f":"Grunddaten!B22","v":26},{"$f":"Grunddaten!C22","v":"Reserve"},null,0,0,0,0,0,0,0,0,0,0,0,0,0,0,0,0,0,0,0,0,0,0,0,0,0,0,0,0,0,0,0,0,0,0,0,0,0,0,0,0,0,0,0,0,0,0,0,0,0,0,0,0,0,0,0,0,0,0,0,0,0,0,0,0,0,0,0,0,0,0,0,0,0,0,0,0,0,0,0,0,0,0,0,0,0,0,0,0,0,0,0,0,0,0,0,0,0,0,0,0]
[null,{"$f":"Grunddaten!B23","v":30},{"$f":"Grunddaten!C23","v":"Abschreibungen \n(nur BL) "},null,0,0,0,0,0,0,0,0,0,0,0,0,0,0,0,0,0,0,0,0,0,0,0,0,0,0,0,0,0,0,0,0,0,0,0,0,0,0,0,0,0,0,0,0,0,0,0,0,0,0,0,0,0,0,0,0,0,0,0,0,0,0,0,0,0,0,0,0,0,0,0,0,0,0,0,0,0,0,0,0,0,0,0,0,0,null,null,{"$f":"Grunddaten!B23","v":30},{"$f":"Grunddaten!C23","v":"Abschreibungen \n(nur BL) "},null,0,0,0,0,0,0,0,0,0,0,0,0,0,0,0,0,0,0,0,0,0,0,0,0,0,0,0,0,0,0,0,0,0,0,0,0,0,0,0,0,0,0,0,0,0,0,0,0,0,0,0,0,0,0,0,0,0,0,0,0,0,0,0,0,0,0,0,0,0,0,0,0,0,0,0,0,0,0,0,0,0,0,0,0,0,0,0,0,0,0,0,0,0,0,0,0,0,0,0,0,0,0]
[null,{"$f":"Grunddaten!B24","v":31},{"$f":"Grunddaten!C24","v":"Reserve"},null,0,0,0,0,0,0,0,0,0,0,0,0,0,0,0,0,0,0,0,0,0,0,0,0,0,0,0,0,0,0,0,0,0,0,0,0,0,0,0,0,0,0,0,0,0,0,0,0,0,0,0,0,0,0,0,0,0,0,0,0,0,0,0,0,0,0,0,0,0,0,0,0,0,0,0,0,0,0,0,0,0,0,0,0,0,null,null,{"$f":"Grunddaten!B24","v":31},{"$f":"Grunddaten!C24","v":"Reserve"},null,0,0,0,0,0,0,0,0,0,0,0,0,0,0,0,0,0,0,0,0,0,0,0,0,0,0,0,0,0,0,0,0,0,0,0,0,0,0,0,0,0,0,0,0,0,0,0,0,0,0,0,0,0,0,0,0,0,0,0,0,0,0,0,0,0,0,0,0,0,0,0,0,0,0,0,0,0,0,0,0,0,0,0,0,0,0,0,0,0,0,0,0,0,0,0,0,0,0,0,0]
[null,{"$f":"Grunddaten!B25","v":32},{"$f":"Grunddaten!C25","v":"Reserve"},null,0,0,0,0,0,0,0,0,0,0,0,0,0,0,0,0,0,0,0,0,0,0,0,0,0,0,0,0,0,0,0,0,0,0,0,0,0,0,0,0,0,0,0,0,0,0,0,0,0,0,0,0,0,0,0,0,0,0,0,0,0,0,0,0,0,0,0,0,0,0,0,0,0,0,0,0,0,0,0,0,0,0,0,0,0,null,null,{"$f":"Grunddaten!B25","v":32},{"$f":"Grunddaten!C25","v":"Reserve"},null,0,0,0,0,0,0,0,0,0,0,0,0,0,0,0,0,0,0,0,0,0,0,0,0,0,0,0,0,0,0,0,0,0,0,0,0,0,0,0,0,0,0,0,0,0,0,0,0,0,0,0,0,0,0,0,0,0,0,0,0,0,0,0,0,0,0,0,0,0,0,0,0,0,0,0,0,0,0,0,0,0,0,0,0,0,0,0,0,0,0,0,0,0,0,0,0,0,0,0,0]
[null,{"$f":"Grunddaten!B26","v":33},{"$f":"Grunddaten!C26","v":"Reserve"},null,0,0,0,0,0,0,0,0,0,0,0,0,0,0,0,0,0,0,0,0,0,0,0,0,0,0,0,0,0,0,0,0,0,0,0,0,0,0,0,0,0,0,0,0,0,0,0,0,0,0,0,0,0,0,0,0,0,0,0,0,0,0,0,0,0,0,0,0,0,0,0,0,0,0,0,0,0,0,0,0,0,0,0,0,0,null,null,{"$f":"Grunddaten!B26","v":33},{"$f":"Grunddaten!C26","v":"Reserve"},null,0,0,0,0,0,0,0,0,0,0,0,0,0,0,0,0,0,0,0,0,0,0,0,0,0,0,0,0,0,0,0,0,0,0,0,0,0,0,0,0,0,0,0,0,0,0,0,0,0,0,0,0,0,0,0,0,0,0,0,0,0,0,0,0,0,0,0,0,0,0,0,0,0,0,0,0,0,0,0,0,0,0,0,0,0,0,0,0,0,0,0,0,0,0,0,0,0,0,0,0]
[null,{"$f":"Grunddaten!B27","v":34},{"$f":"Grunddaten!C27","v":"Reserve"},null,0,0,0,0,0,0,0,0,0,0,0,0,0,0,0,0,0,0,0,0,0,0,0,0,0,0,0,0,0,0,0,0,0,0,0,0,0,0,0,0,0,0,0,0,0,0,0,0,0,0,0,0,0,0,0,0,0,0,0,0,0,0,0,0,0,0,0,0,0,0,0,0,0,0,0,0,0,0,0,0,0,0,0,0,0,null,null,{"$f":"Grunddaten!B27","v":34},{"$f":"Grunddaten!C27","v":"Reserve"},null,0,0,0,0,0,0,0,0,0,0,0,0,0,0,0,0,0,0,0,0,0,0,0,0,0,0,0,0,0,0,0,0,0,0,0,0,0,0,0,0,0,0,0,0,0,0,0,0,0,0,0,0,0,0,0,0,0,0,0,0,0,0,0,0,0,0,0,0,0,0,0,0,0,0,0,0,0,0,0,0,0,0,0,0,0,0,0,0,0,0,0,0,0,0,0,0,0,0,0,0]
[null,{"$f":"Grunddaten!B28","v":35},{"$f":"Grunddaten!C28","v":"Reserve"},null,0,0,0,0,0,0,0,0,0,0,0,0,0,0,0,0,0,0,0,0,0,0,0,0,0,0,0,0,0,0,0,0,0,0,0,0,0,0,0,0,0,0,0,0,0,0,0,0,0,0,0,0,0,0,0,0,0,0,0,0,0,0,0,0,0,0,0,0,0,0,0,0,0,0,0,0,0,0,0,0,0,0,0,0,0,null,null,{"$f":"Grunddaten!B28","v":35},{"$f":"Grunddaten!C28","v":"Reserve"},null,0,0,0,0,0,0,0,0,0,0,0,0,0,0,0,0,0,0,0,0,0,0,0,0,0,0,0,0,0,0,0,0,0,0,0,0,0,0,0,0,0,0,0,0,0,0,0,0,0,0,0,0,0,0,0,0,0,0,0,0,0,0,0,0,0,0,0,0,0,0,0,0,0,0,0,0,0,0,0,0,0,0,0,0,0,0,0,0,0,0,0,0,0,0,0,0,0,0,0,0]
[null,{"$f":"Grunddaten!B29","v":36},{"$f":"Grunddaten!C29","v":"Reserve"},null,0,0,0,0,0,0,0,0,0,0,0,0,0,0,0,0,0,0,0,0,0,0,0,0,0,0,0,0,0,0,0,0,0,0,0,0,0,0,0,0,0,0,0,0,0,0,0,0,0,0,0,0,0,0,0,0,0,0,0,0,0,0,0,0,0,0,0,0,0,0,0,0,0,0,0,0,0,0,0,0,0,0,0,0,0,null,null,{"$f":"Grunddaten!B29","v":36},{"$f":"Grunddaten!C29","v":"Reserve"},null,0,0,0,0,0,0,0,0,0,0,0,0,0,0,0,0,0,0,0,0,0,0,0,0,0,0,0,0,0,0,0,0,0,0,0,0,0,0,0,0,0,0,0,0,0,0,0,0,0,0,0,0,0,0,0,0,0,0,0,0,0,0,0,0,0,0,0,0,0,0,0,0,0,0,0,0,0,0,0,0,0,0,0,0,0,0,0,0,0,0,0,0,0,0,0,0,0,0,0,0]
[]
[]
[]
[]
[]
[null,null,null,null,null,null,null,null,null,null,null,null,null,null,null,null,null,null,null,null,null,null,null,null,null,null,null,null,null,null,null,null,null,null,null,null,null,null,null,null,null,null,null,null,null,null,null,null,null,null,null,null,null,null,null,null,null,null,null,null,null,null,null,null,null,null,null,null,null,null,null,null,null,null,null,null,null,null,null,null,null,null,null,null,null,null,null,null,null,null,"Umlageschlüssel Hilfskostenstellen auf Hauptkostenstellen",null,null,null,"Summe der Umlagen","Hauptkostenstellen"]
[null,null,null,null,null,null,null,null,null,null,null,null,null,null,null,null,null,null,null,null,null,null,null,null,null,null,null,null,null,null,null,null,null,null,null,null,null,null,null,null,null,null,null,null,null,null,null,null,null,null,null,null,null,null,null,null,null,null,null,null,null,null,null,null,null,null,null,null,null,null,null,null,null,null,null,null,null,null,null,null,null,null,null,null,null,null,null,null,null,null,null,null,null,null,null,11000,11001,11002,11003,11004,11005,11006,11007,11008,11009,11010,11011,11012,11013,11014,11015,11016,11017,11018,11019,11100,11101,11102,11103,11104,11105,11106,11107,11108,11109,11110,11111,11112,11113,12000,12001,12002,12003,12004,12005,12006,12007,12008,12009,12010,12011,12012,12013,13000,13001,13002,13003,13004,13005,13006,13010,14000,14001,14002,14003,14004,14005,14006,14007,14008,14009,14010,14900,14901,14902,14903,14904,14905,14906,14907,14908,14909,14910,15000,15001,15002,15003,15004,15005,15006,15007,15008,15009,15010,16000,16001,16002,16003,16004,16005,16006,16007,16008,16009,16010,19000]
[null,null,null,null,null,null,null,null,null,null,null,null,null,null,null,null,null,null,null,null,null,null,null,null,null,null,null,null,null,null,null,null,null,null,null,null,null,null,null,null,null,null,null,null,null,null,null,null,null,null,null,null,null,null,null,null,null,null,null,null,null,null,null,null,null,null,null,null,null,null,null,null,null,null,null,null,null,null,null,null,null,null,null,null,null,null,null,null,null,null,null,null,null,"Bemerkungen zur Umlage",null,"Betreutes Wohnen","Reserve","Reserve","Reserve","Reserve","Reserve","Reserve","Reserve","Reserve","Reserve","BW Corona","Reserve Corona","Reserve Corona","Reserve Corona","Reserve Corona","Reserve Corona","Reserve Corona","Reserve Corona","Reserve Corona","Reserve Corona","Betreute Tagesgestaltung ","Reserve","Reserve","Reserve","Reserve","Reserve","Reserve","Reserve","Reserve","Reserve","BT Corona","Reserve Corona","Reserve Corona","Reserve Corona","Begleitete Arbeit","Reserve","Reserve","Reserve","Reserve","Reserve","Reserve","Reserve","Reserve","Reserve","BA Corona","Reserve Corona","Reserve Corona","Reserve Corona ","Produktion","Reserve","Reserve","Reserve","Reserve","Reserve","Reserve","Produktion Corona","Nicht-IFEG Leistungen","Reserve","Reserve","Reserve","Nicht-IFEG Leistungen Corona","Sonder-/ Zusatzbedarf","Reserve","Reserve","Reserve","Reserve","Reserve","Leistungen für andere Auftraggeber","Reserve","Reserve","Reserve","Reserve","KVG-Leistungen","Reserve","Reserve","Reserve","Reserve","Reserve","Nebenbetriebe","Reserve","Reserve","Reserve","Reserve","Reserve","Reserve","Reserve","Reserve","Reserve","Reserve","Trägerschaft","Reserve","Reserve","Reserve","Reserve","Reserve","Reserve","Reserve","Reserve","Reserve","Reserve","Diverses"]
[null,null,null,null,null,null,null,null,null,null,null,null,null,null,null,null,null,null,null,null,null,null,null,null,null,null,null,null,null,null,null,null,null,null,null,null,null,null,null,null,null,null,null,null,null,null,null,null,null,null,null,null,null,null,null,null,null,null,null,null,null,null,null,null,null,null,null,null,null,null,null,null,null,null,null,null,null,null,null,null,null,null,null,null,null,null,null,null,null,null,"Hilfskostenstellen",{"$f":"Grunddaten!B32","v":100},{"$f":"Grunddaten!C32","v":"Leitung & Verwaltung"},null,{"$f":"SUM(CR39:GL39)","v":0},0,0,0,0,0,0,0,0,0,0,0,0,0,0,0,0,0,0,0,0,0,0,0,0,0,0,0,0,0,0,0,0,0,0,0,0,0,0,0,0,0,0,0,0,0,0,0,0,0,0,0,0,0,0,0,0,0,0,0,0,0,0,0,0,0,0,0,0,0,0,0,0,0,0,0,0,0,0,0,0,0,0,0,0,0,0,0,0,0,0,0,0,0,0,0,0,0,0,0,0,0]
[null,null,null,null,null,null,null,null,null,null,null,null,null,null,null,null,null,null,null,null,null,null,null,null,null,null,null,null,null,null,null,null,null,null,null,null,null,null,null,null,null,null,null,null,null,null,null,null,null,null,null,null,null,null,null,null,null,null,null,null,null,null,null,null,null,null,null,null,null,null,null,null,null,null,null,null,null,null,null,null,null,null,null,null,null,null,null,null,null,null,null,{"$f":"Grunddaten!B33","v":101},{"$f":"Grunddaten!C33","v":"Reserve"},null,0,0,0,0,0,0,0,0,0,0,0,0,0,0,0,0,0,0,0,0,0,0,0,0,0,0,0,0,0,0,0,0,0,0,0,0,0,0,0,0,0,0,0,0,0,0,0,0,0,0,0,0,0,0,0,0,0,0,0,0,0,0,0,0,0,0,0,0,0,0,0,0,0,0,0,0,0,0,0,0,0,0,0,0,0,0,0,0,0,0,0,0,0,0,0,0,0,0,0,0,0,0]
[null,null,null,null,null,null,null,null,null,null,null,null,null,null,null,null,null,null,null,null,null,null,null,null,null,null,null,null,null,null,null,null,null,null,null,null,null,null,null,null,null,null,null,null,null,null,null,null,null,null,null,null,null,null,null,null,null,null,null,null,null,null,null,null,null,null,null,null,null,null,null,null,null,null,null,null,null,null,null,null,null,null,null,null,null,null,null,null,null,null,null,{"$f":"Grunddaten!B34","v":102},{"$f":"Grunddaten!C34","v":"Reserve"},null,0,0,0,0,0,0,0,0,0,0,0,0,0,0,0,0,0,0,0,0,0,0,0,0,0,0,0,0,0,0,0,0,0,0,0,0,0,0,0,0,0,0,0,0,0,0,0,0,0,0,0,0,0,0,0,0,0,0,0,0,0,0,0,0,0,0,0,0,0,0,0,0,0,0,0,0,0,0,0,0,0,0,0,0,0,0,0,0,0,0,0,0,0,0,0,0,0,0,0,0,0,0]
[null,null,null,null,null,null,null,null,null,null,null,null,null,null,null,null,null,null,null,null,null,null,null,null,null,null,null,null,null,null,null,null,null,null,null,null,null,null,null,null,null,null,null,null,null,null,null,null,null,null,null,null,null,null,null,null,null,null,null,null,null,null,null,null,null,null,null,null,null,null,null,null,null,null,null,null,null,null,null,null,null,null,null,null,null,null,null,null,null,null,null,{"$f":"Grunddaten!B35","v":103},{"$f":"Grunddaten!C35","v":"Reserve"},null,0,0,0,0,0,0,0,0,0,0,0,0,0,0,0,0,0,0,0,0,0,0,0,0,0,0,0,0,0,0,0,0,0,0,0,0,0,0,0,0,0,0,0,0,0,0,0,0,0,0,0,0,0,0,0,0,0,0,0,0,0,0,0,0,0,0,0,0,0,0,0,0,0,0,0,0,0,0,0,0,0,0,0,0,0,0,0,0,0,0,0,0,0,0,0,0,0,0,0,0,0,0]
[null,null,null,null,null,null,null,null,null,null,null,null,null,null,null,null,null,null,null,null,null,null,null,null,null,null,null,null,null,null,null,null,null,null,null,null,null,null,null,null,null,null,null,null,null,null,null,null,null,null,null,null,null,null,null,null,null,null,null,null,null,null,null,null,null,null,null,null,null,null,null,null,null,null,null,null,null,null,null,null,null,null,null,null,null,null,null,null,null,null,null,{"$f":"Grunddaten!B36","v":104},{"$f":"Grunddaten!C36","v":"Reserve"},null,0,0,0,0,0,0,0,0,0,0,0,0,0,0,0,0,0,0,0,0,0,0,0,0,0,0,0,0,0,0,0,0,0,0,0,0,0,0,0,0,0,0,0,0,0,0,0,0,0,0,0,0,0,0,0,0,0,0,0,0,0,0,0,0,0,0,0,0,0,0,0,0,0,0,0,0,0,0,0,0,0,0,0,0,0,0,0,0,0,0,0,0,0,0,0,0,0,0,0,0,0,0]
[null,null,null,null,null,null,null,null,null,null,null,null,null,null,null,null,null,null,null,null,null,null,null,null,null,null,null,null,null,null,null,null,null,null,null,null,null,null,null,null,null,null,null,null,null,null,null,null,null,null,null,null,null,null,null,null,null,null,null,null,null,null,null,null,null,null,null,null,null,null,null,null,null,null,null,null,null,null,null,null,null,null,null,null,null,null,null,null,null,null,null,{"$f":"Grunddaten!B37","v":105},{"$f":"Grunddaten!C37","v":"Reserve"},null,0,0,0,0,0,0,0,0,0,0,0,0,0,0,0,0,0,0,0,0,0,0,0,0,0,0,0,0,0,0,0,0,0,0,0,0,0,0,0,0,0,0,0,0,0,0,0,0,0,0,0,0,0,0,0,0,0,0,0,0,0,0,0,0,0,0,0,0,0,0,0,0,0,0,0,0,0,0,0,0,0,0,0,0,0,0,0,0,0,0,0,0,0,0,0,0,0,0,0,0,0,0]
[null,null,null,null,null,null,null,null,null,null,null,null,null,null,null,null,null,null,null,null,null,null,null,null,null,null,null,null,null,null,null,null,null,null,null,null,null,null,null,null,null,null,null,null,null,null,null,null,null,null,null,null,null,null,null,null,null,null,null,null,null,null,null,null,null,null,null,null,null,null,null,null,null,null,null,null,null,null,null,null,null,null,null,null,null,null,null,null,null,null,null,{"$f":"Grunddaten!B38","v":106},{"$f":"Grunddaten!C38","v":"Reserve"},null,0,0,0,0,0,0,0,0,0,0,0,0,0,0,0,0,0,0,0,0,0,0,0,0,0,0,0,0,0,0,0,0,0,0,0,0,0,0,0,0,0,0,0,0,0,0,0,0,0,0,0,0,0,0,0,0,0,0,0,0,0,0,0,0,0,0,0,0,0,0,0,0,0,0,0,0,0,0,0,0,0,0,0,0,0,0,0,0,0,0,0,0,0,0,0,0,0,0,0,0,0,0]
[null,null,null,null,null,null,null,null,null,null,null,null,null,null,null,null,null,null,null,null,null,null,null,null,null,null,null,null,null,null,null,null,null,null,null,null,null,null,null,null,null,null,null,null,null,null,null,null,null,null,null,null,null,null,null,null,null,null,null,null,null,null,null,null,null,null,null,null,null,null,null,null,null,null,null,null,null,null,null,null,null,null,null,null,null,null,null,null,null,null,null,{"$f":"Grunddaten!B39","v":200},{"$f":"Grunddaten!C39","v":"Transportdienst"},null,0,0,0,0,0,0,0,0,0,0,0,0,0,0,0,0,0,0,0,0,0,0,0,0,0,0,0,0,0,0,0,0,0,0,0,0,0,0,0,0,0,0,0,0,0,0,0,0,0,0,0,0,0,0,0,0,0,0,0,0,0,0,0,0,0,0,0,0,0,0,0,0,0,0,0,0,0,0,0,0,0,0,0,0,0,0,0,0,0,0,0,0,0,0,0,0,0,0,0,0,0,0]
[null,null,null,null,null,null,null,null,null,null,null,null,null,null,null,null,null,null,null,null,null,null,null,null,null,null,null,null,null,null,null,null,null,null,null,null,null,null,null,null,null,null,null,null,null,null,null,null,null,null,null,null,null,null,null,null,null,null,null,null,null,null,null,null,null,null,null,null,null,null,null,null,null,null,null,null,null,null,null,null,null,null,null,null,null,null,null,null,null,null,null,{"$f":"Grunddaten!B40","v":201},{"$f":"Grunddaten!C40","v":"Reserve"},null,0,0,0,0,0,0,0,0,0,0,0,0,0,0,0,0,0,0,0,0,0,0,0,0,0,0,0,0,0,0,0,0,0,0,0,0,0,0,0,0,0,0,0,0,0,0,0,0,0,0,0,0,0,0,0,0,0,0,0,0,0,0,0,0,0,0,0,0,0,0,0,0,0,0,0,0,0,0,0,0,0,0,0,0,0,0,0,0,0,0,0,0,0,0,0,0,0,0,0,0,0,0]
[null,null,null,null,null,null,null,null,null,null,null,null,null,null,null,null,null,null,null,null,null,null,null,null,null,null,null,null,null,null,null,null,null,null,null,null,null,null,null,null,null,null,null,null,null,null,null,null,null,null,null,null,null,null,null,null,null,null,null,null,null,null,null,null,null,null,null,null,null,null,null,null,null,null,null,null,null,null,null,null,null,null,null,null,null,null,null,null,null,null,null,{"$f":"Grunddaten!B41","v":202},{"$f":"Grunddaten!C41","v":"Reserve"},null,0,0,0,0,0,0,0,0,0,0,0,0,0,0,0,0,0,0,0,0,0,0,0,0,0,0,0,0,0,0,0,0,0,0,0,0,0,0,0,0,0,0,0,0,0,0,0,0,0,0,0,0,0,0,0,0,0,0,0,0,0,0,0,0,0,0,0,0,0,0,0,0,0,0,0,0,0,0,0,0,0,0,0,0,0,0,0,0,0,0,0,0,0,0,0,0,0,0,0,0,0,0]
[null,null,null,null,null,null,null,null,null,null,null,null,null,null,null,null,null,null,null,null,null,null,null,null,null,null,null,null,null,null,null,null,null,null,null,null,null,null,null,null,null,null,null,null,null,null,null,null,null,null,null,null,null,null,null,null,null,null,null,null,null,null,null,null,null,null,null,null,null,null,null,null,null,null,null,null,null,null,null,null,null,null,null,null,null,null,null,null,null,null,null,{"$f":"Grunddaten!B42","v":203},{"$f":"Grunddaten!C42","v":"Reserve"},null,0,0,0,0,0,0,0,0,0,0,0,0,0,0,0,0,0,0,0,0,0,0,0,0,0,0,0,0,0,0,0,0,0,0,0,0,0,0,0,0,0,0,0,0,0,0,0,0,0,0,0,0,0,0,0,0,0,0,0,0,0,0,0,0,0,0,0,0,0,0,0,0,0,0,0,0,0,0,0,0,0,0,0,0,0,0,0,0,0,0,0,0,0,0,0,0,0,0,0,0,0,0]
[null,null,null,null,null,null,null,null,null,null,null,null,null,null,null,null,null,null,null,null,null,null,null,null,null,null,null,null,null,null,null,null,null,null,null,null,null,null,null,null,null,null,null,null,null,null,null,null,null,null,null,null,null,null,null,null,null,null,null,null,null,null,null,null,null,null,null,null,null,null,null,null,null,null,null,null,null,null,null,null,null,null,null,null,null,null,null,null,null,null,null,{"$f":"Grunddaten!B43","v":204},{"$f":"Grunddaten!C43","v":"Reserve"},null,0,0,0,0,0,0,0,0,0,0,0,0,0,0,0,0,0,0,0,0,0,0,0,0,0,0,0,0,0,0,0,0,0,0,0,0,0,0,0,0,0,0,0,0,0,0,0,0,0,0,0,0,0,0,0,0,0,0,0,0,0,0,0,0,0,0,0,0,0,0,0,0,0,0,0,0,0,0,0,0,0,0,0,0,0,0,0,0,0,0,0,0,0,0,0,0,0,0,0,0,0,0]
[null,null,null,null,null,null,null,null,null,null,null,null,null,null,null,null,null,null,null,null,null,null,null,null,null,null,null,null,null,null,null,null,null,null,null,null,null,null,null,null,null,null,null,null,null,null,null,null,null,null,null,null,null,null,null,null,null,null,null,null,null,null,null,null,null,null,null,null,null,null,null,null,null,null,null,null,null,null,null,null,null,null,null,null,null,null,null,null,null,null,null,{"$f":"Grunddaten!B44","v":205},{"$f":"Grunddaten!C44","v":"Reserve"},null,0,0,0,0,0,0,0,0,0,0,0,0,0,0,0,0,0,0,0,0,0,0,0,0,0,0,0,0,0,0,0,0,0,0,0,0,0,0,0,0,0,0,0,0,0,0,0,0,0,0,0,0,0,0,0,0,0,0,0,0,0,0,0,0,0,0,0,0,0,0,0,0,0,0,0,0,0,0,0,0,0,0,0,0,0,0,0,0,0,0,0,0,0,0,0,0,0,0,0,0,0,0]
[null,null,null,null,null,null,null,null,null,null,null,null,null,null,null,null,null,null,null,null,null,null,null,null,null,null,null,null,null,null,null,null,null,null,null,null,null,null,null,null,null,null,null,null,null,null,null,null,null,null,null,null,null,null,null,null,null,null,null,null,null,null,null,null,null,null,null,null,null,null,null,null,null,null,null,null,null,null,null,null,null,null,null,null,null,null,null,null,null,null,null,{"$f":"Grunddaten!B45","v":206},{"$f":"Grunddaten!C45","v":"Reserve"},null,0,0,0,0,0,0,0,0,0,0,0,0,0,0,0,0,0,0,0,0,0,0,0,0,0,0,0,0,0,0,0,0,0,0,0,0,0,0,0,0,0,0,0,0,0,0,0,0,0,0,0,0,0,0,0,0,0,0,0,0,0,0,0,0,0,0,0,0,0,0,0,0,0,0,0,0,0,0,0,0,0,0,0,0,0,0,0,0,0,0,0,0,0,0,0,0,0,0,0,0,0,0]
[null,null,null,null,null,null,null,null,null,null,null,null,null,null,null,null,null,null,null,null,null,null,null,null,null,null,null,null,null,null,null,null,null,null,null,null,null,null,null,null,null,null,null,null,null,null,null,null,null,null,null,null,null,null,null,null,null,null,null,null,null,null,null,null,null,null,null,null,null,null,null,null,null,null,null,null,null,null,null,null,null,null,null,null,null,null,null,null,null,null,null,{"$f":"Grunddaten!B46","v":210},{"$f":"Grunddaten!C46","v":"Transport inkl. Betreuung zu und von TS"},null,0,0,0,0,0,0,0,0,0,0,0,0,0,0,0,0,0,0,0,0,0,0,0,0,0,0,0,0,0,0,0,0,0,0,0,0,0,0,0,0,0,0,0,0,0,0,0,0,0,0,0,0,0,0,0,0,0,0,0,0,0,0,0,0,0,0,0,0,0,0,0,0,0,0,0,0,0,0,0,0,0,0,0,0,0,0,0,0,0,0,0,0,0,0,0,0,0,0,0,0,0,0]
[null,null,null,null,null,null,null,null,null,null,null,null,null,null,null,null,null,null,null,null,null,null,null,null,null,null,null,null,null,null,null,null,null,null,null,null,null,null,null,null,null,null,null,null,null,null,null,null,null,null,null,null,null,null,null,null,null,null,null,null,null,null,null,null,null,null,null,null,null,null,null,null,null,null,null,null,null,null,null,null,null,null,null,null,null,null,null,null,null,null,null,{"$f":"Grunddaten!B47","v":211},{"$f":"Grunddaten!C47","v":"Reserve"},null,0,0,0,0,0,0,0,0,0,0,0,0,0,0,0,0,0,0,0,0,0,0,0,0,0,0,0,0,0,0,0,0,0,0,0,0,0,0,0,0,0,0,0,0,0,0,0,0,0,0,0,0,0,0,0,0,0,0,0,0,0,0,0,0,0,0,0,0,0,0,0,0,0,0,0,0,0,0,0,0,0,0,0,0,0,0,0,0,0,0,0,0,0,0,0,0,0,0,0,0,0,0]
[null,null,null,null,null,null,null,null,null,null,null,null,null,null,null,null,null,null,null,null,null,null,null,null,null,null,null,null,null,null,null,null,null,null,null,null,null,null,null,null,null,null,null,null,null,null,null,null,null,null,null,null,null,null,null,null,null,null,null,null,null,null,null,null,null,null,null,null,null,null,null,null,null,null,null,null,null,null,null,null,null,null,null,null,null,null,null,null,null,null,null,{"$f":"Grunddaten!B48","v":212},{"$f":"Grunddaten!C48","v":"Reserve"},null,0,0,0,0,0,0,0,0,0,0,0,0,0,0,0,0,0,0,0,0,0,0,0,0,0,0,0,0,0,0,0,0,0,0,0,0,0,0,0,0,0,0,0,0,0,0,0,0,0,0,0,0,0,0,0,0,0,0,0,0,0,0,0,0,0,0,0,0,0,0,0,0,0,0,0,0,0,0,0,0,0,0,0,0,0,0,0,0,0,0,0,0,0,0,0,0,0,0,0,0,0,0]
[null,null,null,null,null,null,null,null,null,null,null,null,null,null,null,null,null,null,null,null,null,null,null,null,null,null,null,null,null,null,null,null,null,null,null,null,null,null,null,null,null,null,null,null,null,null,null,null,null,null,null,null,null,null,null,null,null,null,null,null,null,null,null,null,null,null,null,null,null,null,null,null,null,null,null,null,null,null,null,null,null,null,null,null,null,null,null,null,null,null,null,{"$f":"Grunddaten!B49","v":213},{"$f":"Grunddaten!C49","v":"Reserve"},null,0,0,0,0,0,0,0,0,0,0,0,0,0,0,0,0,0,0,0,0,0,0,0,0,0,0,0,0,0,0,0,0,0,0,0,0,0,0,0,0,0,0,0,0,0,0,0,0,0,0,0,0,0,0,0,0,0,0,0,0,0,0,0,0,0,0,0,0,0,0,0,0,0,0,0,0,0,0,0,0,0,0,0,0,0,0,0,0,0,0,0,0,0,0,0,0,0,0,0,0,0,0]
[null,null,null,null,null,null,null,null,null,null,null,null,null,null,null,null,null,null,null,null,null,null,null,null,null,null,null,null,null,null,null,null,null,null,null,null,null,null,null,null,null,null,null,null,null,null,null,null,null,null,null,null,null,null,null,null,null,null,null,null,null,null,null,null,null,null,null,null,null,null,null,null,null,null,null,null,null,null,null,null,null,null,null,null,null,null,null,null,null,null,null,{"$f":"Grunddaten!B50","v":214},{"$f":"Grunddaten!C50","v":"Reserve"},null,0,0,0,0,0,0,0,0,0,0,0,0,0,0,0,0,0,0,0,0,0,0,0,0,0,0,0,0,0,0,0,0,0,0,0,0,0,0,0,0,0,0,0,0,0,0,0,0,0,0,0,0,0,0,0,0,0,0,0,0,0,0,0,0,0,0,0,0,0,0,0,0,0,0,0,0,0,0,0,0,0,0,0,0,0,0,0,0,0,0,0,0,0,0,0,0,0,0,0,0,0,0]
[null,null,null,null,null,null,null,null,null,null,null,null,null,null,null,null,null,null,null,null,null,null,null,null,null,null,null,null,null,null,null,null,null,null,null,null,null,null,null,null,null,null,null,null,null,null,null,null,null,null,null,null,null,null,null,null,null,null,null,null,null,null,null,null,null,null,null,null,null,null,null,null,null,null,null,null,null,null,null,null,null,null,null,null,null,null,null,null,null,null,null,{"$f":"Grunddaten!B51","v":215},{"$f":"Grunddaten!C51","v":"Reserve"},null,0,0,0,0,0,0,0,0,0,0,0,0,0,0,0,0,0,0,0,0,0,0,0,0,0,0,0,0,0,0,0,0,0,0,0,0,0,0,0,0,0,0,0,0,0,0,0,0,0,0,0,0,0,0,0,0,0,0,0,0,0,0,0,0,0,0,0,0,0,0,0,0,0,0,0,0,0,0,0,0,0,0,0,0,0,0,0,0,0,0,0,0,0,0,0,0,0,0,0,0,0,0]
[null,null,null,null,null,null,null,null,null,null,null,null,null,null,null,null,null,null,null,null,null,null,null,null,null,null,null,null,null,null,null,null,null,null,null,null,null,null,null,null,null,null,null,null,null,null,null,null,null,null,null,null,null,null,null,null,null,null,null,null,null,null,null,null,null,null,null,null,null,null,null,null,null,null,null,null,null,null,null,null,null,null,null,null,null,null,null,null,null,null,null,{"$f":"Grunddaten!B52","v":216},{"$f":"Grunddaten!C52","v":"Reserve"},null,0,0,0,0,0,0,0,0,0,0,0,0,0,0,0,0,0,0,0,0,0,0,0,0,0,0,0,0,0,0,0,0,0,0,0,0,0,0,0,0,0,0,0,0,0,0,0,0,0,0,0,0,0,0,0,0,0,0,0,0,0,0,0,0,0,0,0,0,0,0,0,0,0,0,0,0,0,0,0,0,0,0,0,0,0,0,0,0,0,0,0,0,0,0,0,0,0,0,0,0,0,0]
[null,null,null,null,null,null,null,null,null,null,null,null,null,null,null,null,null,null,null,null,null,null,null,null,null,null,null,null,null,null,null,null,null,null,null,null,null,null,null,null,null,null,null,null,null,null,null,null,null,null,null,null,null,null,null,null,null,null,null,null,null,null,null,null,null,null,null,null,null,null,null,null,null,null,null,null,null,null,null,null,null,null,null,null,null,null,null,null,null,null,null,{"$f":"Grunddaten!B53","v":300},{"$f":"Grunddaten!C53","v":"Technischer Dienst / Hauswartung"},null,0,0,0,0,0,0,0,0,0,0,0,0,0,0,0,0,0,0,0,0,0,0,0,0,0,0,0,0,0,0,0,0,0,0,0,0,0,0,0,0,0,0,0,0,0,0,0,0,0,0,0,0,0,0,0,0,0,0,0,0,0,0,0,0,0,0,0,0,0,0,0,0,0,0,0,0,0,0,0,0,0,0,0,0,0,0,0,0,0,0,0,0,0,0,0,0,0,0,0,0,0,0]
[null,null,null,null,null,null,null,null,null,null,null,null,null,null,null,null,null,null,null,null,null,null,null,null,null,null,null,null,null,null,null,null,null,null,null,null,null,null,null,null,null,null,null,null,null,null,null,null,null,null,null,null,null,null,null,null,null,null,null,null,null,null,null,null,null,null,null,null,null,null,null,null,null,null,null,null,null,null,null,null,null,null,null,null,null,null,null,null,null,null,null,{"$f":"Grunddaten!B54","v":301},{"$f":"Grunddaten!C54","v":"Reserve"},null,0,0,0,0,0,0,0,0,0,0,0,0,0,0,0,0,0,0,0,0,0,0,0,0,0,0,0,0,0,0,0,0,0,0,0,0,0,0,0,0,0,0,0,0,0,0,0,0,0,0,0,0,0,0,0,0,0,0,0,0,0,0,0,0,0,0,0,0,0,0,0,0,0,0,0,0,0,0,0,0,0,0,0,0,0,0,0,0,0,0,0,0,0,0,0,0,0,0,0,0,0,0]
[null,null,null,null,null,null,null,null,null,null,null,null,null,null,null,null,null,null,null,null,null,null,null,null,null,null,null,null,null,null,null,null,null,null,null,null,null,null,null,null,null,null,null,null,null,null,null,null,null,null,null,null,null,null,null,null,null,null,null,null,null,null,null,null,null,null,null,null,null,null,null,null,null,null,null,null,null,null,null,null,null,null,null,null,null,null,null,null,null,null,null,{"$f":"Grunddaten!B55","v":302},{"$f":"Grunddaten!C55","v":"Reserve"},null,0,0,0,0,0,0,0,0,0,0,0,0,0,0,0,0,0,0,0,0,0,0,0,0,0,0,0,0,0,0,0,0,0,0,0,0,0,0,0,0,0,0,0,0,0,0,0,0,0,0,0,0,0,0,0,0,0,0,0,0,0,0,0,0,0,0,0,0,0,0,0,0,0,0,0,0,0,0,0,0,0,0,0,0,0,0,0,0,0,0,0,0,0,0,0,0,0,0,0,0,0,0]
[null,null,null,null,null,null,null,null,null,null,null,null,null,null,null,null,null,null,null,null,null,null,null,null,null,null,null,null,null,null,null,null,null,null,null,null,null,null,null,null,null,null,null,null,null,null,null,null,null,null,null,null,null,null,null,null,null,null,null,null,null,null,null,null,null,null,null,null,null,null,null,null,null,null,null,null,null,null,null,null,null,null,null,null,null,null,null,null,null,null,null,{"$f":"Grunddaten!B56","v":303},{"$f":"Grunddaten!C56","v":"Reserve"},null,0,0,0,0,0,0,0,0,0,0,0,0,0,0,0,0,0,0,0,0,0,0,0,0,0,0,0,0,0,0,0,0,0,0,0,0,0,0,0,0,0,0,0,0,0,0,0,0,0,0,0,0,0,0,0,0,0,0,0,0,0,0,0,0,0,0,0,0,0,0,0,0,0,0,0,0,0,0,0,0,0,0,0,0,0,0,0,0,0,0,0,0,0,0,0,0,0,0,0,0,0,0]
[null,null,null,null,null,null,null,null,null,null,null,null,null,null,null,null,null,null,null,null,null,null,null,null,null,null,null,null,null,null,null,null,null,null,null,null,null,null,null,null,null,null,null,null,null,null,null,null,null,null,null,null,null,null,null,null,null,null,null,null,null,null,null,null,null,null,null,null,null,null,null,null,null,null,null,null,null,null,null,null,null,null,null,null,null,null,null,null,null,null,null,{"$f":"Grunddaten!B57","v":304},{"$f":"Grunddaten!C57","v":"Reserve"},null,0,0,0,0,0,0,0,0,0,0,0,0,0,0,0,0,0,0,0,0,0,0,0,0,0,0,0,0,0,0,0,0,0,0,0,0,0,0,0,0,0,0,0,0,0,0,0,0,0,0,0,0,0,0,0,0,0,0,0,0,0,0,0,0,0,0,0,0,0,0,0,0,0,0,0,0,0,0,0,0,0,0,0,0,0,0,0,0,0,0,0,0,0,0,0,0,0,0,0,0,0,0]
[null,null,null,null,null,null,null,null,null,null,null,null,null,null,null,null,null,null,null,null,null,null,null,null,null,null,null,null,null,null,null,null,null,null,null,null,null,null,null,null,null,null,null,null,null,null,null,null,null,null,null,null,null,null,null,null,null,null,null,null,null,null,null,null,null,null,null,null,null,null,null,null,null,null,null,null,null,null,null,null,null,null,null,null,null,null,null,null,null,null,null,{"$f":"Grunddaten!B58","v":305},{"$f":"Grunddaten!C58","v":"Reserve"},null,0,0,0,0,0,0,0,0,0,0,0,0,0,0,0,0,0,0,0,0,0,0,0,0,0,0,0,0,0,0,0,0,0,0,0,0,0,0,0,0,0,0,0,0,0,0,0,0,0,0,0,0,0,0,0,0,0,0,0,0,0,0,0,0,0,0,0,0,0,0,0,0,0,0,0,0,0,0,0,0,0,0,0,0,0,0,0,0,0,0,0,0,0,0,0,0,0,0,0,0,0,0]
[null,null,null,null,null,null,null,null,null,null,null,null,null,null,null,null,null,null,null,null,null,null,null,null,null,null,null,null,null,null,null,null,null,null,null,null,null,null,null,null,null,null,null,null,null,null,null,null,null,null,null,null,null,null,null,null,null,null,null,null,null,null,null,null,null,null,null,null,null,null,null,null,null,null,null,null,null,null,null,null,null,null,null,null,null,null,null,null,null,null,null,{"$f":"Grunddaten!B59","v":306},{"$f":"Grunddaten!C59","v":"Reserve"},null,0,0,0,0,0,0,0,0,0,0,0,0,0,0,0,0,0,0,0,0,0,0,0,0,0,0,0,0,0,0,0,0,0,0,0,0,0,0,0,0,0,0,0,0,0,0,0,0,0,0,0,0,0,0,0,0,0,0,0,0,0,0,0,0,0,0,0,0,0,0,0,0,0,0,0,0,0,0,0,0,0,0,0,0,0,0,0,0,0,0,0,0,0,0,0,0,0,0,0,0,0,0]
[null,null,null,null,null,null,null,null,null,null,null,null,null,null,null,null,null,null,null,null,null,null,null,null,null,null,null,null,null,null,null,null,null,null,null,null,null,null,null,null,null,null,null,null,null,null,null,null,null,null,null,null,null,null,null,null,null,null,null,null,null,null,null,null,null,null,null,null,null,null,null,null,null,null,null,null,null,null,null,null,null,null,null,null,null,null,null,null,null,null,null,{"$f":"Grunddaten!B60","v":400},{"$f":"Grunddaten!C60","v":"Reinigung / Haushalt"},null,0,0,0,0,0,0,0,0,0,0,0,0,0,0,0,0,0,0,0,0,0,0,0,0,0,0,0,0,0,0,0,0,0,0,0,0,0,0,0,0,0,0,0,0,0,0,0,0,0,0,0,0,0,0,0,0,0,0,0,0,0,0,0,0,0,0,0,0,0,0,0,0,0,0,0,0,0,0,0,0,0,0,0,0,0,0,0,0,0,0,0,0,0,0,0,0,0,0,0,0,0,0]
[null,null,null,null,null,null,null,null,null,null,null,null,null,null,null,null,null,null,null,null,null,null,null,null,null,null,null,null,null,null,null,null,null,null,null,null,null,null,null,null,null,null,null,null,null,null,null,null,null,null,null,null,null,null,null,null,null,null,null,null,null,null,null,null,null,null,null,null,null,null,null,null,null,null,null,null,null,null,null,null,null,null,null,null,null,null,null,null,null,null,null,{"$f":"Grunddaten!B61","v":401},{"$f":"Grunddaten!C61","v":"Reserve"},null,0,0,0,0,0,0,0,0,0,0,0,0,0,0,0,0,0,0,0,0,0,0,0,0,0,0,0,0,0,0,0,0,0,0,0,0,0,0,0,0,0,0,0,0,0,0,0,0,0,0,0,0,0,0,0,0,0,0,0,0,0,0,0,0,0,0,0,0,0,0,0,0,0,0,0,0,0,0,0,0,0,0,0,0,0,0,0,0,0,0,0,0,0,0,0,0,0,0,0,0,0,0]
[null,null,null,null,null,null,null,null,null,null,null,null,null,null,null,null,null,null,null,null,null,null,null,null,null,null,null,null,null,null,null,null,null,null,null,null,null,null,null,null,null,null,null,null,null,null,null,null,null,null,null,null,null,null,null,null,null,null,null,null,null,null,null,null,null,null,null,null,null,null,null,null,null,null,null,null,null,null,null,null,null,null,null,null,null,null,null,null,null,null,null,{"$f":"Grunddaten!B62","v":402},{"$f":"Grunddaten!C62","v":"Reserve"},null,0,0,0,0,0,0,0,0,0,0,0,0,0,0,0,0,0,0,0,0,0,0,0,0,0,0,0,0,0,0,0,0,0,0,0,0,0,0,0,0,0,0,0,0,0,0,0,0,0,0,0,0,0,0,0,0,0,0,0,0,0,0,0,0,0,0,0,0,0,0,0,0,0,0,0,0,0,0,0,0,0,0,0,0,0,0,0,0,0,0,0,0,0,0,0,0,0,0,0,0,0,0]
[null,null,null,null,null,null,null,null,null,null,null,null,null,null,null,null,null,null,null,null,null,null,null,null,null,null,null,null,null,null,null,null,null,null,null,null,null,null,null,null,null,null,null,null,null,null,null,null,null,null,null,null,null,null,null,null,null,null,null,null,null,null,null,null,null,null,null,null,null,null,null,null,null,null,null,null,null,null,null,null,null,null,null,null,null,null,null,null,null,null,null,{"$f":"Grunddaten!B63","v":403},{"$f":"Grunddaten!C63","v":"Reserve"},null,0,0,0,0,0,0,0,0,0,0,0,0,0,0,0,0,0,0,0,0,0,0,0,0,0,0,0,0,0,0,0,0,0,0,0,0,0,0,0,0,0,0,0,0,0,0,0,0,0,0,0,0,0,0,0,0,0,0,0,0,0,0,0,0,0,0,0,0,0,0,0,0,0,0,0,0,0,0,0,0,0,0,0,0,0,0,0,0,0,0,0,0,0,0,0,0,0,0,0,0,0,0]
[null,null,null,null,null,null,null,null,null,null,null,null,null,null,null,null,null,null,null,null,null,null,null,null,null,null,null,null,null,null,null,null,null,null,null,null,null,null,null,null,null,null,null,null,null,null,null,null,null,null,null,null,null,null,null,null,null,null,null,null,null,null,null,null,null,null,null,null,null,null,null,null,null,null,null,null,null,null,null,null,null,null,null,null,null,null,null,null,null,null,null,{"$f":"Grunddaten!B64","v":404},{"$f":"Grunddaten!C64","v":"Reserve"},null,{"$f":"SUM(CR71:GL71)","v":0},0,0,0,0,0,0,0,0,0,0,0,0,0,0,0,0,0,0,0,0,0,0,0,0,0,0,0,0,0,0,0,0,0,0,0,0,0,0,0,0,0,0,0,0,0,0,0,0,0,0,0,0,0,0,0,0,0,0,0,0,0,0,0,0,0,0,0,0,0,0,0,0,0,0,0,0,0,0,0,0,0,0,0,0,0,0,0,0,0,0,0,0,0,0,0,0,0,0,0,0,0]
[null,null,null,null,null,null,null,null,null,null,null,null,null,null,null,null,null,null,null,null,null,null,null,null,null,null,null,null,null,null,null,null,null,null,null,null,null,null,null,null,null,null,null,null,null,null,null,null,null,null,null,null,null,null,null,null,null,null,null,null,null,null,null,null,null,null,null,null,null,null,null,null,null,null,null,null,null,null,null,null,null,null,null,null,null,null,null,null,null,null,null,{"$f":"Grunddaten!B65","v":405},{"$f":"Grunddaten!C65","v":"Reserve"},null,0,0,0,0,0,0,0,0,0,0,0,0,0,0,0,0,0,0,0,0,0,0,0,0,0,0,0,0,0,0,0,0,0,0,0,0,0,0,0,0,0,0,0,0,0,0,0,0,0,0,0,0,0,0,0,0,0,0,0,0,0,0,0,0,0,0,0,0,0,0,0,0,0,0,0,0,0,0,0,0,0,0,0,0,0,0,0,0,0,0,0,0,0,0,0,0,0,0,0,0,0,0]
[null,null,null,null,null,null,null,null,null,null,null,null,null,null,null,null,null,null,null,null,null,null,null,null,null,null,null,null,null,null,null,null,null,null,null,null,null,null,null,null,null,null,null,null,null,null,null,null,null,null,null,null,null,null,null,null,null,null,null,null,null,null,null,null,null,null,null,null,null,null,null,null,null,null,null,null,null,null,null,null,null,null,null,null,null,null,null,null,null,null,null,{"$f":"Grunddaten!B66","v":406},{"$f":"Grunddaten!C66","v":"Reserve"},null,0,0,0,0,0,0,0,0,0,0,0,0,0,0,0,0,0,0,0,0,0,0,0,0,0,0,0,0,0,0,0,0,0,0,0,0,0,0,0,0,0,0,0,0,0,0,0,0,0,0,0,0,0,0,0,0,0,0,0,0,0,0,0,0,0,0,0,0,0,0,0,0,0,0,0,0,0,0,0,0,0,0,0,0,0,0,0,0,0,0,0,0,0,0,0,0,0,0,0,0,0,0]
[null,null,null,null,null,null,null,null,null,null,null,null,null,null,null,null,null,null,null,null,null,null,null,null,null,null,null,null,null,null,null,null,null,null,null,null,null,null,null,null,null,null,null,null,null,null,null,null,null,null,null,null,null,null,null,null,null,null,null,null,null,null,null,null,null,null,null,null,null,null,null,null,null,null,null,null,null,null,null,null,null,null,null,null,null,null,null,null,null,null,null,{"$f":"Grunddaten!B67","v":500},{"$f":"Grunddaten!C67","v":"Wäscherei"},null,0,0,0,0,0,0,0,0,0,0,0,0,0,0,0,0,0,0,0,0,0,0,0,0,0,0,0,0,0,0,0,0,0,0,0,0,0,0,0,0,0,0,0,0,0,0,0,0,0,0,0,0,0,0,0,0,0,0,0,0,0,0,0,0,0,0,0,0,0,0,0,0,0,0,0,0,0,0,0,0,0,0,0,0,0,0,0,0,0,0,0,0,0,0,0,0,0,0,0,0,0,0]
[null,null,null,null,null,null,null,null,null,null,null,null,null,null,null,null,null,null,null,null,null,null,null,null,null,null,null,null,null,null,null,null,null,null,null,null,null,null,null,null,null,null,null,null,null,null,null,null,null,null,null,null,null,null,null,null,null,null,null,null,null,null,null,null,null,null,null,null,null,null,null,null,null,null,null,null,null,null,null,null,null,null,null,null,null,null,null,null,null,null,null,{"$f":"Grunddaten!B68","v":501},{"$f":"Grunddaten!C68","v":"Reserve"},null,0,0,0,0,0,0,0,0,0,0,0,0,0,0,0,0,0,0,0,0,0,0,0,0,0,0,0,0,0,0,0,0,0,0,0,0,0,0,0,0,0,0,0,0,0,0,0,0,0,0,0,0,0,0,0,0,0,0,0,0,0,0,0,0,0,0,0,0,0,0,0,0,0,0,0,0,0,0,0,0,0,0,0,0,0,0,0,0,0,0,0,0,0,0,0,0,0,0,0,0,0,0]
[null,null,null,null,null,null,null,null,null,null,null,null,null,null,null,null,null,null,null,null,null,null,null,null,null,null,null,null,null,null,null,null,null,null,null,null,null,null,null,null,null,null,null,null,null,null,null,null,null,null,null,null,null,null,null,null,null,null,null,null,null,null,null,null,null,null,null,null,null,null,null,null,null,null,null,null,null,null,null,null,null,null,null,null,null,null,null,null,null,null,null,{"$f":"Grunddaten!B69","v":502},{"$f":"Grunddaten!C69","v":"Reserve"},null,0,0,0,0,0,0,0,0,0,0,0,0,0,0,0,0,0,0,0,0,0,0,0,0,0,0,0,0,0,0,0,0,0,0,0,0,0,0,0,0,0,0,0,0,0,0,0,0,0,0,0,0,0,0,0,0,0,0,0,0,0,0,0,0,0,0,0,0,0,0,0,0,0,0,0,0,0,0,0,0,0,0,0,0,0,0,0,0,0,0,0,0,0,0,0,0,0,0,0,0,0,0]
[null,null,null,null,null,null,null,null,null,null,null,null,null,null,null,null,null,null,null,null,null,null,null,null,null,null,null,null,null,null,null,null,null,null,null,null,null,null,null,null,null,null,null,null,null,null,null,null,null,null,null,null,null,null,null,null,null,null,null,null,null,null,null,null,null,null,null,null,null,null,null,null,null,null,null,null,null,null,null,null,null,null,null,null,null,null,null,null,null,null,null,{"$f":"Grunddaten!B70","v":503},{"$f":"Grunddaten!C70","v":"Reserve"},null,0,0,0,0,0,0,0,0,0,0,0,0,0,0,0,0,0,0,0,0,0,0,0,0,0,0,0,0,0,0,0,0,0,0,0,0,0,0,0,0,0,0,0,0,0,0,0,0,0,0,0,0,0,0,0,0,0,0,0,0,0,0,0,0,0,0,0,0,0,0,0,0,0,0,0,0,0,0,0,0,0,0,0,0,0,0,0,0,0,0,0,0,0,0,0,0,0,0,0,0,0,0]
[null,null,null,null,null,null,null,null,null,null,null,null,null,null,null,null,null,null,null,null,null,null,null,null,null,null,null,null,null,null,null,null,null,null,null,null,null,null,null,null,null,null,null,null,null,null,null,null,null,null,null,null,null,null,null,null,null,null,null,null,null,null,null,null,null,null,null,null,null,null,null,null,null,null,null,null,null,null,null,null,null,null,null,null,null,null,null,null,null,null,null,{"$f":"Grunddaten!B71","v":504},{"$f":"Grunddaten!C71","v":"Reserve"},null,0,0,0,0,0,0,0,0,0,0,0,0,0,0,0,0,0,0,0,0,0,0,0,0,0,0,0,0,0,0,0,0,0,0,0,0,0,0,0,0,0,0,0,0,0,0,0,0,0,0,0,0,0,0,0,0,0,0,0,0,0,0,0,0,0,0,0,0,0,0,0,0,0,0,0,0,0,0,0,0,0,0,0,0,0,0,0,0,0,0,0,0,0,0,0,0,0,0,0,0,0,0]
[null,null,null,null,null,null,null,null,null,null,null,null,null,null,null,null,null,null,null,null,null,null,null,null,null,null,null,null,null,null,null,null,null,null,null,null,null,null,null,null,null,null,null,null,null,null,null,null,null,null,null,null,null,null,null,null,null,null,null,null,null,null,null,null,null,null,null,null,null,null,null,null,null,null,null,null,null,null,null,null,null,null,null,null,null,null,null,null,null,null,null,{"$f":"Grunddaten!B72","v":505},{"$f":"Grunddaten!C72","v":"Reserve"},null,0,0,0,0,0,0,0,0,0,0,0,0,0,0,0,0,0,0,0,0,0,0,0,0,0,0,0,0,0,0,0,0,0,0,0,0,0,0,0,0,0,0,0,0,0,0,0,0,0,0,0,0,0,0,0,0,0,0,0,0,0,0,0,0,0,0,0,0,0,0,0,0,0,0,0,0,0,0,0,0,0,0,0,0,0,0,0,0,0,0,0,0,0,0,0,0,0,0,0,0,0,0]
[null,null,null,null,null,null,null,null,null,null,null,null,null,null,null,null,null,null,null,null,null,null,null,null,null,null,null,null,null,null,null,null,null,null,null,null,null,null,null,null,null,null,null,null,null,null,null,null,null,null,null,null,null,null,null,null,null,null,null,null,null,null,null,null,null,null,null,null,null,null,null,null,null,null,null,null,null,null,null,null,null,null,null,null,null,null,null,null,null,null,null,{"$f":"Grunddaten!B73","v":506},{"$f":"Grunddaten!C73","v":"Reserve"},null,0,0,0,0,0,0,0,0,0,0,0,0,0,0,0,0,0,0,0,0,0,0,0,0,0,0,0,0,0,0,0,0,0,0,0,0,0,0,0,0,0,0,0,0,0,0,0,0,0,0,0,0,0,0,0,0,0,0,0,0,0,0,0,0,0,0,0,0,0,0,0,0,0,0,0,0,0,0,0,0,0,0,0,0,0,0,0,0,0,0,0,0,0,0,0,0,0,0,0,0,0,0]
[null,null,null,null,null,null,null,null,null,null,null,null,null,null,null,null,null,null,null,null,null,null,null,null,null,null,null,null,null,null,null,null,null,null,null,null,null,null,null,null,null,null,null,null,null,null,null,null,null,null,null,null,null,null,null,null,null,null,null,null,null,null,null,null,null,null,null,null,null,null,null,null,null,null,null,null,null,null,null,null,null,null,null,null,null,null,null,null,null,null,null,{"$f":"Grunddaten!B74","v":600},{"$f":"Grunddaten!C74","v":"Verpflegung"},null,0,0,0,0,0,0,0,0,0,0,0,0,0,0,0,0,0,0,0,0,0,0,0,0,0,0,0,0,0,0,0,0,0,0,0,0,0,0,0,0,0,0,0,0,0,0,0,0,0,0,0,0,0,0,0,0,0,0,0,0,0,0,0,0,0,0,0,0,0,0,0,0,0,0,0,0,0,0,0,0,0,0,0,0,0,0,0,0,0,0,0,0,0,0,0,0,0,0,0,0,0,0]
[null,null,null,null,null,null,null,null,null,null,null,null,null,null,null,null,null,null,null,null,null,null,null,null,null,null,null,null,null,null,null,null,null,null,null,null,null,null,null,null,null,null,null,null,null,null,null,null,null,null,null,null,null,null,null,null,null,null,null,null,null,null,null,null,null,null,null,null,null,null,null,null,null,null,null,null,null,null,null,null,null,null,null,null,null,null,null,null,null,null,null,{"$f":"Grunddaten!B75","v":601},{"$f":"Grunddaten!C75","v":"Reserve"},null,0,0,0,0,0,0,0,0,0,0,0,0,0,0,0,0,0,0,0,0,0,0,0,0,0,0,0,0,0,0,0,0,0,0,0,0,0,0,0,0,0,0,0,0,0,0,0,0,0,0,0,0,0,0,0,0,0,0,0,0,0,0,0,0,0,0,0,0,0,0,0,0,0,0,0,0,0,0,0,0,0,0,0,0,0,0,0,0,0,0,0,0,0,0,0,0,0,0,0,0,0,0]
[null,null,null,null,null,null,null,null,null,null,null,null,null,null,null,null,null,null,null,null,null,null,null,null,null,null,null,null,null,null,null,null,null,null,null,null,null,null,null,null,null,null,null,null,null,null,null,null,null,null,null,null,null,null,null,null,null,null,null,null,null,null,null,null,null,null,null,null,null,null,null,null,null,null,null,null,null,null,null,null,null,null,null,null,null,null,null,null,null,null,null,{"$f":"Grunddaten!B76","v":602},{"$f":"Grunddaten!C76","v":"Reserve"},null,0,0,0,0,0,0,0,0,0,0,0,0,0,0,0,0,0,0,0,0,0,0,0,0,0,0,0,0,0,0,0,0,0,0,0,0,0,0,0,0,0,0,0,0,0,0,0,0,0,0,0,0,0,0,0,0,0,0,0,0,0,0,0,0,0,0,0,0,0,0,0,0,0,0,0,0,0,0,0,0,0,0,0,0,0,0,0,0,0,0,0,0,0,0,0,0,0,0,0,0,0,0]
[null,null,null,null,null,null,null,null,null,null,null,null,null,null,null,null,null,null,null,null,null,null,null,null,null,null,null,null,null,null,null,null,null,null,null,null,null,null,null,null,null,null,null,null,null,null,null,null,null,null,null,null,null,null,null,null,null,null,null,null,null,null,null,null,null,null,null,null,null,null,null,null,null,null,null,null,null,null,null,null,null,null,null,null,null,null,null,null,null,null,null,{"$f":"Grunddaten!B77","v":603},{"$f":"Grunddaten!C77","v":"Reserve"},null,0,0,0,0,0,0,0,0,0,0,0,0,0,0,0,0,0,0,0,0,0,0,0,0,0,0,0,0,0,0,0,0,0,0,0,0,0,0,0,0,0,0,0,0,0,0,0,0,0,0,0,0,0,0,0,0,0,0,0,0,0,0,0,0,0,0,0,0,0,0,0,0,0,0,0,0,0,0,0,0,0,0,0,0,0,0,0,0,0,0,0,0,0,0,0,0,0,0,0,0,0,0]
[null,null,null,null,null,null,null,null,null,null,null,null,null,null,null,null,null,null,null,null,null,null,null,null,null,null,null,null,null,null,null,null,null,null,null,null,null,null,null,null,null,null,null,null,null,null,null,null,null,null,null,null,null,null,null,null,null,null,null,null,null,null,null,null,null,null,null,null,null,null,null,null,null,null,null,null,null,null,null,null,null,null,null,null,null,null,null,null,null,null,null,{"$f":"Grunddaten!B78","v":604},{"$f":"Grunddaten!C78","v":"Reserve"},null,0,0,0,0,0,0,0,0,0,0,0,0,0,0,0,0,0,0,0,0,0,0,0,0,0,0,0,0,0,0,0,0,0,0,0,0,0,0,0,0,0,0,0,0,0,0,0,0,0,0,0,0,0,0,0,0,0,0,0,0,0,0,0,0,0,0,0,0,0,0,0,0,0,0,0,0,0,0,0,0,0,0,0,0,0,0,0,0,0,0,0,0,0,0,0,0,0,0,0,0,0,0]
[null,null,null,null,null,null,null,null,null,null,null,null,null,null,null,null,null,null,null,null,null,null,null,null,null,null,null,null,null,null,null,null,null,null,null,null,null,null,null,null,null,null,null,null,null,null,null,null,null,null,null,null,null,null,null,null,null,null,null,null,null,null,null,null,null,null,null,null,null,null,null,null,null,null,null,null,null,null,null,null,null,null,null,null,null,null,null,null,null,null,null,{"$f":"Grunddaten!B79","v":605},{"$f":"Grunddaten!C79","v":"Reserve"},null,0,0,0,0,0,0,0,0,0,0,0,0,0,0,0,0,0,0,0,0,0,0,0,0,0,0,0,0,0,0,0,0,0,0,0,0,0,0,0,0,0,0,0,0,0,0,0,0,0,0,0,0,0,0,0,0,0,0,0,0,0,0,0,0,0,0,0,0,0,0,0,0,0,0,0,0,0,0,0,0,0,0,0,0,0,0,0,0,0,0,0,0,0,0,0,0,0,0,0,0,0,0]
[null,null,null,null,null,null,null,null,null,null,null,null,null,null,null,null,null,null,null,null,null,null,null,null,null,null,null,null,null,null,null,null,null,null,null,null,null,null,null,null,null,null,null,null,null,null,null,null,null,null,null,null,null,null,null,null,null,null,null,null,null,null,null,null,null,null,null,null,null,null,null,null,null,null,null,null,null,null,null,null,null,null,null,null,null,null,null,null,null,null,null,{"$f":"Grunddaten!B80","v":606},{"$f":"Grunddaten!C80","v":"Reserve"},null,0,0,0,0,0,0,0,0,0,0,0,0,0,0,0,0,0,0,0,0,0,0,0,0,0,0,0,0,0,0,0,0,0,0,0,0,0,0,0,0,0,0,0,0,0,0,0,0,0,0,0,0,0,0,0,0,0,0,0,0,0,0,0,0,0,0,0,0,0,0,0,0,0,0,0,0,0,0,0,0,0,0,0,0,0,0,0,0,0,0,0,0,0,0,0,0,0,0,0,0,0,0]
[null,null,null,null,null,null,null,null,null,null,null,null,null,null,null,null,null,null,null,null,null,null,null,null,null,null,null,null,null,null,null,null,null,null,null,null,null,null,null,null,null,null,null,null,null,null,null,null,null,null,null,null,null,null,null,null,null,null,null,null,null,null,null,null,null,null,null,null,null,null,null,null,null,null,null,null,null,null,null,null,null,null,null,null,null,null,null,null,null,null,null,{"$f":"Grunddaten!B81","v":610},{"$f":"Grunddaten!C81","v":"Betreuung und Verpflegung über Mittag (nur TS)"},null,0,0,0,0,0,0,0,0,0,0,0,0,0,0,0,0,0,0,0,0,0,0,0,0,0,0,0,0,0,0,0,0,0,0,0,0,0,0,0,0,0,0,0,0,0,0,0,0,0,0,0,0,0,0,0,0,0,0,0,0,0,0,0,0,0,0,0,0,0,0,0,0,0,0,0,0,0,0,0,0,0,0,0,0,0,0,0,0,0,0,0,0,0,0,0,0,0,0,0,0,0,0]
[null,null,null,null,null,null,null,null,null,null,null,null,null,null,null,null,null,null,null,null,null,null,null,null,null,null,null,null,null,null,null,null,null,null,null,null,null,null,null,null,null,null,null,null,null,null,null,null,null,null,null,null,null,null,null,null,null,null,null,null,null,null,null,null,null,null,null,null,null,null,null,null,null,null,null,null,null,null,null,null,null,null,null,null,null,null,null,null,null,null,null,{"$f":"Grunddaten!B82","v":611},{"$f":"Grunddaten!C82","v":"Reserve"},null,0,0,0,0,0,0,0,0,0,0,0,0,0,0,0,0,0,0,0,0,0,0,0,0,0,0,0,0,0,0,0,0,0,0,0,0,0,0,0,0,0,0,0,0,0,0,0,0,0,0,0,0,0,0,0,0,0,0,0,0,0,0,0,0,0,0,0,0,0,0,0,0,0,0,0,0,0,0,0,0,0,0,0,0,0,0,0,0,0,0,0,0,0,0,0,0,0,0,0,0]
[null,null,null,null,null,null,null,null,null,null,null,null,null,null,null,null,null,null,null,null,null,null,null,null,null,null,null,null,null,null,null,null,null,null,null,null,null,null,null,null,null,null,null,null,null,null,null,null,null,null,null,null,null,null,null,null,null,null,null,null,null,null,null,null,null,null,null,null,null,null,null,null,null,null,null,null,null,null,null,null,null,null,null,null,null,null,null,null,null,null,null,{"$f":"Grunddaten!B83","v":612},{"$f":"Grunddaten!C83","v":"Reserve"},null,0,0,0,0,0,0,0,0,0,0,0,0,0,0,0,0,0,0,0,0,0,0,0,0,0,0,0,0,0,0,0,0,0,0,0,0,0,0,0,0,0,0,0,0,0,0,0,0,0,0,0,0,0,0,0,0,0,0,0,0,0,0,0,0,0,0,0,0,0,0,0,0,0,0,0,0,0,0,0,0,0,0,0,0,0,0,0,0,0,0,0,0,0,0,0,0,0,0,0,0]
[null,null,null,null,null,null,null,null,null,null,null,null,null,null,null,null,null,null,null,null,null,null,null,null,null,null,null,null,null,null,null,null,null,null,null,null,null,null,null,null,null,null,null,null,null,null,null,null,null,null,null,null,null,null,null,null,null,null,null,null,null,null,null,null,null,null,null,null,null,null,null,null,null,null,null,null,null,null,null,null,null,null,null,null,null,null,null,null,null,null,null,{"$f":"Grunddaten!B84","v":613},{"$f":"Grunddaten!C84","v":"Reserve"},null,0,0,0,0,0,0,0,0,0,0,0,0,0,0,0,0,0,0,0,0,0,0,0,0,0,0,0,0,0,0,0,0,0,0,0,0,0,0,0,0,0,0,0,0,0,0,0,0,0,0,0,0,0,0,0,0,0,0,0,0,0,0,0,0,0,0,0,0,0,0,0,0,0,0,0,0,0,0,0,0,0,0,0,0,0,0,0,0,0,0,0,0,0,0,0,0,0,0,0,0]
[null,null,null,null,null,null,null,null,null,null,null,null,null,null,null,null,null,null,null,null,null,null,null,null,null,null,null,null,null,null,null,null,null,null,null,null,null,null,null,null,null,null,null,null,null,null,null,null,null,null,null,null,null,null,null,null,null,null,null,null,null,null,null,null,null,null,null,null,null,null,null,null,null,null,null,null,null,null,null,null,null,null,null,null,null,null,null,null,null,null,null,{"$f":"Grunddaten!B85","v":614},{"$f":"Grunddaten!C85","v":"Reserve"},null,0,0,0,0,0,0,0,0,0,0,0,0,0,0,0,0,0,0,0,0,0,0,0,0,0,0,0,0,0,0,0,0,0,0,0,0,0,0,0,0,0,0,0,0,0,0,0,0,0,0,0,0,0,0,0,0,0,0,0,0,0,0,0,0,0,0,0,0,0,0,0,0,0,0,0,0,0,0,0,0,0,0,0,0,0,0,0,0,0,0,0,0,0,0,0,0,0,0,0,0]
[null,null,null,null,null,null,null,null,null,null,null,null,null,null,null,null,null,null,null,null,null,null,null,null,null,null,null,null,null,null,null,null,null,null,null,null,null,null,null,null,null,null,null,null,null,null,null,null,null,null,null,null,null,null,null,null,null,null,null,null,null,null,null,null,null,null,null,null,null,null,null,null,null,null,null,null,null,null,null,null,null,null,null,null,null,null,null,null,null,null,null,{"$f":"Grunddaten!B86","v":615},{"$f":"Grunddaten!C86","v":"Reserve"},null,0,0,0,0,0,0,0,0,0,0,0,0,0,0,0,0,0,0,0,0,0,0,0,0,0,0,0,0,0,0,0,0,0,0,0,0,0,0,0,0,0,0,0,0,0,0,0,0,0,0,0,0,0,0,0,0,0,0,0,0,0,0,0,0,0,0,0,0,0,0,0,0,0,0,0,0,0,0,0,0,0,0,0,0,0,0,0,0,0,0,0,0,0,0,0,0,0,0,0,0]
[null,null,null,null,null,null,null,null,null,null,null,null,null,null,null,null,null,null,null,null,null,null,null,null,null,null,null,null,null,null,null,null,null,null,null,null,null,null,null,null,null,null,null,null,null,null,null,null,null,null,null,null,null,null,null,null,null,null,null,null,null,null,null,null,null,null,null,null,null,null,null,null,null,null,null,null,null,null,null,null,null,null,null,null,null,null,null,null,null,null,null,{"$f":"Grunddaten!B87","v":616},{"$f":"Grunddaten!C87","v":"Reserve"},null,0,0,0,0,0,0,0,0,0,0,0,0,0,0,0,0,0,0,0,0,0,0,0,0,0,0,0,0,0,0,0,0,0,0,0,0,0,0,0,0,0,0,0,0,0,0,0,0,0,0,0,0,0,0,0,0,0,0,0,0,0,0,0,0,0,0,0,0,0,0,0,0,0,0,0,0,0,0,0,0,0,0,0,0,0,0,0,0,0,0,0,0,0,0,0,0,0,0,0,0]
[null,null,null,null,null,null,null,null,null,null,null,null,null,null,null,null,null,null,null,null,null,null,null,null,null,null,null,null,null,null,null,null,null,null,null,null,null,null,null,null,null,null,null,null,null,null,null,null,null,null,null,null,null,null,null,null,null,null,null,null,null,null,null,null,null,null,null,null,null,null,null,null,null,null,null,null,null,null,null,null,null,null,null,null,null,null,null,null,null,null,null,{"$f":"Grunddaten!B88","v":700},{"$f":"Grunddaten!C88","v":"Med.-therap. Massnah."},null,0,0,0,0,0,0,0,0,0,0,0,0,0,0,0,0,0,0,0,0,0,0,0,0,0,0,0,0,0,0,0,0,0,0,0,0,0,0,0,0,0,0,0,0,0,0,0,0,0,0,0,0,0,0,0,0,0,0,0,0,0,0,0,0,0,0,0,0,0,0,0,0,0,0,0,0,0,0,0,0,0,0,0,0,0,0,0,0,0,0,0,0,0,0,0,0,0,0,0,0,null,0]
[null,null,null,null,null,null,null,null,null,null,null,null,null,null,null,null,null,null,null,null,null,null,null,null,null,null,null,null,null,null,null,null,null,null,null,null,null,null,null,null,null,null,null,null,null,null,null,null,null,null,null,null,null,null,null,null,null,null,null,null,null,null,null,null,null,null,null,null,null,null,null,null,null,null,null,null,null,null,null,null,null,null,null,null,null,null,null,null,null,null,null,{"$f":"Grunddaten!B89","v":701},{"$f":"Grunddaten!C89","v":"Reserve"},null,0,0,0,0,0,0,0,0,0,0,0,0,0,0,0,0,0,0,0,0,0,0,0,0,0,0,0,0,0,0,0,0,0,0,0,0,0,0,0,0,0,0,0,0,0,0,0,0,0,0,0,0,0,0,0,0,0,0,0,0,0,0,0,0,0,0,0,0,0,0,0,0,0,0,0,0,0,0,0,0,0,0,0,0,0,0,0,0,0,0,0,0,0,0,0,0,0,0,0,0,null,0]
[null,null,null,null,null,null,null,null,null,null,null,null,null,null,null,null,null,null,null,null,null,null,null,null,null,null,null,null,null,null,null,null,null,null,null,null,null,null,null,null,null,null,null,null,null,null,null,null,null,null,null,null,null,null,null,null,null,null,null,null,null,null,null,null,null,null,null,null,null,null,null,null,null,null,null,null,null,null,null,null,null,null,null,null,null,null,null,null,null,null,null,{"$f":"Grunddaten!B90","v":702},{"$f":"Grunddaten!C90","v":"Reserve"},null,0,0,0,0,0,0,0,0,0,0,0,0,0,0,0,0,0,0,0,0,0,0,0,0,0,0,0,0,0,0,0,0,0,0,0,0,0,0,0,0,0,0,0,0,0,0,0,0,0,0,0,0,0,0,0,0,0,0,0,0,0,0,0,0,0,0,0,0,0,0,0,0,0,0,0,0,0,0,0,0,0,0,0,0,0,0,0,0,0,0,0,0,0,0,0,0,0,0,0,0,null,0]
[null,null,null,null,null,null,null,null,null,null,null,null,null,null,null,null,null,null,null,null,null,null,null,null,null,null,null,null,null,null,null,null,null,null,null,null,null,null,null,null,null,null,null,null,null,null,null,null,null,null,null,null,null,null,null,null,null,null,null,null,null,null,null,null,null,null,null,null,null,null,null,null,null,null,null,null,null,null,null,null,null,null,null,null,null,null,null,null,null,null,null,{"$f":"Grunddaten!B91","v":703},{"$f":"Grunddaten!C91","v":"Reserve"},null,0,0,0,0,0,0,0,0,0,0,0,0,0,0,0,0,0,0,0,0,0,0,0,0,0,0,0,0,0,0,0,0,0,0,0,0,0,0,0,0,0,0,0,0,0,0,0,0,0,0,0,0,0,0,0,0,0,0,0,0,0,0,0,0,0,0,0,0,0,0,0,0,0,0,0,0,0,0,0,0,0,0,0,0,0,0,0,0,0,0,0,0,0,0,0,0,0,0,0,0,null,0]
[null,null,null,null,null,null,null,null,null,null,null,null,null,null,null,null,null,null,null,null,null,null,null,null,null,null,null,null,null,null,null,null,null,null,null,null,null,null,null,null,null,null,null,null,null,null,null,null,null,null,null,null,null,null,null,null,null,null,null,null,null,null,null,null,null,null,null,null,null,null,null,null,null,null,null,null,null,null,null,null,null,null,null,null,null,null,null,null,null,null,null,{"$f":"Grunddaten!B92","v":704},{"$f":"Grunddaten!C92","v":"Reserve"},null,0,0,0,0,0,0,0,0,0,0,0,0,0,0,0,0,0,0,0,0,0,0,0,0,0,0,0,0,0,0,0,0,0,0,0,0,0,0,0,0,0,0,0,0,0,0,0,0,0,0,0,0,0,0,0,0,0,0,0,0,0,0,0,0,0,0,0,0,0,0,0,0,0,0,0,0,0,0,0,0,0,0,0,0,0,0,0,0,0,0,0,0,0,0,0,0,0,0,0,0,null,0]
[null,null,null,null,null,null,null,null,null,null,null,null,null,null,null,null,null,null,null,null,null,null,null,null,null,null,null,null,null,null,null,null,null,null,null,null,null,null,null,null,null,null,null,null,null,null,null,null,null,null,null,null,null,null,null,null,null,null,null,null,null,null,null,null,null,null,null,null,null,null,null,null,null,null,null,null,null,null,null,null,null,null,null,null,null,null,null,null,null,null,null,{"$f":"Grunddaten!B93","v":705},{"$f":"Grunddaten!C93","v":"Reserve"},null,0,0,0,0,0,0,0,0,0,0,0,0,0,0,0,0,0,0,0,0,0,0,0,0,0,0,0,0,0,0,0,0,0,0,0,0,0,0,0,0,0,0,0,0,0,0,0,0,0,0,0,0,0,0,0,0,0,0,0,0,0,0,0,0,0,0,0,0,0,0,0,0,0,0,0,0,0,0,0,0,0,0,0,0,0,0,0,0,0,0,0,0,0,0,0,0,0,0,0,0,null,0]
[null,null,null,null,null,null,null,null,null,null,null,null,null,null,null,null,null,null,null,null,null,null,null,null,null,null,null,null,null,null,null,null,null,null,null,null,null,null,null,null,null,null,null,null,null,null,null,null,null,null,null,null,null,null,null,null,null,null,null,null,null,null,null,null,null,null,null,null,null,null,null,null,null,null,null,null,null,null,null,null,null,null,null,null,null,null,null,null,null,null,null,{"$f":"Grunddaten!B94","v":706},{"$f":"Grunddaten!C94","v":"Reserve"},null,0,0,0,0,0,0,0,0,0,0,0,0,0,0,0,0,0,0,0,0,0,0,0,0,0,0,0,0,0,0,0,0,0,0,0,0,0,0,0,0,0,0,0,0,0,0,0,0,0,0,0,0,0,0,0,0,0,0,0,0,0,0,0,0,0,0,0,0,0,0,0,0,0,0,0,0,0,0,0,0,0,0,0,0,0,0,0,0,0,0,0,0,0,0,0,0,0,0,0,0,null,0]
[null,null,null,null,null,null,null,null,null,null,null,null,null,null,null,null,null,null,null,null,null,null,null,null,null,null,null,null,null,null,null,null,null,null,null,null,null,null,null,null,null,null,null,null,null,null,null,null,null,null,null,null,null,null,null,null,null,null,null,null,null,null,null,null,null,null,null,null,null,null,null,null,null,null,null,null,null,null,null,null,null,null,null,null,null,null,null,null,null,null,null,{"$f":"Grunddaten!B95","v":800},{"$f":"Grunddaten!C95","v":"Päd.-therap. Massnah."},null,0,0,0,0,0,0,0,0,0,0,0,0,0,0,0,0,0,0,0,0,0,0,0,0,0,0,0,0,0,0,0,0,0,0,0,0,0,0,0,0,0,0,0,0,0,0,0,0,0,0,0,0,0,0,0,0,0,0,0,0,0,0,0,0,0,0,0,0,0,0,0,0,0,0,0,0,0,0,0,0,0,0,0,0,0,0,0,0,0,0,0,0,0,0,0,0,0,0,0,0,null,0]
[null,null,null,null,null,null,null,null,null,null,null,null,null,null,null,null,null,null,null,null,null,null,null,null,null,null,null,null,null,null,null,null,null,null,null,null,null,null,null,null,null,null,null,null,null,null,null,null,null,null,null,null,null,null,null,null,null,null,null,null,null,null,null,null,null,null,null,null,null,null,null,null,null,null,null,null,null,null,null,null,null,null,null,null,null,null,null,null,null,null,null,{"$f":"Grunddaten!B96","v":801},{"$f":"Grunddaten!C96","v":"Reserve"},null,{"$f":"SUM(CR103:GL103)","v":0},0,0,0,0,0,0,0,0,0,0,0,0,0,0,0,0,0,0,0,0,0,0,0,0,0,0,0,0,0,0,0,0,0,0,0,0,0,0,0,0,0,0,0,0,0,0,0,0,0,0,0,0,0,0,0,0,0,0,0,0,0,0,0,0,0,0,0,0,0,0,0,0,0,0,0,0,0,0,0,0,0,0,0,0,0,0,0,0,0,0,0,0,0,0,0,0,0,0,0,null,0]
[null,null,null,null,null,null,null,null,null,null,null,null,null,null,null,null,null,null,null,null,null,null,null,null,null,null,null,null,null,null,null,null,null,null,null,null,null,null,null,null,null,null,null,null,null,null,null,null,null,null,null,null,null,null,null,null,null,null,null,null,null,null,null,null,null,null,null,null,null,null,null,null,null,null,null,null,null,null,null,null,null,null,null,null,null,null,null,null,null,null,null,{"$f":"Grunddaten!B97","v":802},{"$f":"Grunddaten!C97","v":"Reserve"},null,0,0,0,0,0,0,0,0,0,0,0,0,0,0,0,0,0,0,0,0,0,0,0,0,0,0,0,0,0,0,0,0,0,0,0,0,0,0,0,0,0,0,0,0,0,0,0,0,0,0,0,0,0,0,0,0,0,0,0,0,0,0,0,0,0,0,0,0,0,0,0,0,0,0,0,0,0,0,0,0,0,0,0,0,0,0,0,0,0,0,0,0,0,0,0,0,0,0,0,0,null,0]
[null,null,null,null,null,null,null,null,null,null,null,null,null,null,null,null,null,null,null,null,null,null,null,null,null,null,null,null,null,null,null,null,null,null,null,null,null,null,null,null,null,null,null,null,null,null,null,null,null,null,null,null,null,null,null,null,null,null,null,null,null,null,null,null,null,null,null,null,null,null,null,null,null,null,null,null,null,null,null,null,null,null,null,null,null,null,null,null,null,null,null,{"$f":"Grunddaten!B98","v":803},{"$f":"Grunddaten!C98","v":"Reserve"},null,0,0,0,0,0,0,0,0,0,0,0,0,0,0,0,0,0,0,0,0,0,0,0,0,0,0,0,0,0,0,0,0,0,0,0,0,0,0,0,0,0,0,0,0,0,0,0,0,0,0,0,0,0,0,0,0,0,0,0,0,0,0,0,0,0,0,0,0,0,0,0,0,0,0,0,0,0,0,0,0,0,0,0,0,0,0,0,0,0,0,0,0,0,0,0,0,0,0,0,0,null,0]
[null,null,null,null,null,null,null,null,null,null,null,null,null,null,null,null,null,null,null,null,null,null,null,null,null,null,null,null,null,null,null,null,null,null,null,null,null,null,null,null,null,null,null,null,null,null,null,null,null,null,null,null,null,null,null,null,null,null,null,null,null,null,null,null,null,null,null,null,null,null,null,null,null,null,null,null,null,null,null,null,null,null,null,null,null,null,null,null,null,null,null,{"$f":"Grunddaten!B99","v":804},{"$f":"Grunddaten!C99","v":"Reserve"},null,0,0,0,0,0,0,0,0,0,0,0,0,0,0,0,0,0,0,0,0,0,0,0,0,0,0,0,0,0,0,0,0,0,0,0,0,0,0,0,0,0,0,0,0,0,0,0,0,0,0,0,0,0,0,0,0,0,0,0,0,0,0,0,0,0,0,0,0,0,0,0,0,0,0,0,0,0,0,0,0,0,0,0,0,0,0,0,0,0,0,0,0,0,0,0,0,0,0,0,0,null,0]
[null,null,null,null,null,null,null,null,null,null,null,null,null,null,null,null,null,null,null,null,null,null,null,null,null,null,null,null,null,null,null,null,null,null,null,null,null,null,null,null,null,null,null,null,null,null,null,null,null,null,null,null,null,null,null,null,null,null,null,null,null,null,null,null,null,null,null,null,null,null,null,null,null,null,null,null,null,null,null,null,null,null,null,null,null,null,null,null,null,null,null,{"$f":"Grunddaten!B100","v":805},{"$f":"Grunddaten!C100","v":"Reserve"},null,0,0,0,0,0,0,0,0,0,0,0,0,0,0,0,0,0,0,0,0,0,0,0,0,0,0,0,0,0,0,0,0,0,0,0,0,0,0,0,0,0,0,0,0,0,0,0,0,0,0,0,0,0,0,0,0,0,0,0,0,0,0,0,0,0,0,0,0,0,0,0,0,0,0,0,0,0,0,0,0,0,0,0,0,0,0,0,0,0,0,0,0,0,0,0,0,0,0,0,0,null,0]
[null,null,null,null,null,null,null,null,null,null,null,null,null,null,null,null,null,null,null,null,null,null,null,null,null,null,null,null,null,null,null,null,null,null,null,null,null,null,null,null,null,null,null,null,null,null,null,null,null,null,null,null,null,null,null,null,null,null,null,null,null,null,null,null,null,null,null,null,null,null,null,null,null,null,null,null,null,null,null,null,null,null,null,null,null,null,null,null,null,null,null,{"$f":"Grunddaten!B101","v":806},{"$f":"Grunddaten!C101","v":"Reserve"},null,0,0,0,0,0,0,0,0,0,0,0,0,0,0,0,0,0,0,0,0,0,0,0,0,0,0,0,0,0,0,0,0,0,0,0,0,0,0,0,0,0,0,0,0,0,0,0,0,0,0,0,0,0,0,0,0,0,0,0,0,0,0,0,0,0,0,0,0,0,0,0,0,0,0,0,0,0,0,0,0,0,0,0,0,0,0,0,0,0,0,0,0,0,0,0,0,0,0,0,0,null,0]
[null,null,null,null,null,null,null,null,null,null,null,null,null,null,null,null,null,null,null,null,null,null,null,null,null,null,null,null,null,null,null,null,null,null,null,null,null,null,null,null,null,null,null,null,null,null,null,null,null,null,null,null,null,null,null,null,null,null,null,null,null,null,null,null,null,null,null,null,null,null,null,null,null,null,null,null,null,null,null,null,null,null,null,null,null,null,null,null,null,null,null,{"$f":"Grunddaten!B102","v":900},{"$f":"Grunddaten!C102","v":"Taschengeld BT"},null,0,0,0,0,0,0,0,0,0,0,0,0,0,0,0,0,0,0,0,0,0,0,0,0,0,0,0,0,0,0,0,0,0,0,0,0,0,0,0,0,0,0,0,0,0,0,0,0,0,0,0,0,0,0,0,0,0,0,0,0,0,0,0,0,0,0,0,0,0,0,0,0,0,0,0,0,0,0,0,0,0,0,0,0,0,0,0,0,0,0,0,0,0,0,0,0,0,0,0,0,null,0]
[null,null,null,null,null,null,null,null,null,null,null,null,null,null,null,null,null,null,null,null,null,null,null,null,null,null,null,null,null,null,null,null,null,null,null,null,null,null,null,null,null,null,null,null,null,null,null,null,null,null,null,null,null,null,null,null,null,null,null,null,null,null,null,null,null,null,null,null,null,null,null,null,null,null,null,null,null,null,null,null,null,null,null,null,null,null,null,null,null,null,null,{"$f":"Grunddaten!B103","v":901},{"$f":"Grunddaten!C103","v":"Reserve"},null,0,0,0,0,0,0,0,0,0,0,0,0,0,0,0,0,0,0,0,0,0,0,0,0,0,0,0,0,0,0,0,0,0,0,0,0,0,0,0,0,0,0,0,0,0,0,0,0,0,0,0,0,0,0,0,0,0,0,0,0,0,0,0,0,0,0,0,0,0,0,0,0,0,0,0,0,0,0,0,0,0,0,0,0,0,0,0,0,0,0,0,0,0,0,0,0,0,0,0,0,null,0]
[null,null,null,null,null,null,null,null,null,null,null,null,null,null,null,null,null,null,null,null,null,null,null,null,null,null,null,null,null,null,null,null,null,null,null,null,null,null,null,null,null,null,null,null,null,null,null,null,null,null,null,null,null,null,null,null,null,null,null,null,null,null,null,null,null,null,null,null,null,null,null,null,null,null,null,null,null,null,null,null,null,null,null,null,null,null,null,null,null,null,null,{"$f":"Grunddaten!B104","v":902},{"$f":"Grunddaten!C104","v":"Reserve"},null,0,0,0,0,0,0,0,0,0,0,0,0,0,0,0,0,0,0,0,0,0,0,0,0,0,0,0,0,0,0,0,0,0,0,0,0,0,0,0,0,0,0,0,0,0,0,0,0,0,0,0,0,0,0,0,0,0,0,0,0,0,0,0,0,0,0,0,0,0,0,0,0,0,0,0,0,0,0,0,0,0,0,0,0,0,0,0,0,0,0,0,0,0,0,0,0,0,0,0,0,null,0]
[null,null,null,null,null,null,null,null,null,null,null,null,null,null,null,null,null,null,null,null,null,null,null,null,null,null,null,null,null,null,null,null,null,null,null,null,null,null,null,null,null,null,null,null,null,null,null,null,null,null,null,null,null,null,null,null,null,null,null,null,null,null,null,null,null,null,null,null,null,null,null,null,null,null,null,null,null,null,null,null,null,null,null,null,null,null,null,null,null,null,null,{"$f":"Grunddaten!B105","v":903},{"$f":"Grunddaten!C105","v":"Reserve"},null,0,0,0,0,0,0,0,0,0,0,0,0,0,0,0,0,0,0,0,0,0,0,0,0,0,0,0,0,0,0,0,0,0,0,0,0,0,0,0,0,0,0,0,0,0,0,0,0,0,0,0,0,0,0,0,0,0,0,0,0,0,0,0,0,0,0,0,0,0,0,0,0,0,0,0,0,0,0,0,0,0,0,0,0,0,0,0,0,0,0,0,0,0,0,0,0,0,0,0,0,null,0]
[null,null,null,null,null,null,null,null,null,null,null,null,null,null,null,null,null,null,null,null,null,null,null,null,null,null,null,null,null,null,null,null,null,null,null,null,null,null,null,null,null,null,null,null,null,null,null,null,null,null,null,null,null,null,null,null,null,null,null,null,null,null,null,null,null,null,null,null,null,null,null,null,null,null,null,null,null,null,null,null,null,null,null,null,null,null,null,null,null,null,null,{"$f":"Grunddaten!B106","v":904},{"$f":"Grunddaten!C106","v":"Reserve"},null,0,0,0,0,0,0,0,0,0,0,0,0,0,0,0,0,0,0,0,0,0,0,0,0,0,0,0,0,0,0,0,0,0,0,0,0,0,0,0,0,0,0,0,0,0,0,0,0,0,0,0,0,0,0,0,0,0,0,0,0,0,0,0,0,0,0,0,0,0,0,0,0,0,0,0,0,0,0,0,0,0,0,0,0,0,0,0,0,0,0,0,0,0,0,0,0,0,0,0,0,null,0]
[null,null,null,null,null,null,null,null,null,null,null,null,null,null,null,null,null,null,null,null,null,null,null,null,null,null,null,null,null,null,null,null,null,null,null,null,null,null,null,null,null,null,null,null,null,null,null,null,null,null,null,null,null,null,null,null,null,null,null,null,null,null,null,null,null,null,null,null,null,null,null,null,null,null,null,null,null,null,null,null,null,null,null,null,null,null,null,null,null,null,null,{"$f":"Grunddaten!B107","v":905},{"$f":"Grunddaten!C107","v":"Reserve"},null,0,0,0,0,0,0,0,0,0,0,0,0,0,0,0,0,0,0,0,0,0,0,0,0,0,0,0,0,0,0,0,0,0,0,0,0,0,0,0,0,0,0,0,0,0,0,0,0,0,0,0,0,0,0,0,0,0,0,0,0,0,0,0,0,0,0,0,0,0,0,0,0,0,0,0,0,0,0,0,0,0,0,0,0,0,0,0,0,0,0,0,0,0,0,0,0,0,0,0,0,null,0]
[null,null,null,null,null,null,null,null,null,null,null,null,null,null,null,null,null,null,null,null,null,null,null,null,null,null,null,null,null,null,null,null,null,null,null,null,null,null,null,null,null,null,null,null,null,null,null,null,null,null,null,null,null,null,null,null,null,null,null,null,null,null,null,null,null,null,null,null,null,null,null,null,null,null,null,null,null,null,null,null,null,null,null,null,null,null,null,null,null,null,null,{"$f":"Grunddaten!B108","v":906},{"$f":"Grunddaten!C108","v":"Reserve"},null,0,0,0,0,0,0,0,0,0,0,0,0,0,0,0,0,0,0,0,0,0,0,0,0,0,0,0,0,0,0,0,0,0,0,0,0,0,0,0,0,0,0,0,0,0,0,0,0,0,0,0,0,0,0,0,0,0,0,0,0,0,0,0,0,0,0,0,0,0,0,0,0,0,0,0,0,0,0,0,0,0,0,0,0,0,0,0,0,0,0,0,0,0,0,0,0,0,0,0,0,null,0]
[null,null,null,null,null,null,null,null,null,null,null,null,null,null,null,null,null,null,null,null,null,null,null,null,null,null,null,null,null,null,null,null,null,null,null,null,null,null,null,null,null,null,null,null,null,null,null,null,null,null,null,null,null,null,null,null,null,null,null,null,null,null,null,null,null,null,null,null,null,null,null,null,null,null,null,null,null,null,null,null,null,null,null,null,null,null,null,null,null,null,null,{"$f":"Grunddaten!B109","v":1000},{"$f":"Grunddaten!C109","v":"Diverses"},null,0,0,0,0,0,0,0,0,0,0,0,0,0,0,0,0,0,0,0,0,0,0,0,0,0,0,0,0,0,0,0,0,0,0,0,0,0,0,0,0,0,0,0,0,0,0,0,0,0,0,0,0,0,0,0,0,0,0,0,0,0,0,0,0,0,0,0,0,0,0,0,0,0,0,0,0,0,0,0,0,0,0,0,0,0,0,0,0,0,0,0,0,0,0,0,0,0,0,0,0,null,0]
[null,null,null,null,null,null,null,null,null,null,null,null,null,null,null,null,null,null,null,null,null,null,null,null,null,null,null,null,null,null,null,null,null,null,null,null,null,null,null,null,null,null,null,null,null,null,null,null,null,null,null,null,null,null,null,null,null,null,null,null,null,null,null,null,null,null,null,null,null,null,null,null,null,null,null,null,null,null,null,null,null,null,null,null,null,null,null,null,null,null,null,{"$f":"Grunddaten!B110","v":1001},{"$f":"Grunddaten!C110","v":"Reserve"},null,0,0,0,0,0,0,0,0,0,0,0,0,0,0,0,0,0,0,0,0,0,0,0,0,0,0,0,0,0,0,0,0,0,0,0,0,0,0,0,0,0,0,0,0,0,0,0,0,0,0,0,0,0,0,0,0,0,0,0,0,0,0,0,0,0,0,0,0,0,0,0,0,0,0,0,0,0,0,0,0,0,0,0,0,0,0,0,0,0,0,0,0,0,0,0,0,0,0,0,0]
[null,null,null,null,null,null,null,null,null,null,null,null,null,null,null,null,null,null,null,null,null,null,null,null,null,null,null,null,null,null,null,null,null,null,null,null,null,null,null,null,null,null,null,null,null,null,null,null,null,null,null,null,null,null,null,null,null,null,null,null,null,null,null,null,null,null,null,null,null,null,null,null,null,null,null,null,null,null,null,null,null,null,null,null,null,null,null,null,null,null,null,{"$f":"Grunddaten!B111","v":1002},{"$f":"Grunddaten!C111","v":"Reserve"},null,0,0,0,0,0,0,0,0,0,0,0,0,0,0,0,0,0,0,0,0,0,0,0,0,0,0,0,0,0,0,0,0,0,0,0,0,0,0,0,0,0,0,0,0,0,0,0,0,0,0,0,0,0,0,0,0,0,0,0,0,0,0,0,0,0,0,0,0,0,0,0,0,0,0,0,0,0,0,0,0,0,0,0,0,0,0,0,0,0,0,0,0,0,0,0,0,0,0,0,0]
[null,null,null,null,null,null,null,null,null,null,null,null,null,null,null,null,null,null,null,null,null,null,null,null,null,null,null,null,null,null,null,null,null,null,null,null,null,null,null,null,null,null,null,null,null,null,null,null,null,null,null,null,null,null,null,null,null,null,null,null,null,null,null,null,null,null,null,null,null,null,null,null,null,null,null,null,null,null,null,null,null,null,null,null,null,null,null,null,null,null,null,{"$f":"Grunddaten!B112","v":1003},{"$f":"Grunddaten!C112","v":"Reserve"},null,0,0,0,0,0,0,0,0,0,0,0,0,0,0,0,0,0,0,0,0,0,0,0,0,0,0,0,0,0,0,0,0,0,0,0,0,0,0,0,0,0,0,0,0,0,0,0,0,0,0,0,0,0,0,0,0,0,0,0,0,0,0,0,0,0,0,0,0,0,0,0,0,0,0,0,0,0,0,0,0,0,0,0,0,0,0,0,0,0,0,0,0,0,0,0,0,0,0,0,0]
[null,null,null,null,null,null,null,null,null,null,null,null,null,null,null,null,null,null,null,null,null,null,null,null,null,null,null,null,null,null,null,null,null,null,null,null,null,null,null,null,null,null,null,null,null,null,null,null,null,null,null,null,null,null,null,null,null,null,null,null,null,null,null,null,null,null,null,null,null,null,null,null,null,null,null,null,null,null,null,null,null,null,null,null,null,null,null,null,null,null,null,{"$f":"Grunddaten!B113","v":1004},{"$f":"Grunddaten!C113","v":"Reserve"},null,0,0,0,0,0,0,0,0,0,0,0,0,0,0,0,0,0,0,0,0,0,0,0,0,0,0,0,0,0,0,0,0,0,0,0,0,0,0,0,0,0,0,0,0,0,0,0,0,0,0,0,0,0,0,0,0,0,0,0,0,0,0,0,0,0,0,0,0,0,0,0,0,0,0,0,0,0,0,0,0,0,0,0,0,0,0,0,0,0,0,0,0,0,0,0,0,0,0,0,0]
[null,null,null,null,null,null,null,null,null,null,null,null,null,null,null,null,null,null,null,null,null,null,null,null,null,null,null,null,null,null,null,null,null,null,null,null,null,null,null,null,null,null,null,null,null,null,null,null,null,null,null,null,null,null,null,null,null,null,null,null,null,null,null,null,null,null,null,null,null,null,null,null,null,null,null,null,null,null,null,null,null,null,null,null,null,null,null,null,null,null,null,{"$f":"Grunddaten!B114","v":1005},{"$f":"Grunddaten!C114","v":"Reserve"},null,0,0,0,0,0,0,0,0,0,0,0,0,0,0,0,0,0,0,0,0,0,0,0,0,0,0,0,0,0,0,0,0,0,0,0,0,0,0,0,0,0,0,0,0,0,0,0,0,0,0,0,0,0,0,0,0,0,0,0,0,0,0,0,0,0,0,0,0,0,0,0,0,0,0,0,0,0,0,0,0,0,0,0,0,0,0,0,0,0,0,0,0,0,0,0,0,0,0,0,0]
[null,null,null,null,null,null,null,null,null,null,null,null,null,null,null,null,null,null,null,null,null,null,null,null,null,null,null,null,null,null,null,null,null,null,null,null,null,null,null,null,null,null,null,null,null,null,null,null,null,null,null,null,null,null,null,null,null,null,null,null,null,null,null,null,null,null,null,null,null,null,null,null,null,null,null,null,null,null,null,null,null,null,null,null,null,null,null,null,null,null,null,{"$f":"Grunddaten!B115","v":1006},{"$f":"Grunddaten!C115","v":"Reserve"},null,0,0,0,0,0,0,0,0,0,0,0,0,0,0,0,0,0,0,0,0,0,0,0,0,0,0,0,0,0,0,0,0,0,0,0,0,0,0,0,0,0,0,0,0,0,0,0,0,0,0,0,0,0,0,0,0,0,0,0,0,0,0,0,0,0,0,0,0,0,0,0,0,0,0,0,0,0,0,0,0,0,0,0,0,0,0,0,0,0,0,0,0,0,0,0,0,0,0,0,0]
[]
[]
[]
[]
[]
[]
[]
["Umlage Erträge"]
[]
[]
[]
["Umlageschlüssel Vorkostenstellen auf Hilfkostenstellen",null,null,null,"Summe der Umlagen","Hilfskostenstellen",null,null,null,null,null,null,null,null,null,null,null,null,null,null,null,null,null,null,null,null,null,null,null,null,null,null,null,null,null,null,null,null,null,null,null,null,null,null,null,null,null,null,null,null,null,null,null,null,null,null,null,null,null,null,null,null,null,null,null,null,null,null,null,null,null,null,null,null,null,null,null,null,null,null,null,null,null,null,null,null,null,null,null,null,"Umlageschlüssel Vorkostenstellen auf Hauptkostenstellen",null,null,null,"Summe der Umlagen","Hauptkostenstellen"]
[null,null,null,null,null,{"$f":"BAB!AC2","v":100},{"$f":"BAB!AD2","v":101},{"$f":"BAB!AE2","v":102},{"$f":"BAB!AF2","v":103},{"$f":"BAB!AG2","v":104},{"$f":"BAB!AH2","v":105},{"$f":"BAB!AI2","v":106},{"$f":"BAB!AJ2","v":200},{"$f":"BAB!AK2","v":201},{"$f":"BAB!AL2","v":202},{"$f":"BAB!AM2","v":203},{"$f":"BAB!AN2","v":204},{"$f":"BAB!AO2","v":205},{"$f":"BAB!AP2","v":206},{"$f":"BAB!AQ2","v":210},{"$f":"BAB!AR2","v":211},{"$f":"BAB!AS2","v":212},{"$f":"BAB!AT2","v":213},{"$f":"BAB!AU2","v":214},{"$f":"BAB!AV2","v":215},{"$f":"BAB!AW2","v":216},{"$f":"BAB!AX2","v":300},{"$f":"BAB!AY2","v":301},{"$f":"BAB!AZ2","v":302},{"$f":"BAB!BA2","v":303},{"$f":"BAB!BB2","v":304},{"$f":"BAB!BC2","v":305},{"$f":"BAB!BD2","v":306},{"$f":"BAB!BE2","v":400},{"$f":"BAB!BF2","v":401},{"$f":"BAB!BG2","v":402},{"$f":"BAB!BH2","v":403},{"$f":"BAB!BI2","v":404},{"$f":"BAB!BJ2","v":405},{"$f":"BAB!BK2","v":406},{"$f":"BAB!BL2","v":500},{"$f":"BAB!BM2","v":501},{"$f":"BAB!BN2","v":502},{"$f":"BAB!BO2","v":503},{"$f":"BAB!BP2","v":504},{"$f":"BAB!BQ2","v":504},{"$f":"BAB!BR2","v":505},{"$f":"BAB!BS2","v":600},{"$f":"BAB!BT2","v":601},{"$f":"BAB!BU2","v":602},{"$f":"BAB!BV2","v":603},{"$f":"BAB!BW2","v":604},{"$f":"BAB!BX2","v":605},{"$f":"BAB!BY2","v":606},{"$f":"BAB!BZ2","v":610},{"$f":"BAB!CA2","v":611},{"$f":"BAB!CB2","v":612},{"$f":"BAB!CC2","v":613},{"$f":"BAB!CD2","v":614},{"$f":"BAB!CE2","v":615},{"$f":"BAB!CF2","v":616},{"$f":"BAB!CG2","v":700},{"$f":"BAB!CH2","v":701},{"$f":"BAB!CI2","v":702},{"$f":"BAB!CJ2","v":703},{"$f":"BAB!CK2","v":704},{"$f":"BAB!CL2","v":705},{"$f":"BAB!CM2","v":706},{"$f":"BAB!CN2","v":800},{"$f":"BAB!CO2","v":801},{"$f":"BAB!CP2","v":802},{"$f":"BAB!CQ2","v":803},{"$f":"BAB!CR2","v":804},{"$f":"BAB!CS2","v":805},{"$f":"BAB!CT2","v":806},{"$f":"BAB!CU2","v":900},{"$f":"BAB!CV2","v":901},{"$f":"BAB!CW2","v":902},{"$f":"BAB!CX2","v":903},{"$f":"BAB!CY2","v":904},{"$f":"BAB!CZ2","v":905},{"$f":"BAB!DA2","v":906},{"$f":"BAB!DB2","v":1000},{"$f":"BAB!DC2","v":1001},{"$f":"BAB!DD2","v":1002},{"$f":"BAB!DE2","v":1003},{"$f":"BAB!DF2","v":1004},{"$f":"BAB!DG2","v":1005},{"$f":"BAB!DH2","v":1006},null,null,null,null,null,null,11000,11001,11002,11003,11004,11005,11006,11007,11008,11009,11010,11011,11012,11013,11014,11015,11016,11017,11018,11019,11100,11101,11102,11103,11104,11105,11106,11107,11108,11109,11110,11111,11112,11113,12000,12001,12002,12003,12004,12005,12006,12007,12008,12009,12010,12011,12012,12013,13000,13001,13002,13003,13004,13005,13006,13010,14000,14001,14002,14003,14004,14005,14006,14007,14008,14009,14010,14900,14901,14902,14903,14904,14905,14906,14907,14908,14909,14910,15000,15001,15002,15003,15004,15005,15006,15007,15008,15009,15010,16000,16001,16002,16003,16004,16005,16006,16007,16008,16009,16010,19000]
[null,null,null,"Bemerkungen zur Umlage",null,{"$f":"BAB!AC3","v":"Leitung & Verwaltung"},{"$f":"BAB!AD3","v":"Reserve"},{"$f":"BAB!AE3","v":"Reserve"},{"$f":"BAB!AF3","v":"Reserve"},{"$f":"BAB!AG3","v":"Reserve"},{"$f":"BAB!AH3","v":"Reserve"},{"$f":"BAB!AI3","v":"Reserve"},{"$f":"BAB!AJ3","v":"Transportdienst"},{"$f":"BAB!AK3","v":"Reserve"},{"$f":"BAB!AL3","v":"Reserve"},{"$f":"BAB!AM3","v":"Reserve"},{"$f":"BAB!AN3","v":"Reserve"},{"$f":"BAB!AO3","v":"Reserve"},{"$f":"BAB!AP3","v":"Reserve"},{"$f":"BAB!AQ3","v":"Transport inkl. Betreuung zu und von TS"},{"$f":"BAB!AR3","v":"Reserve"},{"$f":"BAB!AS3","v":"Reserve"},{"$f":"BAB!AT3","v":"Reserve"},{"$f":"BAB!AU3","v":"Reserve"},{"$f":"BAB!AV3","v":"Reserve"},{"$f":"BAB!AW3","v":"Reserve"},{"$f":"BAB!AX3","v":"Technischer Dienst / Hauswartung"},{"$f":"BAB!AY3","v":"Reserve"},{"$f":"BAB!AZ3","v":"Reserve"},{"$f":"BAB!BA3","v":"Reserve"},{"$f":"BAB!BB3","v":"Reserve"},{"$f":"BAB!BC3","v":"Reserve"},{"$f":"BAB!BD3","v":"Reserve"},{"$f":"BAB!BE3","v":"Reinigung / Haushalt"},{"$f":"BAB!BF3","v":"Reserve"},{"$f":"BAB!BG3","v":"Reserve"},{"$f":"BAB!BH3","v":"Reserve"},{"$f":"BAB!BI3","v":"Reserve"},{"$f":"BAB!BJ3","v":"Reserve"},{"$f":"BAB!BK3","v":"Reserve"},{"$f":"BAB!BL3","v":"Wäscherei"},{"$f":"BAB!BM3","v":"Reserve"},{"$f":"BAB!BN3","v":"Reserve"},{"$f":"BAB!BO3","v":"Reserve"},{"$f":"BAB!BP3","v":"Reserve"},{"$f":"BAB!BQ3","v":"Reserve"},{"$f":"BAB!BR3","v":"Reserve"},{"$f":"BAB!BS3","v":"Verpflegung"},{"$f":"BAB!BT3","v":"Reserve"},{"$f":"BAB!BU3","v":"Reserve"},{"$f":"BAB!BV3","v":"Reserve"},{"$f":"BAB!BW3","v":"Reserve"},{"$f":"BAB!BX3","v":"Reserve"},{"$f":"BAB!BY3","v":"Reserve"},{"$f":"BAB!BZ3","v":"Betreuung und Verpflegung über Mittag (nur TS)"},{"$f":"BAB!CA3","v":"Reserve"},{"$f":"BAB!CB3","v":"Reserve"},{"$f":"BAB!CC3","v":"Reserve"},{"$f":"BAB!CD3","v":"Reserve"},{"$f":"BAB!CE3","v":"Reserve"},{"$f":"BAB!CF3","v":"Reserve"},{"$f":"BAB!CG3","v":"Med.-therap. Massnah."},{"$f":"BAB!CH3","v":"Reserve"},{"$f":"BAB!CI3","v":"Reserve"},{"$f":"BAB!CJ3","v":"Reserve"},{"$f":"BAB!CK3","v":"Reserve"},{"$f":"BAB!CL3","v":"Reserve"},{"$f":"BAB!CM3","v":"Reserve"},{"$f":"BAB!CN3","v":"Päd.-therap. Massnah."},{"$f":"BAB!CO3","v":"Reserve"},{"$f":"BAB!CP3","v":"Reserve"},{"$f":"BAB!CQ3","v":"Reserve"},{"$f":"BAB!CR3","v":"Reserve"},{"$f":"BAB!CS3","v":"Reserve"},{"$f":"BAB!CT3","v":"Reserve"},{"$f":"BAB!CU3","v":"Taschengeld BT"},{"$f":"BAB!CV3","v":"Reserve"},{"$f":"BAB!CW3","v":"Reserve"},{"$f":"BAB!CX3","v":"Reserve"},{"$f":"BAB!CY3","v":"Reserve"},{"$f":"BAB!CZ3","v":"Reserve"},{"$f":"BAB!DA3","v":"Reserve"},{"$f":"BAB!DB3","v":"Diverses"},{"$f":"BAB!DC3","v":"Reserve"},{"$f":"BAB!DD3","v":"Reserve"},{"$f":"BAB!DE3","v":"Reserve"},{"$f":"BAB!DF3","v":"Reserve"},{"$f":"BAB!DG3","v":"Reserve"},{"$f":"BAB!DH3","v":"Reserve"},null,null,null,null,"Bemerkungen zur Umlage",null,"Betreutes Wohnen","Reserve","Reserve","Reserve","Reserve","Reserve","Reserve","Reserve","Reserve","Reserve","BW Corona","Reserve Corona","Reserve Corona","Reserve Corona","Reserve Corona","Reserve Corona","Reserve Corona","Reserve Corona","Reserve Corona","Reserve Corona","Betreute Tagesgestaltung ","Reserve","Reserve","Reserve","Reserve","Reserve","Reserve","Reserve","Reserve","Reserve","BT Corona","Reserve Corona","Reserve Corona","Reserve Corona","Begleitete Arbeit","Reserve","Reserve","Reserve","Reserve","Reserve","Reserve","Reserve","Reserve","Reserve","BA Corona","Reserve Corona","Reserve Corona","Reserve Corona ","Produktion","Reserve","Reserve","Reserve","Reserve","Reserve","Reserve","Produktion Corona","Nicht-IFEG Leistungen","Reserve","Reserve","Reserve","Nicht-IFEG Leistungen Corona","Sonder-/ Zusatzbedarf","Reserve","Reserve","Reserve","Reserve","Reserve","Leistungen für andere Auftraggeber","Reserve","Reserve","Reserve","Reserve","KVG-Leistungen","Reserve","Reserve","Reserve","Reserve","Reserve","Nebenbetriebe","Reserve","Reserve","Reserve","Reserve","Reserve","Reserve","Reserve","Reserve","Reserve","Reserve","Trägerschaft","Reserve","Reserve","Reserve","Reserve","Reserve","Reserve","Reserve","Reserve","Reserve","Reserve","Diverses"]
["Vorkostenstellen",{"$f":"Grunddaten!B9","v":10},{"$f":"Grunddaten!C9","v":"Kapitaldienst"},null,{"$f":"SUM(F137:CK137,CR137:GL137)","v":0},0,0,0,0,0,0,0,0,0,0,0,0,0,0,0,0,0,0,0,0,0,0,0,0,0,0,0,0,0,0,0,0,0,0,0,0,0,0,0,0,0,0,0,0,0,0,0,0,0,0,0,0,0,0,0,0,0,0,0,0,0,0,0,0,0,0,0,0,0,0,0,0,0,0,0,0,0,0,0,0,0,0,0,0,null,"Vorkostenstellen",{"$f":"Grunddaten!B9","v":10},{"$f":"Grunddaten!C9","v":"Kapitaldienst"},null,{"$f":"SUM(F137:CK137,CR137:GL137)","v":0},0,0,0,0,0,0,0,0,0,0,0,0,0,0,0,0,0,0,0,0,0,0,0,0,0,0,0,0,0,0,0,0,0,0,0,0,0,0,0,0,0,0,0,0,0,0,0,0,0,0,0,0,0,0,0,0,0,0,0,0,0,0,0,0,0,0,0,0,0,0,0,0,0,0,0,0,0,0,0,0,0,0,0,0,0,0,0,0,0,0,0,0,0,0,0,0,0,0,0,0,0]
[null,{"$f":"Grunddaten!B10","v":11},{"$f":"Grunddaten!C10","v":"Reserve"},null,{"$f":"SUM(F138:CK138,CR138:GL138)","v":0},0,0,0,0,0,0,0,0,0,0,0,0,0,0,0,0,0,0,0,0,0,0,0,0,0,0,0,0,0,0,0,0,0,0,0,0,0,0,0,0,0,0,0,0,0,0,0,0,0,0,0,0,0,0,0,0,0,0,0,0,0,0,0,0,0,0,0,0,0,0,0,0,0,0,0,0,0,0,0,0,0,0,0,0,null,null,{"$f":"Grunddaten!B10","v":11},{"$f":"Grunddaten!C10","v":"Reserve"},null,0,0,0,0,0,0,0,0,0,0,0,0,0,0,0,0,0,0,0,0,0,0,0,0,0,0,0,0,0,0,0,0,0,0,0,0,0,0,0,0,0,0,0,0,0,0,0,0,0,0,0,0,0,0,0,0,0,0,0,0,0,0,0,0,0,0,0,0,0,0,0,0,0,0,0,0,0,0,0,0,0,0,0,0,0,0,0,0,0,0,0,0,0,0,0,0,0,0,0,0,0,0]
[null,{"$f":"Grunddaten!B11","v":12},{"$f":"Grunddaten!C11","v":"Reserve"},null,0,0,0,0,0,0,0,0,0,0,0,0,0,0,0,0,0,0,0,0,0,0,0,0,0,0,0,0,0,0,0,0,0,0,0,0,0,0,0,0,0,0,0,0,0,0,0,0,0,0,0,0,0,0,0,0,0,0,0,0,0,0,0,0,0,0,0,0,0,0,0,0,0,0,0,0,0,0,0,0,0,0,0,0,0,null,null,{"$f":"Grunddaten!B11","v":12},{"$f":"Grunddaten!C11","v":"Reserve"},null,0,0,0,0,0,0,0,0,0,0,0,0,0,0,0,0,0,0,0,0,0,0,0,0,0,0,0,0,0,0,0,0,0,0,0,0,0,0,0,0,0,0,0,0,0,0,0,0,0,0,0,0,0,0,0,0,0,0,0,0,0,0,0,0,0,0,0,0,0,0,0,0,0,0,0,0,0,0,0,0,0,0,0,0,0,0,0,0,0,0,0,0,0,0,0,0,0,0,0,0,0,0]
[null,{"$f":"Grunddaten!B12","v":13},{"$f":"Grunddaten!C12","v":"Reserve"},null,0,0,0,0,0,0,0,0,0,0,0,0,0,0,0,0,0,0,0,0,0,0,0,0,0,0,0,0,0,0,0,0,0,0,0,0,0,0,0,0,0,0,0,0,0,0,0,0,0,0,0,0,0,0,0,0,0,0,0,0,0,0,0,0,0,0,0,0,0,0,0,0,0,0,0,0,0,0,0,0,0,0,0,0,0,null,null,{"$f":"Grunddaten!B12","v":13},{"$f":"Grunddaten!C12","v":"Reserve"},null,0,0,0,0,0,0,0,0,0,0,0,0,0,0,0,0,0,0,0,0,0,0,0,0,0,0,0,0,0,0,0,0,0,0,0,0,0,0,0,0,0,0,0,0,0,0,0,0,0,0,0,0,0,0,0,0,0,0,0,0,0,0,0,0,0,0,0,0,0,0,0,0,0,0,0,0,0,0,0,0,0,0,0,0,0,0,0,0,0,0,0,0,0,0,0,0,0,0,0,0,0,0]
[null,{"$f":"Grunddaten!B13","v":14},{"$f":"Grunddaten!C13","v":"Reserve"},null,0,0,0,0,0,0,0,0,0,0,0,0,0,0,0,0,0,0,0,0,0,0,0,0,0,0,0,0,0,0,0,0,0,0,0,0,0,0,0,0,0,0,0,0,0,0,0,0,0,0,0,0,0,0,0,0,0,0,0,0,0,0,0,0,0,0,0,0,0,0,0,0,0,0,0,0,0,0,0,0,0,0,0,0,0,null,null,{"$f":"Grunddaten!B13","v":14},{"$f":"Grunddaten!C13","v":"Reserve"},null,0,0,0,0,0,0,0,0,0,0,0,0,0,0,0,0,0,0,0,0,0,0,0,0,0,0,0,0,0,0,0,0,0,0,0,0,0,0,0,0,0,0,0,0,0,0,0,0,0,0,0,0,0,0,0,0,0,0,0,0,0,0,0,0,0,0,0,0,0,0,0,0,0,0,0,0,0,0,0,0,0,0,0,0,0,0,0,0,0,0,0,0,0,0,0,0,0,0,0,0,0,0]
[null,{"$f":"Grunddaten!B14","v":15},{"$f":"Grunddaten!C14","v":"Reserve"},null,0,0,0,0,0,0,0,0,0,0,0,0,0,0,0,0,0,0,0,0,0,0,0,0,0,0,0,0,0,0,0,0,0,0,0,0,0,0,0,0,0,0,0,0,0,0,0,0,0,0,0,0,0,0,0,0,0,0,0,0,0,0,0,0,0,0,0,0,0,0,0,0,0,0,0,0,0,0,0,0,0,0,0,0,0,null,null,{"$f":"Grunddaten!B14","v":15},{"$f":"Grunddaten!C14","v":"Reserve"},null,0,0,0,0,0,0,0,0,0,0,0,0,0,0,0,0,0,0,0,0,0,0,0,0,0,0,0,0,0,0,0,0,0,0,0,0,0,0,0,0,0,0,0,0,0,0,0,0,0,0,0,0,0,0,0,0,0,0,0,0,0,0,0,0,0,0,0,0,0,0,0,0,0,0,0,0,0,0,0,0,0,0,0,0,0,0,0,0,0,0,0,0,0,0,0,0,0,0,0,0,0,0]
[null,{"$f":"Grunddaten!B15","v":16},{"$f":"Grunddaten!C15","v":"Reserve"},null,0,0,0,0,0,0,0,0,0,0,0,0,0,0,0,0,0,0,0,0,0,0,0,0,0,0,0,0,0,0,0,0,0,0,0,0,0,0,0,0,0,0,0,0,0,0,0,0,0,0,0,0,0,0,0,0,0,0,0,0,0,0,0,0,0,0,0,0,0,0,0,0,0,0,0,0,0,0,0,0,0,0,0,0,0,null,null,{"$f":"Grunddaten!B15","v":16},{"$f":"Grunddaten!C15","v":"Reserve"},null,0,0,0,0,0,0,0,0,0,0,0,0,0,0,0,0,0,0,0,0,0,0,0,0,0,0,0,0,0,0,0,0,0,0,0,0,0,0,0,0,0,0,0,0,0,0,0,0,0,0,0,0,0,0,0,0,0,0,0,0,0,0,0,0,0,0,0,0,0,0,0,0,0,0,0,0,0,0,0,0,0,0,0,0,0,0,0,0,0,0,0,0,0,0,0,0,0,0,0,0,0,0]
[null,{"$f":"Grunddaten!B16","v":20},{"$f":"Grunddaten!C16","v":"Gebäude"},null,0,0,0,0,0,0,0,0,0,0,0,0,0,0,0,0,0,0,0,0,0,0,0,0,0,0,0,0,0,0,0,0,0,0,0,0,0,0,0,0,0,0,0,0,0,0,0,0,0,0,0,0,0,0,0,0,0,0,0,0,0,0,0,0,0,0,0,0,0,0,0,0,0,0,0,0,0,0,0,0,0,0,0,0,0,null,null,{"$f":"Grunddaten!B16","v":20},{"$f":"Grunddaten!C16","v":"Gebäude"},null,0,0,0,0,0,0,0,0,0,0,0,0,0,0,0,0,0,0,0,0,0,0,0,0,0,0,0,0,0,0,0,0,0,0,0,0,0,0,0,0,0,0,0,0,0,0,0,0,0,0,0,0,0,0,0,0,0,0,0,0,0,0,0,0,0,0,0,0,0,0,0,0,0,0,0,0,0,0,0,0,0,0,0,0,0,0,0,0,0,0,0,0,0,0,0,0,0,0,0,0,0,0]
[null,{"$f":"Grunddaten!B17","v":21},{"$f":"Grunddaten!C17","v":"Reserve"},null,0,0,0,0,0,0,0,0,0,0,0,0,0,0,0,0,0,0,0,0,0,0,0,0,0,0,0,0,0,0,0,0,0,0,0,0,0,0,0,0,0,0,0,0,0,0,0,0,0,0,0,0,0,0,0,0,0,0,0,0,0,0,0,0,0,0,0,0,0,0,0,0,0,0,0,0,0,0,0,0,0,0,0,0,0,null,null,{"$f":"Grunddaten!B17","v":21},{"$f":"Grunddaten!C17","v":"Reserve"},null,0,0,0,0,0,0,0,0,0,0,0,0,0,0,0,0,0,0,0,0,0,0,0,0,0,0,0,0,0,0,0,0,0,0,0,0,0,0,0,0,0,0,0,0,0,0,0,0,0,0,0,0,0,0,0,0,0,0,0,0,0,0,0,0,0,0,0,0,0,0,0,0,0,0,0,0,0,0,0,0,0,0,0,0,0,0,0,0,0,0,0,0,0,0,0,0,0,0,0,0,0,0]
[null,{"$f":"Grunddaten!B18","v":22},{"$f":"Grunddaten!C18","v":"Reserve"},null,0,0,0,0,0,0,0,0,0,0,0,0,0,0,0,0,0,0,0,0,0,0,0,0,0,0,0,0,0,0,0,0,0,0,0,0,0,0,0,0,0,0,0,0,0,0,0,0,0,0,0,0,0,0,0,0,0,0,0,0,0,0,0,0,0,0,0,0,0,0,0,0,0,0,0,0,0,0,0,0,0,0,0,0,0,null,null,{"$f":"Grunddaten!B18","v":22},{"$f":"Grunddaten!C18","v":"Reserve"},null,0,0,0,0,0,0,0,0,0,0,0,0,0,0,0,0,0,0,0,0,0,0,0,0,0,0,0,0,0,0,0,0,0,0,0,0,0,0,0,0,0,0,0,0,0,0,0,0,0,0,0,0,0,0,0,0,0,0,0,0,0,0,0,0,0,0,0,0,0,0,0,0,0,0,0,0,0,0,0,0,0,0,0,0,0,0,0,0,0,0,0,0,0,0,0,0,0,0,0,0,0,0]
[null,{"$f":"Grunddaten!B19","v":23},{"$f":"Grunddaten!C19","v":"Reserve"},null,0,0,0,0,0,0,0,0,0,0,0,0,0,0,0,0,0,0,0,0,0,0,0,0,0,0,0,0,0,0,0,0,0,0,0,0,0,0,0,0,0,0,0,0,0,0,0,0,0,0,0,0,0,0,0,0,0,0,0,0,0,0,0,0,0,0,0,0,0,0,0,0,0,0,0,0,0,0,0,0,0,0,0,0,0,null,null,{"$f":"Grunddaten!B19","v":23},{"$f":"Grunddaten!C19","v":"Reserve"},null,0,0,0,0,0,0,0,0,0,0,0,0,0,0,0,0,0,0,0,0,0,0,0,0,0,0,0,0,0,0,0,0,0,0,0,0,0,0,0,0,0,0,0,0,0,0,0,0,0,0,0,0,0,0,0,0,0,0,0,0,0,0,0,0,0,0,0,0,0,0,0,0,0,0,0,0,0,0,0,0,0,0,0,0,0,0,0,0,0,0,0,0,0,0,0,0,0,0,0,0,0,0]
[null,{"$f":"Grunddaten!B20","v":24},{"$f":"Grunddaten!C20","v":"Reserve"},null,0,0,0,0,0,0,0,0,0,0,0,0,0,0,0,0,0,0,0,0,0,0,0,0,0,0,0,0,0,0,0,0,0,0,0,0,0,0,0,0,0,0,0,0,0,0,0,0,0,0,0,0,0,0,0,0,0,0,0,0,0,0,0,0,0,0,0,0,0,0,0,0,0,0,0,0,0,0,0,0,0,0,0,0,0,null,null,{"$f":"Grunddaten!B20","v":24},{"$f":"Grunddaten!C20","v":"Reserve"},null,0,0,0,0,0,0,0,0,0,0,0,0,0,0,0,0,0,0,0,0,0,0,0,0,0,0,0,0,0,0,0,0,0,0,0,0,0,0,0,0,0,0,0,0,0,0,0,0,0,0,0,0,0,0,0,0,0,0,0,0,0,0,0,0,0,0,0,0,0,0,0,0,0,0,0,0,0,0,0,0,0,0,0,0,0,0,0,0,0,0,0,0,0,0,0,0,0,0,0,0,0,0]
[null,{"$f":"Grunddaten!B21","v":25},{"$f":"Grunddaten!C21","v":"Reserve"},null,0,0,0,0,0,0,0,0,0,0,0,0,0,0,0,0,0,0,0,0,0,0,0,0,0,0,0,0,0,0,0,0,0,0,0,0,0,0,0,0,0,0,0,0,0,0,0,0,0,0,0,0,0,0,0,0,0,0,0,0,0,0,0,0,0,0,0,0,0,0,0,0,0,0,0,0,0,0,0,0,0,0,0,0,0,null,null,{"$f":"Grunddaten!B21","v":25},{"$f":"Grunddaten!C21","v":"Reserve"},null,0,0,0,0,0,0,0,0,0,0,0,0,0,0,0,0,0,0,0,0,0,0,0,0,0,0,0,0,0,0,0,0,0,0,0,0,0,0,0,0,0,0,0,0,0,0,0,0,0,0,0,0,0,0,0,0,0,0,0,0,0,0,0,0,0,0,0,0,0,0,0,0,0,0,0,0,0,0,0,0,0,0,0,0,0,0,0,0,0,0,0,0,0,0,0,0,0,0,0,0,0,0]
[null,{"$f":"Grunddaten!B22","v":26},{"$f":"Grunddaten!C22","v":"Reserve"},null,0,0,0,0,0,0,0,0,0,0,0,0,0,0,0,0,0,0,0,0,0,0,0,0,0,0,0,0,0,0,0,0,0,0,0,0,0,0,0,0,0,0,0,0,0,0,0,0,0,0,0,0,0,0,0,0,0,0,0,0,0,0,0,0,0,0,0,0,0,0,0,0,0,0,0,0,0,0,0,0,0,0,0,0,0,null,null,{"$f":"Grunddaten!B22","v":26},{"$f":"Grunddaten!C22","v":"Reserve"},null,0,0,0,0,0,0,0,0,0,0,0,0,0,0,0,0,0,0,0,0,0,0,0,0,0,0,0,0,0,0,0,0,0,0,0,0,0,0,0,0,0,0,0,0,0,0,0,0,0,0,0,0,0,0,0,0,0,0,0,0,0,0,0,0,0,0,0,0,0,0,0,0,0,0,0,0,0,0,0,0,0,0,0,0,0,0,0,0,0,0,0,0,0,0,0,0,0,0,0,0,0,0]
[null,{"$f":"Grunddaten!B23","v":30},{"$f":"Grunddaten!C23","v":"Abschreibungen \n(nur BL) "},null,0,0,0,0,0,0,0,0,0,0,0,0,0,0,0,0,0,0,0,0,0,0,0,0,0,0,0,0,0,0,0,0,0,0,0,0,0,0,0,0,0,0,0,0,0,0,0,0,0,0,0,0,0,0,0,0,0,0,0,0,0,0,0,0,0,0,0,0,0,0,0,0,0,0,0,0,0,0,0,0,0,0,0,0,0,null,null,{"$f":"Grunddaten!B23","v":30},{"$f":"Grunddaten!C23","v":"Abschreibungen \n(nur BL) "},null,0,0,0,0,0,0,0,0,0,0,0,0,0,0,0,0,0,0,0,0,0,0,0,0,0,0,0,0,0,0,0,0,0,0,0,0,0,0,0,0,0,0,0,0,0,0,0,0,0,0,0,0,0,0,0,0,0,0,0,0,0,0,0,0,0,0,0,0,0,0,0,0,0,0,0,0,0,0,0,0,0,0,0,0,0,0,0,0,0,0,0,0,0,0,0,0,0,0,0,0,0,0]
[null,{"$f":"Grunddaten!B24","v":31},{"$f":"Grunddaten!C24","v":"Reserve"},null,0,0,0,0,0,0,0,0,0,0,0,0,0,0,0,0,0,0,0,0,0,0,0,0,0,0,0,0,0,0,0,0,0,0,0,0,0,0,0,0,0,0,0,0,0,0,0,0,0,0,0,0,0,0,0,0,0,0,0,0,0,0,0,0,0,0,0,0,0,0,0,0,0,0,0,0,0,0,0,0,0,0,0,0,0,null,null,{"$f":"Grunddaten!B24","v":31},{"$f":"Grunddaten!C24","v":"Reserve"},null,0,0,0,0,0,0,0,0,0,0,0,0,0,0,0,0,0,0,0,0,0,0,0,0,0,0,0,0,0,0,0,0,0,0,0,0,0,0,0,0,0,0,0,0,0,0,0,0,0,0,0,0,0,0,0,0,0,0,0,0,0,0,0,0,0,0,0,0,0,0,0,0,0,0,0,0,0,0,0,0,0,0,0,0,0,0,0,0,0,0,0,0,0,0,0,0,0,0,0,0]
[null,{"$f":"Grunddaten!B25","v":32},{"$f":"Grunddaten!C25","v":"Reserve"},null,0,0,0,0,0,0,0,0,0,0,0,0,0,0,0,0,0,0,0,0,0,0,0,0,0,0,0,0,0,0,0,0,0,0,0,0,0,0,0,0,0,0,0,0,0,0,0,0,0,0,0,0,0,0,0,0,0,0,0,0,0,0,0,0,0,0,0,0,0,0,0,0,0,0,0,0,0,0,0,0,0,0,0,0,0,null,null,{"$f":"Grunddaten!B25","v":32},{"$f":"Grunddaten!C25","v":"Reserve"},null,0,0,0,0,0,0,0,0,0,0,0,0,0,0,0,0,0,0,0,0,0,0,0,0,0,0,0,0,0,0,0,0,0,0,0,0,0,0,0,0,0,0,0,0,0,0,0,0,0,0,0,0,0,0,0,0,0,0,0,0,0,0,0,0,0,0,0,0,0,0,0,0,0,0,0,0,0,0,0,0,0,0,0,0,0,0,0,0,0,0,0,0,0,0,0,0,0,0,0,0]
[null,{"$f":"Grunddaten!B26","v":33},{"$f":"Grunddaten!C26","v":"Reserve"},null,0,0,0,0,0,0,0,0,0,0,0,0,0,0,0,0,0,0,0,0,0,0,0,0,0,0,0,0,0,0,0,0,0,0,0,0,0,0,0,0,0,0,0,0,0,0,0,0,0,0,0,0,0,0,0,0,0,0,0,0,0,0,0,0,0,0,0,0,0,0,0,0,0,0,0,0,0,0,0,0,0,0,0,0,0,null,null,{"$f":"Grunddaten!B26","v":33},{"$f":"Grunddaten!C26","v":"Reserve"},null,0,0,0,0,0,0,0,0,0,0,0,0,0,0,0,0,0,0,0,0,0,0,0,0,0,0,0,0,0,0,0,0,0,0,0,0,0,0,0,0,0,0,0,0,0,0,0,0,0,0,0,0,0,0,0,0,0,0,0,0,0,0,0,0,0,0,0,0,0,0,0,0,0,0,0,0,0,0,0,0,0,0,0,0,0,0,0,0,0,0,0,0,0,0,0,0,0,0,0,0]
[null,{"$f":"Grunddaten!B27","v":34},{"$f":"Grunddaten!C27","v":"Reserve"},null,0,0,0,0,0,0,0,0,0,0,0,0,0,0,0,0,0,0,0,0,0,0,0,0,0,0,0,0,0,0,0,0,0,0,0,0,0,0,0,0,0,0,0,0,0,0,0,0,0,0,0,0,0,0,0,0,0,0,0,0,0,0,0,0,0,0,0,0,0,0,0,0,0,0,0,0,0,0,0,0,0,0,0,0,0,null,null,{"$f":"Grunddaten!B27","v":34},{"$f":"Grunddaten!C27","v":"Reserve"},null,0,0,0,0,0,0,0,0,0,0,0,0,0,0,0,0,0,0,0,0,0,0,0,0,0,0,0,0,0,0,0,0,0,0,0,0,0,0,0,0,0,0,0,0,0,0,0,0,0,0,0,0,0,0,0,0,0,0,0,0,0,0,0,0,0,0,0,0,0,0,0,0,0,0,0,0,0,0,0,0,0,0,0,0,0,0,0,0,0,0,0,0,0,0,0,0,0,0,0,0]
[null,{"$f":"Grunddaten!B28","v":35},{"$f":"Grunddaten!C28","v":"Reserve"},null,0,0,0,0,0,0,0,0,0,0,0,0,0,0,0,0,0,0,0,0,0,0,0,0,0,0,0,0,0,0,0,0,0,0,0,0,0,0,0,0,0,0,0,0,0,0,0,0,0,0,0,0,0,0,0,0,0,0,0,0,0,0,0,0,0,0,0,0,0,0,0,0,0,0,0,0,0,0,0,0,0,0,0,0,0,null,null,{"$f":"Grunddaten!B28","v":35},{"$f":"Grunddaten!C28","v":"Reserve"},null,0,0,0,0,0,0,0,0,0,0,0,0,0,0,0,0,0,0,0,0,0,0,0,0,0,0,0,0,0,0,0,0,0,0,0,0,0,0,0,0,0,0,0,0,0,0,0,0,0,0,0,0,0,0,0,0,0,0,0,0,0,0,0,0,0,0,0,0,0,0,0,0,0,0,0,0,0,0,0,0,0,0,0,0,0,0,0,0,0,0,0,0,0,0,0,0,0,0,0,0]
[null,{"$f":"Grunddaten!B29","v":36},{"$f":"Grunddaten!C29","v":"Reserve"},null,0,0,0,0,0,0,0,0,0,0,0,0,0,0,0,0,0,0,0,0,0,0,0,0,0,0,0,0,0,0,0,0,0,0,0,0,0,0,0,0,0,0,0,0,0,0,0,0,0,0,0,0,0,0,0,0,0,0,0,0,0,0,0,0,0,0,0,0,0,0,0,0,0,0,0,0,0,0,0,0,0,0,0,0,0,null,null,{"$f":"Grunddaten!B29","v":36},{"$f":"Grunddaten!C29","v":"Reserve"},null,0,0,0,0,0,0,0,0,0,0,0,0,0,0,0,0,0,0,0,0,0,0,0,0,0,0,0,0,0,0,0,0,0,0,0,0,0,0,0,0,0,0,0,0,0,0,0,0,0,0,0,0,0,0,0,0,0,0,0,0,0,0,0,0,0,0,0,0,0,0,0,0,0,0,0,0,0,0,0,0,0,0,0,0,0,0,0,0,0,0,0,0,0,0,0,0,0,0,0,0]
[null,null,null,null,null,null,null,null,null,null,null,null,null,null,null,null,null,null,null,null,null,null,null,null,null,null,null,null,null,null,null,null,null,null,null,null,null,null,null,null,null,null,null,null,null,null,null,null,null,null,null,null,null,null,null,null,null,null,null,null,null,null,null,null,null,null,null,null,null,null,null,null,null,null,null,null,null,null,null,null,null,null,null,null,null,null,null,null,null,null,null,null,null,null,null,null,null,null,null,null,null,null,null,null,null,null,null,null,null,null,null,null,null,null,null,0]
[]
[]
[]
[]
[null,null,null,null,null,null,null,null,null,null,null,null,null,null,null,null,null,null,null,null,null,null,null,null,null,null,null,null,null,null,null,null,null,null,null,null,null,null,null,null,null,null,null,null,null,null,null,null,null,null,null,null,null,null,null,null,null,null,null,null,null,null,null,null,null,null,null,null,null,null,null,null,null,null,null,null,null,null,null,null,null,null,null,null,null,null,null,null,null,null,"Umlageschlüssel Hilfskostenstellen auf Hauptkostenstellen",null,null,null,"Summe der Umlagen","Hauptkostenstellen"]
[null,null,null,null,null,null,null,null,null,null,null,null,null,null,null,null,null,null,null,null,null,null,null,null,null,null,null,null,null,null,null,null,null,null,null,null,null,null,null,null,null,null,null,null,null,null,null,null,null,null,null,null,null,null,null,null,null,null,null,null,null,null,null,null,null,null,null,null,null,null,null,null,null,null,null,null,null,null,null,null,null,null,null,null,null,null,null,null,null,null,null,null,null,null,null,11000,11001,11002,11003,11004,11005,11006,11007,11008,11009,11010,11011,11012,11013,11014,11015,11016,11017,11018,11019,11100,11101,11102,11103,11104,11105,11106,11107,11108,11109,11110,11111,11112,11113,12000,12001,12002,12003,12004,12005,12006,12007,12008,12009,12010,12011,12012,12013,13000,13001,13002,13003,13004,13005,13006,13010,14000,14001,14002,14003,14004,14005,14006,14007,14008,14009,14010,14900,14901,14902,14903,14904,14905,14906,14907,14908,14909,14910,15000,15001,15002,15003,15004,15005,15006,15007,15008,15009,15010,16000,16001,16002,16003,16004,16005,16006,16007,16008,16009,16010,19000]
[null,null,null,null,null,null,null,null,null,null,null,null,null,null,null,null,null,null,null,null,null,null,null,null,null,null,null,null,null,null,null,null,null,null,null,null,null,null,null,null,null,null,null,null,null,null,null,null,null,null,null,null,null,null,null,null,null,null,null,null,null,null,null,null,null,null,null,null,null,null,null,null,null,null,null,null,null,null,null,null,null,null,null,null,null,null,null,null,null,null,null,null,null,"Bemerkungen zur Umlage",null,"Betreutes Wohnen","Reserve","Reserve","Reserve","Reserve","Reserve","Reserve","Reserve","Reserve","Reserve","BW Corona","Reserve Corona","Reserve Corona","Reserve Corona","Reserve Corona","Reserve Corona","Reserve Corona","Reserve Corona","Reserve Corona","Reserve Corona","Betreute Tagesgestaltung ","Reserve","Reserve","Reserve","Reserve","Reserve","Reserve","Reserve","Reserve","Reserve","BT Corona","Reserve Corona","Reserve Corona","Reserve Corona","Begleitete Arbeit","Reserve","Reserve","Reserve","Reserve","Reserve","Reserve","Reserve","Reserve","Reserve","BA Corona","Reserve Corona","Reserve Corona","Reserve Corona ","Produktion","Reserve","Reserve","Reserve","Reserve","Reserve","Reserve","Produktion Corona","Nicht-IFEG Leistungen","Reserve","Reserve","Reserve","Nicht-IFEG Leistungen Corona","Sonder-/ Zusatzbedarf","Reserve","Reserve","Reserve","Reserve","Reserve","Leistungen für andere Auftraggeber","Reserve","Reserve","Reserve","Reserve","KVG-Leistungen","Reserve","Reserve","Reserve","Reserve","Reserve","Nebenbetriebe","Reserve","Reserve","Reserve","Reserve","Reserve","Reserve","Reserve","Reserve","Reserve","Reserve","Trägerschaft","Reserve","Reserve","Reserve","Reserve","Reserve","Reserve","Reserve","Reserve","Reserve","Reserve","Diverses"]
[null,null,null,null,null,null,null,null,null,null,null,null,null,null,null,null,null,null,null,null,null,null,null,null,null,null,null,null,null,null,null,null,null,null,null,null,null,null,null,null,null,null,null,null,null,null,null,null,null,null,null,null,null,null,null,null,null,null,null,null,null,null,null,null,null,null,null,null,null,null,null,null,null,null,null,null,null,null,null,null,null,null,null,null,null,null,null,null,null,null,"Hilfskostenstellen",{"$f":"Grunddaten!B32","v":100},{"$f":"Grunddaten!C32","v":"Leitung & Verwaltung"},null,{"$f":"SUM(CR166:GL166)","v":0},0,0,0,0,0,0,0,0,0,0,0,0,0,0,0,0,0,0,0,0,0,0,0,0,0,0,0,0,0,0,0,0,0,0,0,0,0,0,0,0,0,0,0,0,0,0,0,0,0,0,0,0,0,0,0,0,0,0,0,0,0,0,0,0,0,0,0,0,0,0,0,0,0,0,0,0,0,0,0,0,0,0,0,0,0,0,0,0,0,0,0,0,0,0,0,0,0,0,0,0,0]
[null,null,null,null,null,null,null,null,null,null,null,null,null,null,null,null,null,null,null,null,null,null,null,null,null,null,null,null,null,null,null,null,null,null,null,null,null,null,null,null,null,null,null,null,null,null,null,null,null,null,null,null,null,null,null,null,null,null,null,null,null,null,null,null,null,null,null,null,null,null,null,null,null,null,null,null,null,null,null,null,null,null,null,null,null,null,null,null,null,null,null,{"$f":"Grunddaten!B33","v":101},{"$f":"Grunddaten!C33","v":"Reserve"},null,0,0,0,0,0,0,0,0,0,0,0,0,0,0,0,0,0,0,0,0,0,0,0,0,0,0,0,0,0,0,0,0,0,0,0,0,0,0,0,0,0,0,0,0,0,0,0,0,0,0,0,0,0,0,0,0,0,0,0,0,0,0,0,0,0,0,0,0,0,0,0,0,0,0,0,0,0,0,0,0,0,0,0,0,0,0,0,0,0,0,0,0,0,0,0,0,0,0,0,0,0,0]
[null,null,null,null,null,null,null,null,null,null,null,null,null,null,null,null,null,null,null,null,null,null,null,null,null,null,null,null,null,null,null,null,null,null,null,null,null,null,null,null,null,null,null,null,null,null,null,null,null,null,null,null,null,null,null,null,null,null,null,null,null,null,null,null,null,null,null,null,null,null,null,null,null,null,null,null,null,null,null,null,null,null,null,null,null,null,null,null,null,null,null,{"$f":"Grunddaten!B34","v":102},{"$f":"Grunddaten!C34","v":"Reserve"},null,0,0,0,0,0,0,0,0,0,0,0,0,0,0,0,0,0,0,0,0,0,0,0,0,0,0,0,0,0,0,0,0,0,0,0,0,0,0,0,0,0,0,0,0,0,0,0,0,0,0,0,0,0,0,0,0,0,0,0,0,0,0,0,0,0,0,0,0,0,0,0,0,0,0,0,0,0,0,0,0,0,0,0,0,0,0,0,0,0,0,0,0,0,0,0,0,0,0,0,0,0,0]
[null,null,null,null,null,null,null,null,null,null,null,null,null,null,null,null,null,null,null,null,null,null,null,null,null,null,null,null,null,null,null,null,null,null,null,null,null,null,null,null,null,null,null,null,null,null,null,null,null,null,null,null,null,null,null,null,null,null,null,null,null,null,null,null,null,null,null,null,null,null,null,null,null,null,null,null,null,null,null,null,null,null,null,null,null,null,null,null,null,null,null,{"$f":"Grunddaten!B35","v":103},{"$f":"Grunddaten!C35","v":"Reserve"},null,0,0,0,0,0,0,0,0,0,0,0,0,0,0,0,0,0,0,0,0,0,0,0,0,0,0,0,0,0,0,0,0,0,0,0,0,0,0,0,0,0,0,0,0,0,0,0,0,0,0,0,0,0,0,0,0,0,0,0,0,0,0,0,0,0,0,0,0,0,0,0,0,0,0,0,0,0,0,0,0,0,0,0,0,0,0,0,0,0,0,0,0,0,0,0,0,0,0,0,0,0,0]
[null,null,null,null,null,null,null,null,null,null,null,null,null,null,null,null,null,null,null,null,null,null,null,null,null,null,null,null,null,null,null,null,null,null,null,null,null,null,null,null,null,null,null,null,null,null,null,null,null,null,null,null,null,null,null,null,null,null,null,null,null,null,null,null,null,null,null,null,null,null,null,null,null,null,null,null,null,null,null,null,null,null,null,null,null,null,null,null,null,null,null,{"$f":"Grunddaten!B36","v":104},{"$f":"Grunddaten!C36","v":"Reserve"},null,0,0,0,0,0,0,0,0,0,0,0,0,0,0,0,0,0,0,0,0,0,0,0,0,0,0,0,0,0,0,0,0,0,0,0,0,0,0,0,0,0,0,0,0,0,0,0,0,0,0,0,0,0,0,0,0,0,0,0,0,0,0,0,0,0,0,0,0,0,0,0,0,0,0,0,0,0,0,0,0,0,0,0,0,0,0,0,0,0,0,0,0,0,0,0,0,0,0,0,0,0,0]
[null,null,null,null,null,null,null,null,null,null,null,null,null,null,null,null,null,null,null,null,null,null,null,null,null,null,null,null,null,null,null,null,null,null,null,null,null,null,null,null,null,null,null,null,null,null,null,null,null,null,null,null,null,null,null,null,null,null,null,null,null,null,null,null,null,null,null,null,null,null,null,null,null,null,null,null,null,null,null,null,null,null,null,null,null,null,null,null,null,null,null,{"$f":"Grunddaten!B37","v":105},{"$f":"Grunddaten!C37","v":"Reserve"},null,0,0,0,0,0,0,0,0,0,0,0,0,0,0,0,0,0,0,0,0,0,0,0,0,0,0,0,0,0,0,0,0,0,0,0,0,0,0,0,0,0,0,0,0,0,0,0,0,0,0,0,0,0,0,0,0,0,0,0,0,0,0,0,0,0,0,0,0,0,0,0,0,0,0,0,0,0,0,0,0,0,0,0,0,0,0,0,0,0,0,0,0,0,0,0,0,0,0,0,0,0,0]
[null,null,null,null,null,null,null,null,null,null,null,null,null,null,null,null,null,null,null,null,null,null,null,null,null,null,null,null,null,null,null,null,null,null,null,null,null,null,null,null,null,null,null,null,null,null,null,null,null,null,null,null,null,null,null,null,null,null,null,null,null,null,null,null,null,null,null,null,null,null,null,null,null,null,null,null,null,null,null,null,null,null,null,null,null,null,null,null,null,null,null,{"$f":"Grunddaten!B38","v":106},{"$f":"Grunddaten!C38","v":"Reserve"},null,0,0,0,0,0,0,0,0,0,0,0,0,0,0,0,0,0,0,0,0,0,0,0,0,0,0,0,0,0,0,0,0,0,0,0,0,0,0,0,0,0,0,0,0,0,0,0,0,0,0,0,0,0,0,0,0,0,0,0,0,0,0,0,0,0,0,0,0,0,0,0,0,0,0,0,0,0,0,0,0,0,0,0,0,0,0,0,0,0,0,0,0,0,0,0,0,0,0,0,0,0,0]
[null,null,null,null,null,null,null,null,null,null,null,null,null,null,null,null,null,null,null,null,null,null,null,null,null,null,null,null,null,null,null,null,null,null,null,null,null,null,null,null,null,null,null,null,null,null,null,null,null,null,null,null,null,null,null,null,null,null,null,null,null,null,null,null,null,null,null,null,null,null,null,null,null,null,null,null,null,null,null,null,null,null,null,null,null,null,null,null,null,null,null,{"$f":"Grunddaten!B39","v":200},{"$f":"Grunddaten!C39","v":"Transportdienst"},null,0,0,0,0,0,0,0,0,0,0,0,0,0,0,0,0,0,0,0,0,0,0,0,0,0,0,0,0,0,0,0,0,0,0,0,0,0,0,0,0,0,0,0,0,0,0,0,0,0,0,0,0,0,0,0,0,0,0,0,0,0,0,0,0,0,0,0,0,0,0,0,0,0,0,0,0,0,0,0,0,0,0,0,0,0,0,0,0,0,0,0,0,0,0,0,0,0,0,0,0,0,0]
[null,null,null,null,null,null,null,null,null,null,null,null,null,null,null,null,null,null,null,null,null,null,null,null,null,null,null,null,null,null,null,null,null,null,null,null,null,null,null,null,null,null,null,null,null,null,null,null,null,null,null,null,null,null,null,null,null,null,null,null,null,null,null,null,null,null,null,null,null,null,null,null,null,null,null,null,null,null,null,null,null,null,null,null,null,null,null,null,null,null,null,{"$f":"Grunddaten!B40","v":201},{"$f":"Grunddaten!C40","v":"Reserve"},null,0,0,0,0,0,0,0,0,0,0,0,0,0,0,0,0,0,0,0,0,0,0,0,0,0,0,0,0,0,0,0,0,0,0,0,0,0,0,0,0,0,0,0,0,0,0,0,0,0,0,0,0,0,0,0,0,0,0,0,0,0,0,0,0,0,0,0,0,0,0,0,0,0,0,0,0,0,0,0,0,0,0,0,0,0,0,0,0,0,0,0,0,0,0,0,0,0,0,0,0,0,0]
[null,null,null,null,null,null,null,null,null,null,null,null,null,null,null,null,null,null,null,null,null,null,null,null,null,null,null,null,null,null,null,null,null,null,null,null,null,null,null,null,null,null,null,null,null,null,null,null,null,null,null,null,null,null,null,null,null,null,null,null,null,null,null,null,null,null,null,null,null,null,null,null,null,null,null,null,null,null,null,null,null,null,null,null,null,null,null,null,null,null,null,{"$f":"Grunddaten!B41","v":202},{"$f":"Grunddaten!C41","v":"Reserve"},null,0,0,0,0,0,0,0,0,0,0,0,0,0,0,0,0,0,0,0,0,0,0,0,0,0,0,0,0,0,0,0,0,0,0,0,0,0,0,0,0,0,0,0,0,0,0,0,0,0,0,0,0,0,0,0,0,0,0,0,0,0,0,0,0,0,0,0,0,0,0,0,0,0,0,0,0,0,0,0,0,0,0,0,0,0,0,0,0,0,0,0,0,0,0,0,0,0,0,0,0,0,0]
[null,null,null,null,null,null,null,null,null,null,null,null,null,null,null,null,null,null,null,null,null,null,null,null,null,null,null,null,null,null,null,null,null,null,null,null,null,null,null,null,null,null,null,null,null,null,null,null,null,null,null,null,null,null,null,null,null,null,null,null,null,null,null,null,null,null,null,null,null,null,null,null,null,null,null,null,null,null,null,null,null,null,null,null,null,null,null,null,null,null,null,{"$f":"Grunddaten!B42","v":203},{"$f":"Grunddaten!C42","v":"Reserve"},null,0,0,0,0,0,0,0,0,0,0,0,0,0,0,0,0,0,0,0,0,0,0,0,0,0,0,0,0,0,0,0,0,0,0,0,0,0,0,0,0,0,0,0,0,0,0,0,0,0,0,0,0,0,0,0,0,0,0,0,0,0,0,0,0,0,0,0,0,0,0,0,0,0,0,0,0,0,0,0,0,0,0,0,0,0,0,0,0,0,0,0,0,0,0,0,0,0,0,0,0,0,0]
[null,null,null,null,null,null,null,null,null,null,null,null,null,null,null,null,null,null,null,null,null,null,null,null,null,null,null,null,null,null,null,null,null,null,null,null,null,null,null,null,null,null,null,null,null,null,null,null,null,null,null,null,null,null,null,null,null,null,null,null,null,null,null,null,null,null,null,null,null,null,null,null,null,null,null,null,null,null,null,null,null,null,null,null,null,null,null,null,null,null,null,{"$f":"Grunddaten!B43","v":204},{"$f":"Grunddaten!C43","v":"Reserve"},null,0,0,0,0,0,0,0,0,0,0,0,0,0,0,0,0,0,0,0,0,0,0,0,0,0,0,0,0,0,0,0,0,0,0,0,0,0,0,0,0,0,0,0,0,0,0,0,0,0,0,0,0,0,0,0,0,0,0,0,0,0,0,0,0,0,0,0,0,0,0,0,0,0,0,0,0,0,0,0,0,0,0,0,0,0,0,0,0,0,0,0,0,0,0,0,0,0,0,0,0,0,0]
[null,null,null,null,null,null,null,null,null,null,null,null,null,null,null,null,null,null,null,null,null,null,null,null,null,null,null,null,null,null,null,null,null,null,null,null,null,null,null,null,null,null,null,null,null,null,null,null,null,null,null,null,null,null,null,null,null,null,null,null,null,null,null,null,null,null,null,null,null,null,null,null,null,null,null,null,null,null,null,null,null,null,null,null,null,null,null,null,null,null,null,{"$f":"Grunddaten!B44","v":205},{"$f":"Grunddaten!C44","v":"Reserve"},null,0,0,0,0,0,0,0,0,0,0,0,0,0,0,0,0,0,0,0,0,0,0,0,0,0,0,0,0,0,0,0,0,0,0,0,0,0,0,0,0,0,0,0,0,0,0,0,0,0,0,0,0,0,0,0,0,0,0,0,0,0,0,0,0,0,0,0,0,0,0,0,0,0,0,0,0,0,0,0,0,0,0,0,0,0,0,0,0,0,0,0,0,0,0,0,0,0,0,0,0,0,0]
[null,null,null,null,null,null,null,null,null,null,null,null,null,null,null,null,null,null,null,null,null,null,null,null,null,null,null,null,null,null,null,null,null,null,null,null,null,null,null,null,null,null,null,null,null,null,null,null,null,null,null,null,null,null,null,null,null,null,null,null,null,null,null,null,null,null,null,null,null,null,null,null,null,null,null,null,null,null,null,null,null,null,null,null,null,null,null,null,null,null,null,{"$f":"Grunddaten!B45","v":206},{"$f":"Grunddaten!C45","v":"Reserve"},null,0,0,0,0,0,0,0,0,0,0,0,0,0,0,0,0,0,0,0,0,0,0,0,0,0,0,0,0,0,0,0,0,0,0,0,0,0,0,0,0,0,0,0,0,0,0,0,0,0,0,0,0,0,0,0,0,0,0,0,0,0,0,0,0,0,0,0,0,0,0,0,0,0,0,0,0,0,0,0,0,0,0,0,0,0,0,0,0,0,0,0,0,0,0,0,0,0,0,0,0,0,0]
[null,null,null,null,null,null,null,null,null,null,null,null,null,null,null,null,null,null,null,null,null,null,null,null,null,null,null,null,null,null,null,null,null,null,null,null,null,null,null,null,null,null,null,null,null,null,null,null,null,null,null,null,null,null,null,null,null,null,null,null,null,null,null,null,null,null,null,null,null,null,null,null,null,null,null,null,null,null,null,null,null,null,null,null,null,null,null,null,null,null,null,{"$f":"Grunddaten!B46","v":210},{"$f":"Grunddaten!C46","v":"Transport inkl. Betreuung zu und von TS"},null,0,0,0,0,0,0,0,0,0,0,0,0,0,0,0,0,0,0,0,0,0,0,0,0,0,0,0,0,0,0,0,0,0,0,0,0,0,0,0,0,0,0,0,0,0,0,0,0,0,0,0,0,0,0,0,0,0,0,0,0,0,0,0,0,0,0,0,0,0,0,0,0,0,0,0,0,0,0,0,0,0,0,0,0,0,0,0,0,0,0,0,0,0,0,0,0,0,0,0,0,0,0]
[null,null,null,null,null,null,null,null,null,null,null,null,null,null,null,null,null,null,null,null,null,null,null,null,null,null,null,null,null,null,null,null,null,null,null,null,null,null,null,null,null,null,null,null,null,null,null,null,null,null,null,null,null,null,null,null,null,null,null,null,null,null,null,null,null,null,null,null,null,null,null,null,null,null,null,null,null,null,null,null,null,null,null,null,null,null,null,null,null,null,null,{"$f":"Grunddaten!B47","v":211},{"$f":"Grunddaten!C47","v":"Reserve"},null,0,0,0,0,0,0,0,0,0,0,0,0,0,0,0,0,0,0,0,0,0,0,0,0,0,0,0,0,0,0,0,0,0,0,0,0,0,0,0,0,0,0,0,0,0,0,0,0,0,0,0,0,0,0,0,0,0,0,0,0,0,0,0,0,0,0,0,0,0,0,0,0,0,0,0,0,0,0,0,0,0,0,0,0,0,0,0,0,0,0,0,0,0,0,0,0,0,0,0,0,0,0]
[null,null,null,null,null,null,null,null,null,null,null,null,null,null,null,null,null,null,null,null,null,null,null,null,null,null,null,null,null,null,null,null,null,null,null,null,null,null,null,null,null,null,null,null,null,null,null,null,null,null,null,null,null,null,null,null,null,null,null,null,null,null,null,null,null,null,null,null,null,null,null,null,null,null,null,null,null,null,null,null,null,null,null,null,null,null,null,null,null,null,null,{"$f":"Grunddaten!B48","v":212},{"$f":"Grunddaten!C48","v":"Reserve"},null,0,0,0,0,0,0,0,0,0,0,0,0,0,0,0,0,0,0,0,0,0,0,0,0,0,0,0,0,0,0,0,0,0,0,0,0,0,0,0,0,0,0,0,0,0,0,0,0,0,0,0,0,0,0,0,0,0,0,0,0,0,0,0,0,0,0,0,0,0,0,0,0,0,0,0,0,0,0,0,0,0,0,0,0,0,0,0,0,0,0,0,0,0,0,0,0,0,0,0,0,0,0]
[null,null,null,null,null,null,null,null,null,null,null,null,null,null,null,null,null,null,null,null,null,null,null,null,null,null,null,null,null,null,null,null,null,null,null,null,null,null,null,null,null,null,null,null,null,null,null,null,null,null,null,null,null,null,null,null,null,null,null,null,null,null,null,null,null,null,null,null,null,null,null,null,null,null,null,null,null,null,null,null,null,null,null,null,null,null,null,null,null,null,null,{"$f":"Grunddaten!B49","v":213},{"$f":"Grunddaten!C49","v":"Reserve"},null,0,0,0,0,0,0,0,0,0,0,0,0,0,0,0,0,0,0,0,0,0,0,0,0,0,0,0,0,0,0,0,0,0,0,0,0,0,0,0,0,0,0,0,0,0,0,0,0,0,0,0,0,0,0,0,0,0,0,0,0,0,0,0,0,0,0,0,0,0,0,0,0,0,0,0,0,0,0,0,0,0,0,0,0,0,0,0,0,0,0,0,0,0,0,0,0,0,0,0,0,0,0]
[null,null,null,null,null,null,null,null,null,null,null,null,null,null,null,null,null,null,null,null,null,null,null,null,null,null,null,null,null,null,null,null,null,null,null,null,null,null,null,null,null,null,null,null,null,null,null,null,null,null,null,null,null,null,null,null,null,null,null,null,null,null,null,null,null,null,null,null,null,null,null,null,null,null,null,null,null,null,null,null,null,null,null,null,null,null,null,null,null,null,null,{"$f":"Grunddaten!B50","v":214},{"$f":"Grunddaten!C50","v":"Reserve"},null,0,0,0,0,0,0,0,0,0,0,0,0,0,0,0,0,0,0,0,0,0,0,0,0,0,0,0,0,0,0,0,0,0,0,0,0,0,0,0,0,0,0,0,0,0,0,0,0,0,0,0,0,0,0,0,0,0,0,0,0,0,0,0,0,0,0,0,0,0,0,0,0,0,0,0,0,0,0,0,0,0,0,0,0,0,0,0,0,0,0,0,0,0,0,0,0,0,0,0,0,0,0]
[null,null,null,null,null,null,null,null,null,null,null,null,null,null,null,null,null,null,null,null,null,null,null,null,null,null,null,null,null,null,null,null,null,null,null,null,null,null,null,null,null,null,null,null,null,null,null,null,null,null,null,null,null,null,null,null,null,null,null,null,null,null,null,null,null,null,null,null,null,null,null,null,null,null,null,null,null,null,null,null,null,null,null,null,null,null,null,null,null,null,null,{"$f":"Grunddaten!B51","v":215},{"$f":"Grunddaten!C51","v":"Reserve"},null,0,0,0,0,0,0,0,0,0,0,0,0,0,0,0,0,0,0,0,0,0,0,0,0,0,0,0,0,0,0,0,0,0,0,0,0,0,0,0,0,0,0,0,0,0,0,0,0,0,0,0,0,0,0,0,0,0,0,0,0,0,0,0,0,0,0,0,0,0,0,0,0,0,0,0,0,0,0,0,0,0,0,0,0,0,0,0,0,0,0,0,0,0,0,0,0,0,0,0,0,0,0]
[null,null,null,null,null,null,null,null,null,null,null,null,null,null,null,null,null,null,null,null,null,null,null,null,null,null,null,null,null,null,null,null,null,null,null,null,null,null,null,null,null,null,null,null,null,null,null,null,null,null,null,null,null,null,null,null,null,null,null,null,null,null,null,null,null,null,null,null,null,null,null,null,null,null,null,null,null,null,null,null,null,null,null,null,null,null,null,null,null,null,null,{"$f":"Grunddaten!B52","v":216},{"$f":"Grunddaten!C52","v":"Reserve"},null,0,0,0,0,0,0,0,0,0,0,0,0,0,0,0,0,0,0,0,0,0,0,0,0,0,0,0,0,0,0,0,0,0,0,0,0,0,0,0,0,0,0,0,0,0,0,0,0,0,0,0,0,0,0,0,0,0,0,0,0,0,0,0,0,0,0,0,0,0,0,0,0,0,0,0,0,0,0,0,0,0,0,0,0,0,0,0,0,0,0,0,0,0,0,0,0,0,0,0,0,0,0]
[null,null,null,null,null,null,null,null,null,null,null,null,null,null,null,null,null,null,null,null,null,null,null,null,null,null,null,null,null,null,null,null,null,null,null,null,null,null,null,null,null,null,null,null,null,null,null,null,null,null,null,null,null,null,null,null,null,null,null,null,null,null,null,null,null,null,null,null,null,null,null,null,null,null,null,null,null,null,null,null,null,null,null,null,null,null,null,null,null,null,null,{"$f":"Grunddaten!B53","v":300},{"$f":"Grunddaten!C53","v":"Technischer Dienst / Hauswartung"},null,0,0,0,0,0,0,0,0,0,0,0,0,0,0,0,0,0,0,0,0,0,0,0,0,0,0,0,0,0,0,0,0,0,0,0,0,0,0,0,0,0,0,0,0,0,0,0,0,0,0,0,0,0,0,0,0,0,0,0,0,0,0,0,0,0,0,0,0,0,0,0,0,0,0,0,0,0,0,0,0,0,0,0,0,0,0,0,0,0,0,0,0,0,0,0,0,0,0,0,0,0,0]
[null,null,null,null,null,null,null,null,null,null,null,null,null,null,null,null,null,null,null,null,null,null,null,null,null,null,null,null,null,null,null,null,null,null,null,null,null,null,null,null,null,null,null,null,null,null,null,null,null,null,null,null,null,null,null,null,null,null,null,null,null,null,null,null,null,null,null,null,null,null,null,null,null,null,null,null,null,null,null,null,null,null,null,null,null,null,null,null,null,null,null,{"$f":"Grunddaten!B54","v":301},{"$f":"Grunddaten!C54","v":"Reserve"},null,0,0,0,0,0,0,0,0,0,0,0,0,0,0,0,0,0,0,0,0,0,0,0,0,0,0,0,0,0,0,0,0,0,0,0,0,0,0,0,0,0,0,0,0,0,0,0,0,0,0,0,0,0,0,0,0,0,0,0,0,0,0,0,0,0,0,0,0,0,0,0,0,0,0,0,0,0,0,0,0,0,0,0,0,0,0,0,0,0,0,0,0,0,0,0,0,0,0,0,0,0,0]
[null,null,null,null,null,null,null,null,null,null,null,null,null,null,null,null,null,null,null,null,null,null,null,null,null,null,null,null,null,null,null,null,null,null,null,null,null,null,null,null,null,null,null,null,null,null,null,null,null,null,null,null,null,null,null,null,null,null,null,null,null,null,null,null,null,null,null,null,null,null,null,null,null,null,null,null,null,null,null,null,null,null,null,null,null,null,null,null,null,null,null,{"$f":"Grunddaten!B55","v":302},{"$f":"Grunddaten!C55","v":"Reserve"},null,0,0,0,0,0,0,0,0,0,0,0,0,0,0,0,0,0,0,0,0,0,0,0,0,0,0,0,0,0,0,0,0,0,0,0,0,0,0,0,0,0,0,0,0,0,0,0,0,0,0,0,0,0,0,0,0,0,0,0,0,0,0,0,0,0,0,0,0,0,0,0,0,0,0,0,0,0,0,0,0,0,0,0,0,0,0,0,0,0,0,0,0,0,0,0,0,0,0,0,0,0,0]
[null,null,null,null,null,null,null,null,null,null,null,null,null,null,null,null,null,null,null,null,null,null,null,null,null,null,null,null,null,null,null,null,null,null,null,null,null,null,null,null,null,null,null,null,null,null,null,null,null,null,null,null,null,null,null,null,null,null,null,null,null,null,null,null,null,null,null,null,null,null,null,null,null,null,null,null,null,null,null,null,null,null,null,null,null,null,null,null,null,null,null,{"$f":"Grunddaten!B56","v":303},{"$f":"Grunddaten!C56","v":"Reserve"},null,0,0,0,0,0,0,0,0,0,0,0,0,0,0,0,0,0,0,0,0,0,0,0,0,0,0,0,0,0,0,0,0,0,0,0,0,0,0,0,0,0,0,0,0,0,0,0,0,0,0,0,0,0,0,0,0,0,0,0,0,0,0,0,0,0,0,0,0,0,0,0,0,0,0,0,0,0,0,0,0,0,0,0,0,0,0,0,0,0,0,0,0,0,0,0,0,0,0,0,0,0,0]
[null,null,null,null,null,null,null,null,null,null,null,null,null,null,null,null,null,null,null,null,null,null,null,null,null,null,null,null,null,null,null,null,null,null,null,null,null,null,null,null,null,null,null,null,null,null,null,null,null,null,null,null,null,null,null,null,null,null,null,null,null,null,null,null,null,null,null,null,null,null,null,null,null,null,null,null,null,null,null,null,null,null,null,null,null,null,null,null,null,null,null,{"$f":"Grunddaten!B57","v":304},{"$f":"Grunddaten!C57","v":"Reserve"},null,0,0,0,0,0,0,0,0,0,0,0,0,0,0,0,0,0,0,0,0,0,0,0,0,0,0,0,0,0,0,0,0,0,0,0,0,0,0,0,0,0,0,0,0,0,0,0,0,0,0,0,0,0,0,0,0,0,0,0,0,0,0,0,0,0,0,0,0,0,0,0,0,0,0,0,0,0,0,0,0,0,0,0,0,0,0,0,0,0,0,0,0,0,0,0,0,0,0,0,0,0,0]
[null,null,null,null,null,null,null,null,null,null,null,null,null,null,null,null,null,null,null,null,null,null,null,null,null,null,null,null,null,null,null,null,null,null,null,null,null,null,null,null,null,null,null,null,null,null,null,null,null,null,null,null,null,null,null,null,null,null,null,null,null,null,null,null,null,null,null,null,null,null,null,null,null,null,null,null,null,null,null,null,null,null,null,null,null,null,null,null,null,null,null,{"$f":"Grunddaten!B58","v":305},{"$f":"Grunddaten!C58","v":"Reserve"},null,0,0,0,0,0,0,0,0,0,0,0,0,0,0,0,0,0,0,0,0,0,0,0,0,0,0,0,0,0,0,0,0,0,0,0,0,0,0,0,0,0,0,0,0,0,0,0,0,0,0,0,0,0,0,0,0,0,0,0,0,0,0,0,0,0,0,0,0,0,0,0,0,0,0,0,0,0,0,0,0,0,0,0,0,0,0,0,0,0,0,0,0,0,0,0,0,0,0,0,0,0,0]
[null,null,null,null,null,null,null,null,null,null,null,null,null,null,null,null,null,null,null,null,null,null,null,null,null,null,null,null,null,null,null,null,null,null,null,null,null,null,null,null,null,null,null,null,null,null,null,null,null,null,null,null,null,null,null,null,null,null,null,null,null,null,null,null,null,null,null,null,null,null,null,null,null,null,null,null,null,null,null,null,null,null,null,null,null,null,null,null,null,null,null,{"$f":"Grunddaten!B59","v":306},{"$f":"Grunddaten!C59","v":"Reserve"},null,0,0,0,0,0,0,0,0,0,0,0,0,0,0,0,0,0,0,0,0,0,0,0,0,0,0,0,0,0,0,0,0,0,0,0,0,0,0,0,0,0,0,0,0,0,0,0,0,0,0,0,0,0,0,0,0,0,0,0,0,0,0,0,0,0,0,0,0,0,0,0,0,0,0,0,0,0,0,0,0,0,0,0,0,0,0,0,0,0,0,0,0,0,0,0,0,0,0,0,0,0,0]
[null,null,null,null,null,null,null,null,null,null,null,null,null,null,null,null,null,null,null,null,null,null,null,null,null,null,null,null,null,null,null,null,null,null,null,null,null,null,null,null,null,null,null,null,null,null,null,null,null,null,null,null,null,null,null,null,null,null,null,null,null,null,null,null,null,null,null,null,null,null,null,null,null,null,null,null,null,null,null,null,null,null,null,null,null,null,null,null,null,null,null,{"$f":"Grunddaten!B60","v":400},{"$f":"Grunddaten!C60","v":"Reinigung / Haushalt"},null,0,0,0,0,0,0,0,0,0,0,0,0,0,0,0,0,0,0,0,0,0,0,0,0,0,0,0,0,0,0,0,0,0,0,0,0,0,0,0,0,0,0,0,0,0,0,0,0,0,0,0,0,0,0,0,0,0,0,0,0,0,0,0,0,0,0,0,0,0,0,0,0,0,0,0,0,0,0,0,0,0,0,0,0,0,0,0,0,0,0,0,0,0,0,0,0,0,0,0,0,0,0]
[null,null,null,null,null,null,null,null,null,null,null,null,null,null,null,null,null,null,null,null,null,null,null,null,null,null,null,null,null,null,null,null,null,null,null,null,null,null,null,null,null,null,null,null,null,null,null,null,null,null,null,null,null,null,null,null,null,null,null,null,null,null,null,null,null,null,null,null,null,null,null,null,null,null,null,null,null,null,null,null,null,null,null,null,null,null,null,null,null,null,null,{"$f":"Grunddaten!B61","v":401},{"$f":"Grunddaten!C61","v":"Reserve"},null,0,0,0,0,0,0,0,0,0,0,0,0,0,0,0,0,0,0,0,0,0,0,0,0,0,0,0,0,0,0,0,0,0,0,0,0,0,0,0,0,0,0,0,0,0,0,0,0,0,0,0,0,0,0,0,0,0,0,0,0,0,0,0,0,0,0,0,0,0,0,0,0,0,0,0,0,0,0,0,0,0,0,0,0,0,0,0,0,0,0,0,0,0,0,0,0,0,0,0,0,0,0]
[null,null,null,null,null,null,null,null,null,null,null,null,null,null,null,null,null,null,null,null,null,null,null,null,null,null,null,null,null,null,null,null,null,null,null,null,null,null,null,null,null,null,null,null,null,null,null,null,null,null,null,null,null,null,null,null,null,null,null,null,null,null,null,null,null,null,null,null,null,null,null,null,null,null,null,null,null,null,null,null,null,null,null,null,null,null,null,null,null,null,null,{"$f":"Grunddaten!B62","v":402},{"$f":"Grunddaten!C62","v":"Reserve"},null,0,0,0,0,0,0,0,0,0,0,0,0,0,0,0,0,0,0,0,0,0,0,0,0,0,0,0,0,0,0,0,0,0,0,0,0,0,0,0,0,0,0,0,0,0,0,0,0,0,0,0,0,0,0,0,0,0,0,0,0,0,0,0,0,0,0,0,0,0,0,0,0,0,0,0,0,0,0,0,0,0,0,0,0,0,0,0,0,0,0,0,0,0,0,0,0,0,0,0,0,0,0]
[null,null,null,null,null,null,null,null,null,null,null,null,null,null,null,null,null,null,null,null,null,null,null,null,null,null,null,null,null,null,null,null,null,null,null,null,null,null,null,null,null,null,null,null,null,null,null,null,null,null,null,null,null,null,null,null,null,null,null,null,null,null,null,null,null,null,null,null,null,null,null,null,null,null,null,null,null,null,null,null,null,null,null,null,null,null,null,null,null,null,null,{"$f":"Grunddaten!B63","v":403},{"$f":"Grunddaten!C63","v":"Reserve"},null,0,0,0,0,0,0,0,0,0,0,0,0,0,0,0,0,0,0,0,0,0,0,0,0,0,0,0,0,0,0,0,0,0,0,0,0,0,0,0,0,0,0,0,0,0,0,0,0,0,0,0,0,0,0,0,0,0,0,0,0,0,0,0,0,0,0,0,0,0,0,0,0,0,0,0,0,0,0,0,0,0,0,0,0,0,0,0,0,0,0,0,0,0,0,0,0,0,0,0,0,0,0]
[null,null,null,null,null,null,null,null,null,null,null,null,null,null,null,null,null,null,null,null,null,null,null,null,null,null,null,null,null,null,null,null,null,null,null,null,null,null,null,null,null,null,null,null,null,null,null,null,null,null,null,null,null,null,null,null,null,null,null,null,null,null,null,null,null,null,null,null,null,null,null,null,null,null,null,null,null,null,null,null,null,null,null,null,null,null,null,null,null,null,null,{"$f":"Grunddaten!B64","v":404},{"$f":"Grunddaten!C64","v":"Reserve"},null,{"$f":"SUM(CR198:GL198)","v":0},0,0,0,0,0,0,0,0,0,0,0,0,0,0,0,0,0,0,0,0,0,0,0,0,0,0,0,0,0,0,0,0,0,0,0,0,0,0,0,0,0,0,0,0,0,0,0,0,0,0,0,0,0,0,0,0,0,0,0,0,0,0,0,0,0,0,0,0,0,0,0,0,0,0,0,0,0,0,0,0,0,0,0,0,0,0,0,0,0,0,0,0,0,0,0,0,0,0,0,0,0]
[null,null,null,null,null,null,null,null,null,null,null,null,null,null,null,null,null,null,null,null,null,null,null,null,null,null,null,null,null,null,null,null,null,null,null,null,null,null,null,null,null,null,null,null,null,null,null,null,null,null,null,null,null,null,null,null,null,null,null,null,null,null,null,null,null,null,null,null,null,null,null,null,null,null,null,null,null,null,null,null,null,null,null,null,null,null,null,null,null,null,null,{"$f":"Grunddaten!B65","v":405},{"$f":"Grunddaten!C65","v":"Reserve"},null,0,0,0,0,0,0,0,0,0,0,0,0,0,0,0,0,0,0,0,0,0,0,0,0,0,0,0,0,0,0,0,0,0,0,0,0,0,0,0,0,0,0,0,0,0,0,0,0,0,0,0,0,0,0,0,0,0,0,0,0,0,0,0,0,0,0,0,0,0,0,0,0,0,0,0,0,0,0,0,0,0,0,0,0,0,0,0,0,0,0,0,0,0,0,0,0,0,0,0,0,0,0]
[null,null,null,null,null,null,null,null,null,null,null,null,null,null,null,null,null,null,null,null,null,null,null,null,null,null,null,null,null,null,null,null,null,null,null,null,null,null,null,null,null,null,null,null,null,null,null,null,null,null,null,null,null,null,null,null,null,null,null,null,null,null,null,null,null,null,null,null,null,null,null,null,null,null,null,null,null,null,null,null,null,null,null,null,null,null,null,null,null,null,null,{"$f":"Grunddaten!B66","v":406},{"$f":"Grunddaten!C66","v":"Reserve"},null,0,0,0,0,0,0,0,0,0,0,0,0,0,0,0,0,0,0,0,0,0,0,0,0,0,0,0,0,0,0,0,0,0,0,0,0,0,0,0,0,0,0,0,0,0,0,0,0,0,0,0,0,0,0,0,0,0,0,0,0,0,0,0,0,0,0,0,0,0,0,0,0,0,0,0,0,0,0,0,0,0,0,0,0,0,0,0,0,0,0,0,0,0,0,0,0,0,0,0,0,0,0]
[null,null,null,null,null,null,null,null,null,null,null,null,null,null,null,null,null,null,null,null,null,null,null,null,null,null,null,null,null,null,null,null,null,null,null,null,null,null,null,null,null,null,null,null,null,null,null,null,null,null,null,null,null,null,null,null,null,null,null,null,null,null,null,null,null,null,null,null,null,null,null,null,null,null,null,null,null,null,null,null,null,null,null,null,null,null,null,null,null,null,null,{"$f":"Grunddaten!B67","v":500},{"$f":"Grunddaten!C67","v":"Wäscherei"},null,0,0,0,0,0,0,0,0,0,0,0,0,0,0,0,0,0,0,0,0,0,0,0,0,0,0,0,0,0,0,0,0,0,0,0,0,0,0,0,0,0,0,0,0,0,0,0,0,0,0,0,0,0,0,0,0,0,0,0,0,0,0,0,0,0,0,0,0,0,0,0,0,0,0,0,0,0,0,0,0,0,0,0,0,0,0,0,0,0,0,0,0,0,0,0,0,0,0,0,0,0,0]
[null,null,null,null,null,null,null,null,null,null,null,null,null,null,null,null,null,null,null,null,null,null,null,null,null,null,null,null,null,null,null,null,null,null,null,null,null,null,null,null,null,null,null,null,null,null,null,null,null,null,null,null,null,null,null,null,null,null,null,null,null,null,null,null,null,null,null,null,null,null,null,null,null,null,null,null,null,null,null,null,null,null,null,null,null,null,null,null,null,null,null,{"$f":"Grunddaten!B68","v":501},{"$f":"Grunddaten!C68","v":"Reserve"},null,0,0,0,0,0,0,0,0,0,0,0,0,0,0,0,0,0,0,0,0,0,0,0,0,0,0,0,0,0,0,0,0,0,0,0,0,0,0,0,0,0,0,0,0,0,0,0,0,0,0,0,0,0,0,0,0,0,0,0,0,0,0,0,0,0,0,0,0,0,0,0,0,0,0,0,0,0,0,0,0,0,0,0,0,0,0,0,0,0,0,0,0,0,0,0,0,0,0,0,0,0,0]
[null,null,null,null,null,null,null,null,null,null,null,null,null,null,null,null,null,null,null,null,null,null,null,null,null,null,null,null,null,null,null,null,null,null,null,null,null,null,null,null,null,null,null,null,null,null,null,null,null,null,null,null,null,null,null,null,null,null,null,null,null,null,null,null,null,null,null,null,null,null,null,null,null,null,null,null,null,null,null,null,null,null,null,null,null,null,null,null,null,null,null,{"$f":"Grunddaten!B69","v":502},{"$f":"Grunddaten!C69","v":"Reserve"},null,0,0,0,0,0,0,0,0,0,0,0,0,0,0,0,0,0,0,0,0,0,0,0,0,0,0,0,0,0,0,0,0,0,0,0,0,0,0,0,0,0,0,0,0,0,0,0,0,0,0,0,0,0,0,0,0,0,0,0,0,0,0,0,0,0,0,0,0,0,0,0,0,0,0,0,0,0,0,0,0,0,0,0,0,0,0,0,0,0,0,0,0,0,0,0,0,0,0,0,0,0,0]
[null,null,null,null,null,null,null,null,null,null,null,null,null,null,null,null,null,null,null,null,null,null,null,null,null,null,null,null,null,null,null,null,null,null,null,null,null,null,null,null,null,null,null,null,null,null,null,null,null,null,null,null,null,null,null,null,null,null,null,null,null,null,null,null,null,null,null,null,null,null,null,null,null,null,null,null,null,null,null,null,null,null,null,null,null,null,null,null,null,null,null,{"$f":"Grunddaten!B70","v":503},{"$f":"Grunddaten!C70","v":"Reserve"},null,0,0,0,0,0,0,0,0,0,0,0,0,0,0,0,0,0,0,0,0,0,0,0,0,0,0,0,0,0,0,0,0,0,0,0,0,0,0,0,0,0,0,0,0,0,0,0,0,0,0,0,0,0,0,0,0,0,0,0,0,0,0,0,0,0,0,0,0,0,0,0,0,0,0,0,0,0,0,0,0,0,0,0,0,0,0,0,0,0,0,0,0,0,0,0,0,0,0,0,0,0,0]
[null,null,null,null,null,null,null,null,null,null,null,null,null,null,null,null,null,null,null,null,null,null,null,null,null,null,null,null,null,null,null,null,null,null,null,null,null,null,null,null,null,null,null,null,null,null,null,null,null,null,null,null,null,null,null,null,null,null,null,null,null,null,null,null,null,null,null,null,null,null,null,null,null,null,null,null,null,null,null,null,null,null,null,null,null,null,null,null,null,null,null,{"$f":"Grunddaten!B71","v":504},{"$f":"Grunddaten!C71","v":"Reserve"},null,0,0,0,0,0,0,0,0,0,0,0,0,0,0,0,0,0,0,0,0,0,0,0,0,0,0,0,0,0,0,0,0,0,0,0,0,0,0,0,0,0,0,0,0,0,0,0,0,0,0,0,0,0,0,0,0,0,0,0,0,0,0,0,0,0,0,0,0,0,0,0,0,0,0,0,0,0,0,0,0,0,0,0,0,0,0,0,0,0,0,0,0,0,0,0,0,0,0,0,0,0,0]
[null,null,null,null,null,null,null,null,null,null,null,null,null,null,null,null,null,null,null,null,null,null,null,null,null,null,null,null,null,null,null,null,null,null,null,null,null,null,null,null,null,null,null,null,null,null,null,null,null,null,null,null,null,null,null,null,null,null,null,null,null,null,null,null,null,null,null,null,null,null,null,null,null,null,null,null,null,null,null,null,null,null,null,null,null,null,null,null,null,null,null,{"$f":"Grunddaten!B72","v":505},{"$f":"Grunddaten!C72","v":"Reserve"},null,0,0,0,0,0,0,0,0,0,0,0,0,0,0,0,0,0,0,0,0,0,0,0,0,0,0,0,0,0,0,0,0,0,0,0,0,0,0,0,0,0,0,0,0,0,0,0,0,0,0,0,0,0,0,0,0,0,0,0,0,0,0,0,0,0,0,0,0,0,0,0,0,0,0,0,0,0,0,0,0,0,0,0,0,0,0,0,0,0,0,0,0,0,0,0,0,0,0,0,0,0,0]
[null,null,null,null,null,null,null,null,null,null,null,null,null,null,null,null,null,null,null,null,null,null,null,null,null,null,null,null,null,null,null,null,null,null,null,null,null,null,null,null,null,null,null,null,null,null,null,null,null,null,null,null,null,null,null,null,null,null,null,null,null,null,null,null,null,null,null,null,null,null,null,null,null,null,null,null,null,null,null,null,null,null,null,null,null,null,null,null,null,null,null,{"$f":"Grunddaten!B73","v":506},{"$f":"Grunddaten!C73","v":"Reserve"},null,0,0,0,0,0,0,0,0,0,0,0,0,0,0,0,0,0,0,0,0,0,0,0,0,0,0,0,0,0,0,0,0,0,0,0,0,0,0,0,0,0,0,0,0,0,0,0,0,0,0,0,0,0,0,0,0,0,0,0,0,0,0,0,0,0,0,0,0,0,0,0,0,0,0,0,0,0,0,0,0,0,0,0,0,0,0,0,0,0,0,0,0,0,0,0,0,0,0,0,0,0,0]
[null,null,null,null,null,null,null,null,null,null,null,null,null,null,null,null,null,null,null,null,null,null,null,null,null,null,null,null,null,null,null,null,null,null,null,null,null,null,null,null,null,null,null,null,null,null,null,null,null,null,null,null,null,null,null,null,null,null,null,null,null,null,null,null,null,null,null,null,null,null,null,null,null,null,null,null,null,null,null,null,null,null,null,null,null,null,null,null,null,null,null,{"$f":"Grunddaten!B74","v":600},{"$f":"Grunddaten!C74","v":"Verpflegung"},null,0,0,0,0,0,0,0,0,0,0,0,0,0,0,0,0,0,0,0,0,0,0,0,0,0,0,0,0,0,0,0,0,0,0,0,0,0,0,0,0,0,0,0,0,0,0,0,0,0,0,0,0,0,0,0,0,0,0,0,0,0,0,0,0,0,0,0,0,0,0,0,0,0,0,0,0,0,0,0,0,0,0,0,0,0,0,0,0,0,0,0,0,0,0,0,0,0,0,0,0,0,0]
[null,null,null,null,null,null,null,null,null,null,null,null,null,null,null,null,null,null,null,null,null,null,null,null,null,null,null,null,null,null,null,null,null,null,null,null,null,null,null,null,null,null,null,null,null,null,null,null,null,null,null,null,null,null,null,null,null,null,null,null,null,null,null,null,null,null,null,null,null,null,null,null,null,null,null,null,null,null,null,null,null,null,null,null,null,null,null,null,null,null,null,{"$f":"Grunddaten!B75","v":601},{"$f":"Grunddaten!C75","v":"Reserve"},null,0,0,0,0,0,0,0,0,0,0,0,0,0,0,0,0,0,0,0,0,0,0,0,0,0,0,0,0,0,0,0,0,0,0,0,0,0,0,0,0,0,0,0,0,0,0,0,0,0,0,0,0,0,0,0,0,0,0,0,0,0,0,0,0,0,0,0,0,0,0,0,0,0,0,0,0,0,0,0,0,0,0,0,0,0,0,0,0,0,0,0,0,0,0,0,0,0,0,0,0,0,0]
[null,null,null,null,null,null,null,null,null,null,null,null,null,null,null,null,null,null,null,null,null,null,null,null,null,null,null,null,null,null,null,null,null,null,null,null,null,null,null,null,null,null,null,null,null,null,null,null,null,null,null,null,null,null,null,null,null,null,null,null,null,null,null,null,null,null,null,null,null,null,null,null,null,null,null,null,null,null,null,null,null,null,null,null,null,null,null,null,null,null,null,{"$f":"Grunddaten!B76","v":602},{"$f":"Grunddaten!C76","v":"Reserve"},null,0,0,0,0,0,0,0,0,0,0,0,0,0,0,0,0,0,0,0,0,0,0,0,0,0,0,0,0,0,0,0,0,0,0,0,0,0,0,0,0,0,0,0,0,0,0,0,0,0,0,0,0,0,0,0,0,0,0,0,0,0,0,0,0,0,0,0,0,0,0,0,0,0,0,0,0,0,0,0,0,0,0,0,0,0,0,0,0,0,0,0,0,0,0,0,0,0,0,0,0,0,0]
[null,null,null,null,null,null,null,null,null,null,null,null,null,null,null,null,null,null,null,null,null,null,null,null,null,null,null,null,null,null,null,null,null,null,null,null,null,null,null,null,null,null,null,null,null,null,null,null,null,null,null,null,null,null,null,null,null,null,null,null,null,null,null,null,null,null,null,null,null,null,null,null,null,null,null,null,null,null,null,null,null,null,null,null,null,null,null,null,null,null,null,{"$f":"Grunddaten!B77","v":603},{"$f":"Grunddaten!C77","v":"Reserve"},null,0,0,0,0,0,0,0,0,0,0,0,0,0,0,0,0,0,0,0,0,0,0,0,0,0,0,0,0,0,0,0,0,0,0,0,0,0,0,0,0,0,0,0,0,0,0,0,0,0,0,0,0,0,0,0,0,0,0,0,0,0,0,0,0,0,0,0,0,0,0,0,0,0,0,0,0,0,0,0,0,0,0,0,0,0,0,0,0,0,0,0,0,0,0,0,0,0,0,0,0,0,0]
[null,null,null,null,null,null,null,null,null,null,null,null,null,null,null,null,null,null,null,null,null,null,null,null,null,null,null,null,null,null,null,null,null,null,null,null,null,null,null,null,null,null,null,null,null,null,null,null,null,null,null,null,null,null,null,null,null,null,null,null,null,null,null,null,null,null,null,null,null,null,null,null,null,null,null,null,null,null,null,null,null,null,null,null,null,null,null,null,null,null,null,{"$f":"Grunddaten!B78","v":604},{"$f":"Grunddaten!C78","v":"Reserve"},null,0,0,0,0,0,0,0,0,0,0,0,0,0,0,0,0,0,0,0,0,0,0,0,0,0,0,0,0,0,0,0,0,0,0,0,0,0,0,0,0,0,0,0,0,0,0,0,0,0,0,0,0,0,0,0,0,0,0,0,0,0,0,0,0,0,0,0,0,0,0,0,0,0,0,0,0,0,0,0,0,0,0,0,0,0,0,0,0,0,0,0,0,0,0,0,0,0,0,0,0,0,0]
[null,null,null,null,null,null,null,null,null,null,null,null,null,null,null,null,null,null,null,null,null,null,null,null,null,null,null,null,null,null,null,null,null,null,null,null,null,null,null,null,null,null,null,null,null,null,null,null,null,null,null,null,null,null,null,null,null,null,null,null,null,null,null,null,null,null,null,null,null,null,null,null,null,null,null,null,null,null,null,null,null,null,null,null,null,null,null,null,null,null,null,{"$f":"Grunddaten!B79","v":605},{"$f":"Grunddaten!C79","v":"Reserve"},null,0,0,0,0,0,0,0,0,0,0,0,0,0,0,0,0,0,0,0,0,0,0,0,0,0,0,0,0,0,0,0,0,0,0,0,0,0,0,0,0,0,0,0,0,0,0,0,0,0,0,0,0,0,0,0,0,0,0,0,0,0,0,0,0,0,0,0,0,0,0,0,0,0,0,0,0,0,0,0,0,0,0,0,0,0,0,0,0,0,0,0,0,0,0,0,0,0,0,0,0,0,0]
[null,null,null,null,null,null,null,null,null,null,null,null,null,null,null,null,null,null,null,null,null,null,null,null,null,null,null,null,null,null,null,null,null,null,null,null,null,null,null,null,null,null,null,null,null,null,null,null,null,null,null,null,null,null,null,null,null,null,null,null,null,null,null,null,null,null,null,null,null,null,null,null,null,null,null,null,null,null,null,null,null,null,null,null,null,null,null,null,null,null,null,{"$f":"Grunddaten!B80","v":606},{"$f":"Grunddaten!C80","v":"Reserve"},null,0,0,0,0,0,0,0,0,0,0,0,0,0,0,0,0,0,0,0,0,0,0,0,0,0,0,0,0,0,0,0,0,0,0,0,0,0,0,0,0,0,0,0,0,0,0,0,0,0,0,0,0,0,0,0,0,0,0,0,0,0,0,0,0,0,0,0,0,0,0,0,0,0,0,0,0,0,0,0,0,0,0,0,0,0,0,0,0,0,0,0,0,0,0,0,0,0,0,0,0,0,0]
[null,null,null,null,null,null,null,null,null,null,null,null,null,null,null,null,null,null,null,null,null,null,null,null,null,null,null,null,null,null,null,null,null,null,null,null,null,null,null,null,null,null,null,null,null,null,null,null,null,null,null,null,null,null,null,null,null,null,null,null,null,null,null,null,null,null,null,null,null,null,null,null,null,null,null,null,null,null,null,null,null,null,null,null,null,null,null,null,null,null,null,{"$f":"Grunddaten!B81","v":610},{"$f":"Grunddaten!C81","v":"Betreuung und Verpflegung über Mittag (nur TS)"},null,0,0,0,0,0,0,0,0,0,0,0,0,0,0,0,0,0,0,0,0,0,0,0,0,0,0,0,0,0,0,0,0,0,0,0,0,0,0,0,0,0,0,0,0,0,0,0,0,0,0,0,0,0,0,0,0,0,0,0,0,0,0,0,0,0,0,0,0,0,0,0,0,0,0,0,0,0,0,0,0,0,0,0,0,0,0,0,0,0,0,0,0,0,0,0,0,0,0,0,0,0,0]
[null,null,null,null,null,null,null,null,null,null,null,null,null,null,null,null,null,null,null,null,null,null,null,null,null,null,null,null,null,null,null,null,null,null,null,null,null,null,null,null,null,null,null,null,null,null,null,null,null,null,null,null,null,null,null,null,null,null,null,null,null,null,null,null,null,null,null,null,null,null,null,null,null,null,null,null,null,null,null,null,null,null,null,null,null,null,null,null,null,null,null,{"$f":"Grunddaten!B82","v":611},{"$f":"Grunddaten!C82","v":"Reserve"},null,0,0,0,0,0,0,0,0,0,0,0,0,0,0,0,0,0,0,0,0,0,0,0,0,0,0,0,0,0,0,0,0,0,0,0,0,0,0,0,0,0,0,0,0,0,0,0,0,0,0,0,0,0,0,0,0,0,0,0,0,0,0,0,0,0,0,0,0,0,0,0,0,0,0,0,0,0,0,0,0,0,0,0,0,0,0,0,0,0,0,0,0,0,0,0,0,0,0,0,0]
[null,null,null,null,null,null,null,null,null,null,null,null,null,null,null,null,null,null,null,null,null,null,null,null,null,null,null,null,null,null,null,null,null,null,null,null,null,null,null,null,null,null,null,null,null,null,null,null,null,null,null,null,null,null,null,null,null,null,null,null,null,null,null,null,null,null,null,null,null,null,null,null,null,null,null,null,null,null,null,null,null,null,null,null,null,null,null,null,null,null,null,{"$f":"Grunddaten!B83","v":612},{"$f":"Grunddaten!C83","v":"Reserve"},null,0,0,0,0,0,0,0,0,0,0,0,0,0,0,0,0,0,0,0,0,0,0,0,0,0,0,0,0,0,0,0,0,0,0,0,0,0,0,0,0,0,0,0,0,0,0,0,0,0,0,0,0,0,0,0,0,0,0,0,0,0,0,0,0,0,0,0,0,0,0,0,0,0,0,0,0,0,0,0,0,0,0,0,0,0,0,0,0,0,0,0,0,0,0,0,0,0,0,0,0]
[null,null,null,null,null,null,null,null,null,null,null,null,null,null,null,null,null,null,null,null,null,null,null,null,null,null,null,null,null,null,null,null,null,null,null,null,null,null,null,null,null,null,null,null,null,null,null,null,null,null,null,null,null,null,null,null,null,null,null,null,null,null,null,null,null,null,null,null,null,null,null,null,null,null,null,null,null,null,null,null,null,null,null,null,null,null,null,null,null,null,null,{"$f":"Grunddaten!B84","v":613},{"$f":"Grunddaten!C84","v":"Reserve"},null,0,0,0,0,0,0,0,0,0,0,0,0,0,0,0,0,0,0,0,0,0,0,0,0,0,0,0,0,0,0,0,0,0,0,0,0,0,0,0,0,0,0,0,0,0,0,0,0,0,0,0,0,0,0,0,0,0,0,0,0,0,0,0,0,0,0,0,0,0,0,0,0,0,0,0,0,0,0,0,0,0,0,0,0,0,0,0,0,0,0,0,0,0,0,0,0,0,0,0,0]
[null,null,null,null,null,null,null,null,null,null,null,null,null,null,null,null,null,null,null,null,null,null,null,null,null,null,null,null,null,null,null,null,null,null,null,null,null,null,null,null,null,null,null,null,null,null,null,null,null,null,null,null,null,null,null,null,null,null,null,null,null,null,null,null,null,null,null,null,null,null,null,null,null,null,null,null,null,null,null,null,null,null,null,null,null,null,null,null,null,null,null,{"$f":"Grunddaten!B85","v":614},{"$f":"Grunddaten!C85","v":"Reserve"},null,0,0,0,0,0,0,0,0,0,0,0,0,0,0,0,0,0,0,0,0,0,0,0,0,0,0,0,0,0,0,0,0,0,0,0,0,0,0,0,0,0,0,0,0,0,0,0,0,0,0,0,0,0,0,0,0,0,0,0,0,0,0,0,0,0,0,0,0,0,0,0,0,0,0,0,0,0,0,0,0,0,0,0,0,0,0,0,0,0,0,0,0,0,0,0,0,0,0,0,0]
[null,null,null,null,null,null,null,null,null,null,null,null,null,null,null,null,null,null,null,null,null,null,null,null,null,null,null,null,null,null,null,null,null,null,null,null,null,null,null,null,null,null,null,null,null,null,null,null,null,null,null,null,null,null,null,null,null,null,null,null,null,null,null,null,null,null,null,null,null,null,null,null,null,null,null,null,null,null,null,null,null,null,null,null,null,null,null,null,null,null,null,{"$f":"Grunddaten!B86","v":615},{"$f":"Grunddaten!C86","v":"Reserve"},null,0,0,0,0,0,0,0,0,0,0,0,0,0,0,0,0,0,0,0,0,0,0,0,0,0,0,0,0,0,0,0,0,0,0,0,0,0,0,0,0,0,0,0,0,0,0,0,0,0,0,0,0,0,0,0,0,0,0,0,0,0,0,0,0,0,0,0,0,0,0,0,0,0,0,0,0,0,0,0,0,0,0,0,0,0,0,0,0,0,0,0,0,0,0,0,0,0,0,0,0]
[null,null,null,null,null,null,null,null,null,null,null,null,null,null,null,null,null,null,null,null,null,null,null,null,null,null,null,null,null,null,null,null,null,null,null,null,null,null,null,null,null,null,null,null,null,null,null,null,null,null,null,null,null,null,null,null,null,null,null,null,null,null,null,null,null,null,null,null,null,null,null,null,null,null,null,null,null,null,null,null,null,null,null,null,null,null,null,null,null,null,null,{"$f":"Grunddaten!B87","v":616},{"$f":"Grunddaten!C87","v":"Reserve"},null,0,0,0,0,0,0,0,0,0,0,0,0,0,0,0,0,0,0,0,0,0,0,0,0,0,0,0,0,0,0,0,0,0,0,0,0,0,0,0,0,0,0,0,0,0,0,0,0,0,0,0,0,0,0,0,0,0,0,0,0,0,0,0,0,0,0,0,0,0,0,0,0,0,0,0,0,0,0,0,0,0,0,0,0,0,0,0,0,0,0,0,0,0,0,0,0,0,0,0,0]
[null,null,null,null,null,null,null,null,null,null,null,null,null,null,null,null,null,null,null,null,null,null,null,null,null,null,null,null,null,null,null,null,null,null,null,null,null,null,null,null,null,null,null,null,null,null,null,null,null,null,null,null,null,null,null,null,null,null,null,null,null,null,null,null,null,null,null,null,null,null,null,null,null,null,null,null,null,null,null,null,null,null,null,null,null,null,null,null,null,null,null,{"$f":"Grunddaten!B88","v":700},{"$f":"Grunddaten!C88","v":"Med.-therap. Massnah."},null,0,0,0,0,0,0,0,0,0,0,0,0,0,0,0,0,0,0,0,0,0,0,0,0,0,0,0,0,0,0,0,0,0,0,0,0,0,0,0,0,0,0,0,0,0,0,0,0,0,0,0,0,0,0,0,0,0,0,0,0,0,0,0,0,0,0,0,0,0,0,0,0,0,0,0,0,0,0,0,0,0,0,0,0,0,0,0,0,0,0,0,0,0,0,0,0,0,0,0,0,null,0]
[null,null,null,null,null,null,null,null,null,null,null,null,null,null,null,null,null,null,null,null,null,null,null,null,null,null,null,null,null,null,null,null,null,null,null,null,null,null,null,null,null,null,null,null,null,null,null,null,null,null,null,null,null,null,null,null,null,null,null,null,null,null,null,null,null,null,null,null,null,null,null,null,null,null,null,null,null,null,null,null,null,null,null,null,null,null,null,null,null,null,null,{"$f":"Grunddaten!B89","v":701},{"$f":"Grunddaten!C89","v":"Reserve"},null,0,0,0,0,0,0,0,0,0,0,0,0,0,0,0,0,0,0,0,0,0,0,0,0,0,0,0,0,0,0,0,0,0,0,0,0,0,0,0,0,0,0,0,0,0,0,0,0,0,0,0,0,0,0,0,0,0,0,0,0,0,0,0,0,0,0,0,0,0,0,0,0,0,0,0,0,0,0,0,0,0,0,0,0,0,0,0,0,0,0,0,0,0,0,0,0,0,0,0,0,null,0]
[null,null,null,null,null,null,null,null,null,null,null,null,null,null,null,null,null,null,null,null,null,null,null,null,null,null,null,null,null,null,null,null,null,null,null,null,null,null,null,null,null,null,null,null,null,null,null,null,null,null,null,null,null,null,null,null,null,null,null,null,null,null,null,null,null,null,null,null,null,null,null,null,null,null,null,null,null,null,null,null,null,null,null,null,null,null,null,null,null,null,null,{"$f":"Grunddaten!B90","v":702},{"$f":"Grunddaten!C90","v":"Reserve"},null,0,0,0,0,0,0,0,0,0,0,0,0,0,0,0,0,0,0,0,0,0,0,0,0,0,0,0,0,0,0,0,0,0,0,0,0,0,0,0,0,0,0,0,0,0,0,0,0,0,0,0,0,0,0,0,0,0,0,0,0,0,0,0,0,0,0,0,0,0,0,0,0,0,0,0,0,0,0,0,0,0,0,0,0,0,0,0,0,0,0,0,0,0,0,0,0,0,0,0,0,null,0]
[null,null,null,null,null,null,null,null,null,null,null,null,null,null,null,null,null,null,null,null,null,null,null,null,null,null,null,null,null,null,null,null,null,null,null,null,null,null,null,null,null,null,null,null,null,null,null,null,null,null,null,null,null,null,null,null,null,null,null,null,null,null,null,null,null,null,null,null,null,null,null,null,null,null,null,null,null,null,null,null,null,null,null,null,null,null,null,null,null,null,null,{"$f":"Grunddaten!B91","v":703},{"$f":"Grunddaten!C91","v":"Reserve"},null,0,0,0,0,0,0,0,0,0,0,0,0,0,0,0,0,0,0,0,0,0,0,0,0,0,0,0,0,0,0,0,0,0,0,0,0,0,0,0,0,0,0,0,0,0,0,0,0,0,0,0,0,0,0,0,0,0,0,0,0,0,0,0,0,0,0,0,0,0,0,0,0,0,0,0,0,0,0,0,0,0,0,0,0,0,0,0,0,0,0,0,0,0,0,0,0,0,0,0,0,null,0]
[null,null,null,null,null,null,null,null,null,null,null,null,null,null,null,null,null,null,null,null,null,null,null,null,null,null,null,null,null,null,null,null,null,null,null,null,null,null,null,null,null,null,null,null,null,null,null,null,null,null,null,null,null,null,null,null,null,null,null,null,null,null,null,null,null,null,null,null,null,null,null,null,null,null,null,null,null,null,null,null,null,null,null,null,null,null,null,null,null,null,null,{"$f":"Grunddaten!B92","v":704},{"$f":"Grunddaten!C92","v":"Reserve"},null,0,0,0,0,0,0,0,0,0,0,0,0,0,0,0,0,0,0,0,0,0,0,0,0,0,0,0,0,0,0,0,0,0,0,0,0,0,0,0,0,0,0,0,0,0,0,0,0,0,0,0,0,0,0,0,0,0,0,0,0,0,0,0,0,0,0,0,0,0,0,0,0,0,0,0,0,0,0,0,0,0,0,0,0,0,0,0,0,0,0,0,0,0,0,0,0,0,0,0,0,null,0]
[null,null,null,null,null,null,null,null,null,null,null,null,null,null,null,null,null,null,null,null,null,null,null,null,null,null,null,null,null,null,null,null,null,null,null,null,null,null,null,null,null,null,null,null,null,null,null,null,null,null,null,null,null,null,null,null,null,null,null,null,null,null,null,null,null,null,null,null,null,null,null,null,null,null,null,null,null,null,null,null,null,null,null,null,null,null,null,null,null,null,null,{"$f":"Grunddaten!B93","v":705},{"$f":"Grunddaten!C93","v":"Reserve"},null,0,0,0,0,0,0,0,0,0,0,0,0,0,0,0,0,0,0,0,0,0,0,0,0,0,0,0,0,0,0,0,0,0,0,0,0,0,0,0,0,0,0,0,0,0,0,0,0,0,0,0,0,0,0,0,0,0,0,0,0,0,0,0,0,0,0,0,0,0,0,0,0,0,0,0,0,0,0,0,0,0,0,0,0,0,0,0,0,0,0,0,0,0,0,0,0,0,0,0,0,null,0]
[null,null,null,null,null,null,null,null,null,null,null,null,null,null,null,null,null,null,null,null,null,null,null,null,null,null,null,null,null,null,null,null,null,null,null,null,null,null,null,null,null,null,null,null,null,null,null,null,null,null,null,null,null,null,null,null,null,null,null,null,null,null,null,null,null,null,null,null,null,null,null,null,null,null,null,null,null,null,null,null,null,null,null,null,null,null,null,null,null,null,null,{"$f":"Grunddaten!B94","v":706},{"$f":"Grunddaten!C94","v":"Reserve"},null,0,0,0,0,0,0,0,0,0,0,0,0,0,0,0,0,0,0,0,0,0,0,0,0,0,0,0,0,0,0,0,0,0,0,0,0,0,0,0,0,0,0,0,0,0,0,0,0,0,0,0,0,0,0,0,0,0,0,0,0,0,0,0,0,0,0,0,0,0,0,0,0,0,0,0,0,0,0,0,0,0,0,0,0,0,0,0,0,0,0,0,0,0,0,0,0,0,0,0,0,null,0]
[null,null,null,null,null,null,null,null,null,null,null,null,null,null,null,null,null,null,null,null,null,null,null,null,null,null,null,null,null,null,null,null,null,null,null,null,null,null,null,null,null,null,null,null,null,null,null,null,null,null,null,null,null,null,null,null,null,null,null,null,null,null,null,null,null,null,null,null,null,null,null,null,null,null,null,null,null,null,null,null,null,null,null,null,null,null,null,null,null,null,null,{"$f":"Grunddaten!B95","v":800},{"$f":"Grunddaten!C95","v":"Päd.-therap. Massnah."},null,0,0,0,0,0,0,0,0,0,0,0,0,0,0,0,0,0,0,0,0,0,0,0,0,0,0,0,0,0,0,0,0,0,0,0,0,0,0,0,0,0,0,0,0,0,0,0,0,0,0,0,0,0,0,0,0,0,0,0,0,0,0,0,0,0,0,0,0,0,0,0,0,0,0,0,0,0,0,0,0,0,0,0,0,0,0,0,0,0,0,0,0,0,0,0,0,0,0,0,0,null,0]
[null,null,null,null,null,null,null,null,null,null,null,null,null,null,null,null,null,null,null,null,null,null,null,null,null,null,null,null,null,null,null,null,null,null,null,null,null,null,null,null,null,null,null,null,null,null,null,null,null,null,null,null,null,null,null,null,null,null,null,null,null,null,null,null,null,null,null,null,null,null,null,null,null,null,null,null,null,null,null,null,null,null,null,null,null,null,null,null,null,null,null,{"$f":"Grunddaten!B96","v":801},{"$f":"Grunddaten!C96","v":"Reserve"},null,{"$f":"SUM(CR230:GL230)","v":0},0,0,0,0,0,0,0,0,0,0,0,0,0,0,0,0,0,0,0,0,0,0,0,0,0,0,0,0,0,0,0,0,0,0,0,0,0,0,0,0,0,0,0,0,0,0,0,0,0,0,0,0,0,0,0,0,0,0,0,0,0,0,0,0,0,0,0,0,0,0,0,0,0,0,0,0,0,0,0,0,0,0,0,0,0,0,0,0,0,0,0,0,0,0,0,0,0,0,0,null,0]
[null,null,null,null,null,null,null,null,null,null,null,null,null,null,null,null,null,null,null,null,null,null,null,null,null,null,null,null,null,null,null,null,null,null,null,null,null,null,null,null,null,null,null,null,null,null,null,null,null,null,null,null,null,null,null,null,null,null,null,null,null,null,null,null,null,null,null,null,null,null,null,null,null,null,null,null,null,null,null,null,null,null,null,null,null,null,null,null,null,null,null,{"$f":"Grunddaten!B97","v":802},{"$f":"Grunddaten!C97","v":"Reserve"},null,0,0,0,0,0,0,0,0,0,0,0,0,0,0,0,0,0,0,0,0,0,0,0,0,0,0,0,0,0,0,0,0,0,0,0,0,0,0,0,0,0,0,0,0,0,0,0,0,0,0,0,0,0,0,0,0,0,0,0,0,0,0,0,0,0,0,0,0,0,0,0,0,0,0,0,0,0,0,0,0,0,0,0,0,0,0,0,0,0,0,0,0,0,0,0,0,0,0,0,0,null,0]
[null,null,null,null,null,null,null,null,null,null,null,null,null,null,null,null,null,null,null,null,null,null,null,null,null,null,null,null,null,null,null,null,null,null,null,null,null,null,null,null,null,null,null,null,null,null,null,null,null,null,null,null,null,null,null,null,null,null,null,null,null,null,null,null,null,null,null,null,null,null,null,null,null,null,null,null,null,null,null,null,null,null,null,null,null,null,null,null,null,null,null,{"$f":"Grunddaten!B98","v":803},{"$f":"Grunddaten!C98","v":"Reserve"},null,0,0,0,0,0,0,0,0,0,0,0,0,0,0,0,0,0,0,0,0,0,0,0,0,0,0,0,0,0,0,0,0,0,0,0,0,0,0,0,0,0,0,0,0,0,0,0,0,0,0,0,0,0,0,0,0,0,0,0,0,0,0,0,0,0,0,0,0,0,0,0,0,0,0,0,0,0,0,0,0,0,0,0,0,0,0,0,0,0,0,0,0,0,0,0,0,0,0,0,0,null,0]
[null,null,null,null,null,null,null,null,null,null,null,null,null,null,null,null,null,null,null,null,null,null,null,null,null,null,null,null,null,null,null,null,null,null,null,null,null,null,null,null,null,null,null,null,null,null,null,null,null,null,null,null,null,null,null,null,null,null,null,null,null,null,null,null,null,null,null,null,null,null,null,null,null,null,null,null,null,null,null,null,null,null,null,null,null,null,null,null,null,null,null,{"$f":"Grunddaten!B99","v":804},{"$f":"Grunddaten!C99","v":"Reserve"},null,0,0,0,0,0,0,0,0,0,0,0,0,0,0,0,0,0,0,0,0,0,0,0,0,0,0,0,0,0,0,0,0,0,0,0,0,0,0,0,0,0,0,0,0,0,0,0,0,0,0,0,0,0,0,0,0,0,0,0,0,0,0,0,0,0,0,0,0,0,0,0,0,0,0,0,0,0,0,0,0,0,0,0,0,0,0,0,0,0,0,0,0,0,0,0,0,0,0,0,0,null,0]
[null,null,null,null,null,null,null,null,null,null,null,null,null,null,null,null,null,null,null,null,null,null,null,null,null,null,null,null,null,null,null,null,null,null,null,null,null,null,null,null,null,null,null,null,null,null,null,null,null,null,null,null,null,null,null,null,null,null,null,null,null,null,null,null,null,null,null,null,null,null,null,null,null,null,null,null,null,null,null,null,null,null,null,null,null,null,null,null,null,null,null,{"$f":"Grunddaten!B100","v":805},{"$f":"Grunddaten!C100","v":"Reserve"},null,0,0,0,0,0,0,0,0,0,0,0,0,0,0,0,0,0,0,0,0,0,0,0,0,0,0,0,0,0,0,0,0,0,0,0,0,0,0,0,0,0,0,0,0,0,0,0,0,0,0,0,0,0,0,0,0,0,0,0,0,0,0,0,0,0,0,0,0,0,0,0,0,0,0,0,0,0,0,0,0,0,0,0,0,0,0,0,0,0,0,0,0,0,0,0,0,0,0,0,0,null,0]
[null,null,null,null,null,null,null,null,null,null,null,null,null,null,null,null,null,null,null,null,null,null,null,null,null,null,null,null,null,null,null,null,null,null,null,null,null,null,null,null,null,null,null,null,null,null,null,null,null,null,null,null,null,null,null,null,null,null,null,null,null,null,null,null,null,null,null,null,null,null,null,null,null,null,null,null,null,null,null,null,null,null,null,null,null,null,null,null,null,null,null,{"$f":"Grunddaten!B101","v":806},{"$f":"Grunddaten!C101","v":"Reserve"},null,0,0,0,0,0,0,0,0,0,0,0,0,0,0,0,0,0,0,0,0,0,0,0,0,0,0,0,0,0,0,0,0,0,0,0,0,0,0,0,0,0,0,0,0,0,0,0,0,0,0,0,0,0,0,0,0,0,0,0,0,0,0,0,0,0,0,0,0,0,0,0,0,0,0,0,0,0,0,0,0,0,0,0,0,0,0,0,0,0,0,0,0,0,0,0,0,0,0,0,0,null,0]
[null,null,null,null,null,null,null,null,null,null,null,null,null,null,null,null,null,null,null,null,null,null,null,null,null,null,null,null,null,null,null,null,null,null,null,null,null,null,null,null,null,null,null,null,null,null,null,null,null,null,null,null,null,null,null,null,null,null,null,null,null,null,null,null,null,null,null,null,null,null,null,null,null,null,null,null,null,null,null,null,null,null,null,null,null,null,null,null,null,null,null,{"$f":"Grunddaten!B102","v":900},{"$f":"Grunddaten!C102","v":"Taschengeld BT"},null,0,0,0,0,0,0,0,0,0,0,0,0,0,0,0,0,0,0,0,0,0,0,0,0,0,0,0,0,0,0,0,0,0,0,0,0,0,0,0,0,0,0,0,0,0,0,0,0,0,0,0,0,0,0,0,0,0,0,0,0,0,0,0,0,0,0,0,0,0,0,0,0,0,0,0,0,0,0,0,0,0,0,0,0,0,0,0,0,0,0,0,0,0,0,0,0,0,0,0,0,null,0]
[null,null,null,null,null,null,null,null,null,null,null,null,null,null,null,null,null,null,null,null,null,null,null,null,null,null,null,null,null,null,null,null,null,null,null,null,null,null,null,null,null,null,null,null,null,null,null,null,null,null,null,null,null,null,null,null,null,null,null,null,null,null,null,null,null,null,null,null,null,null,null,null,null,null,null,null,null,null,null,null,null,null,null,null,null,null,null,null,null,null,null,{"$f":"Grunddaten!B103","v":901},{"$f":"Grunddaten!C103","v":"Reserve"},null,0,0,0,0,0,0,0,0,0,0,0,0,0,0,0,0,0,0,0,0,0,0,0,0,0,0,0,0,0,0,0,0,0,0,0,0,0,0,0,0,0,0,0,0,0,0,0,0,0,0,0,0,0,0,0,0,0,0,0,0,0,0,0,0,0,0,0,0,0,0,0,0,0,0,0,0,0,0,0,0,0,0,0,0,0,0,0,0,0,0,0,0,0,0,0,0,0,0,0,0,null,0]
[null,null,null,null,null,null,null,null,null,null,null,null,null,null,null,null,null,null,null,null,null,null,null,null,null,null,null,null,null,null,null,null,null,null,null,null,null,null,null,null,null,null,null,null,null,null,null,null,null,null,null,null,null,null,null,null,null,null,null,null,null,null,null,null,null,null,null,null,null,null,null,null,null,null,null,null,null,null,null,null,null,null,null,null,null,null,null,null,null,null,null,{"$f":"Grunddaten!B104","v":902},{"$f":"Grunddaten!C104","v":"Reserve"},null,0,0,0,0,0,0,0,0,0,0,0,0,0,0,0,0,0,0,0,0,0,0,0,0,0,0,0,0,0,0,0,0,0,0,0,0,0,0,0,0,0,0,0,0,0,0,0,0,0,0,0,0,0,0,0,0,0,0,0,0,0,0,0,0,0,0,0,0,0,0,0,0,0,0,0,0,0,0,0,0,0,0,0,0,0,0,0,0,0,0,0,0,0,0,0,0,0,0,0,0,null,0]
[null,null,null,null,null,null,null,null,null,null,null,null,null,null,null,null,null,null,null,null,null,null,null,null,null,null,null,null,null,null,null,null,null,null,null,null,null,null,null,null,null,null,null,null,null,null,null,null,null,null,null,null,null,null,null,null,null,null,null,null,null,null,null,null,null,null,null,null,null,null,null,null,null,null,null,null,null,null,null,null,null,null,null,null,null,null,null,null,null,null,null,{"$f":"Grunddaten!B105","v":903},{"$f":"Grunddaten!C105","v":"Reserve"},null,0,0,0,0,0,0,0,0,0,0,0,0,0,0,0,0,0,0,0,0,0,0,0,0,0,0,0,0,0,0,0,0,0,0,0,0,0,0,0,0,0,0,0,0,0,0,0,0,0,0,0,0,0,0,0,0,0,0,0,0,0,0,0,0,0,0,0,0,0,0,0,0,0,0,0,0,0,0,0,0,0,0,0,0,0,0,0,0,0,0,0,0,0,0,0,0,0,0,0,0,null,0]
[null,null,null,null,null,null,null,null,null,null,null,null,null,null,null,null,null,null,null,null,null,null,null,null,null,null,null,null,null,null,null,null,null,null,null,null,null,null,null,null,null,null,null,null,null,null,null,null,null,null,null,null,null,null,null,null,null,null,null,null,null,null,null,null,null,null,null,null,null,null,null,null,null,null,null,null,null,null,null,null,null,null,null,null,null,null,null,null,null,null,null,{"$f":"Grunddaten!B106","v":904},{"$f":"Grunddaten!C106","v":"Reserve"},null,0,0,0,0,0,0,0,0,0,0,0,0,0,0,0,0,0,0,0,0,0,0,0,0,0,0,0,0,0,0,0,0,0,0,0,0,0,0,0,0,0,0,0,0,0,0,0,0,0,0,0,0,0,0,0,0,0,0,0,0,0,0,0,0,0,0,0,0,0,0,0,0,0,0,0,0,0,0,0,0,0,0,0,0,0,0,0,0,0,0,0,0,0,0,0,0,0,0,0,0,null,0]
[null,null,null,null,null,null,null,null,null,null,null,null,null,null,null,null,null,null,null,null,null,null,null,null,null,null,null,null,null,null,null,null,null,null,null,null,null,null,null,null,null,null,null,null,null,null,null,null,null,null,null,null,null,null,null,null,null,null,null,null,null,null,null,null,null,null,null,null,null,null,null,null,null,null,null,null,null,null,null,null,null,null,null,null,null,null,null,null,null,null,null,{"$f":"Grunddaten!B107","v":905},{"$f":"Grunddaten!C107","v":"Reserve"},null,0,0,0,0,0,0,0,0,0,0,0,0,0,0,0,0,0,0,0,0,0,0,0,0,0,0,0,0,0,0,0,0,0,0,0,0,0,0,0,0,0,0,0,0,0,0,0,0,0,0,0,0,0,0,0,0,0,0,0,0,0,0,0,0,0,0,0,0,0,0,0,0,0,0,0,0,0,0,0,0,0,0,0,0,0,0,0,0,0,0,0,0,0,0,0,0,0,0,0,0,null,0]
[null,null,null,null,null,null,null,null,null,null,null,null,null,null,null,null,null,null,null,null,null,null,null,null,null,null,null,null,null,null,null,null,null,null,null,null,null,null,null,null,null,null,null,null,null,null,null,null,null,null,null,null,null,null,null,null,null,null,null,null,null,null,null,null,null,null,null,null,null,null,null,null,null,null,null,null,null,null,null,null,null,null,null,null,null,null,null,null,null,null,null,{"$f":"Grunddaten!B108","v":906},{"$f":"Grunddaten!C108","v":"Reserve"},null,0,0,0,0,0,0,0,0,0,0,0,0,0,0,0,0,0,0,0,0,0,0,0,0,0,0,0,0,0,0,0,0,0,0,0,0,0,0,0,0,0,0,0,0,0,0,0,0,0,0,0,0,0,0,0,0,0,0,0,0,0,0,0,0,0,0,0,0,0,0,0,0,0,0,0,0,0,0,0,0,0,0,0,0,0,0,0,0,0,0,0,0,0,0,0,0,0,0,0,0,null,0]
[null,null,null,null,null,null,null,null,null,null,null,null,null,null,null,null,null,null,null,null,null,null,null,null,null,null,null,null,null,null,null,null,null,null,null,null,null,null,null,null,null,null,null,null,null,null,null,null,null,null,null,null,null,null,null,null,null,null,null,null,null,null,null,null,null,null,null,null,null,null,null,null,null,null,null,null,null,null,null,null,null,null,null,null,null,null,null,null,null,null,null,{"$f":"Grunddaten!B109","v":1000},{"$f":"Grunddaten!C109","v":"Diverses"},null,0,0,0,0,0,0,0,0,0,0,0,0,0,0,0,0,0,0,0,0,0,0,0,0,0,0,0,0,0,0,0,0,0,0,0,0,0,0,0,0,0,0,0,0,0,0,0,0,0,0,0,0,0,0,0,0,0,0,0,0,0,0,0,0,0,0,0,0,0,0,0,0,0,0,0,0,0,0,0,0,0,0,0,0,0,0,0,0,0,0,0,0,0,0,0,0,0,0,0,0,null,0]
[null,null,null,null,null,null,null,null,null,null,null,null,null,null,null,null,null,null,null,null,null,null,null,null,null,null,null,null,null,null,null,null,null,null,null,null,null,null,null,null,null,null,null,null,null,null,null,null,null,null,null,null,null,null,null,null,null,null,null,null,null,null,null,null,null,null,null,null,null,null,null,null,null,null,null,null,null,null,null,null,null,null,null,null,null,null,null,null,null,null,null,{"$f":"Grunddaten!B110","v":1001},{"$f":"Grunddaten!C110","v":"Reserve"},null,0,0,0,0,0,0,0,0,0,0,0,0,0,0,0,0,0,0,0,0,0,0,0,0,0,0,0,0,0,0,0,0,0,0,0,0,0,0,0,0,0,0,0,0,0,0,0,0,0,0,0,0,0,0,0,0,0,0,0,0,0,0,0,0,0,0,0,0,0,0,0,0,0,0,0,0,0,0,0,0,0,0,0,0,0,0,0,0,0,0,0,0,0,0,0,0,0,0,0,0]
[null,null,null,null,null,null,null,null,null,null,null,null,null,null,null,null,null,null,null,null,null,null,null,null,null,null,null,null,null,null,null,null,null,null,null,null,null,null,null,null,null,null,null,null,null,null,null,null,null,null,null,null,null,null,null,null,null,null,null,null,null,null,null,null,null,null,null,null,null,null,null,null,null,null,null,null,null,null,null,null,null,null,null,null,null,null,null,null,null,null,null,{"$f":"Grunddaten!B111","v":1002},{"$f":"Grunddaten!C111","v":"Reserve"},null,0,0,0,0,0,0,0,0,0,0,0,0,0,0,0,0,0,0,0,0,0,0,0,0,0,0,0,0,0,0,0,0,0,0,0,0,0,0,0,0,0,0,0,0,0,0,0,0,0,0,0,0,0,0,0,0,0,0,0,0,0,0,0,0,0,0,0,0,0,0,0,0,0,0,0,0,0,0,0,0,0,0,0,0,0,0,0,0,0,0,0,0,0,0,0,0,0,0,0,0]
[null,null,null,null,null,null,null,null,null,null,null,null,null,null,null,null,null,null,null,null,null,null,null,null,null,null,null,null,null,null,null,null,null,null,null,null,null,null,null,null,null,null,null,null,null,null,null,null,null,null,null,null,null,null,null,null,null,null,null,null,null,null,null,null,null,null,null,null,null,null,null,null,null,null,null,null,null,null,null,null,null,null,null,null,null,null,null,null,null,null,null,{"$f":"Grunddaten!B112","v":1003},{"$f":"Grunddaten!C112","v":"Reserve"},null,0,0,0,0,0,0,0,0,0,0,0,0,0,0,0,0,0,0,0,0,0,0,0,0,0,0,0,0,0,0,0,0,0,0,0,0,0,0,0,0,0,0,0,0,0,0,0,0,0,0,0,0,0,0,0,0,0,0,0,0,0,0,0,0,0,0,0,0,0,0,0,0,0,0,0,0,0,0,0,0,0,0,0,0,0,0,0,0,0,0,0,0,0,0,0,0,0,0,0,0]
[null,null,null,null,null,null,null,null,null,null,null,null,null,null,null,null,null,null,null,null,null,null,null,null,null,null,null,null,null,null,null,null,null,null,null,null,null,null,null,null,null,null,null,null,null,null,null,null,null,null,null,null,null,null,null,null,null,null,null,null,null,null,null,null,null,null,null,null,null,null,null,null,null,null,null,null,null,null,null,null,null,null,null,null,null,null,null,null,null,null,null,{"$f":"Grunddaten!B113","v":1004},{"$f":"Grunddaten!C113","v":"Reserve"},null,0,0,0,0,0,0,0,0,0,0,0,0,0,0,0,0,0,0,0,0,0,0,0,0,0,0,0,0,0,0,0,0,0,0,0,0,0,0,0,0,0,0,0,0,0,0,0,0,0,0,0,0,0,0,0,0,0,0,0,0,0,0,0,0,0,0,0,0,0,0,0,0,0,0,0,0,0,0,0,0,0,0,0,0,0,0,0,0,0,0,0,0,0,0,0,0,0,0,0,0]
[null,null,null,null,null,null,null,null,null,null,null,null,null,null,null,null,null,null,null,null,null,null,null,null,null,null,null,null,null,null,null,null,null,null,null,null,null,null,null,null,null,null,null,null,null,null,null,null,null,null,null,null,null,null,null,null,null,null,null,null,null,null,null,null,null,null,null,null,null,null,null,null,null,null,null,null,null,null,null,null,null,null,null,null,null,null,null,null,null,null,null,{"$f":"Grunddaten!B114","v":1005},{"$f":"Grunddaten!C114","v":"Reserve"},null,0,0,0,0,0,0,0,0,0,0,0,0,0,0,0,0,0,0,0,0,0,0,0,0,0,0,0,0,0,0,0,0,0,0,0,0,0,0,0,0,0,0,0,0,0,0,0,0,0,0,0,0,0,0,0,0,0,0,0,0,0,0,0,0,0,0,0,0,0,0,0,0,0,0,0,0,0,0,0,0,0,0,0,0,0,0,0,0,0,0,0,0,0,0,0,0,0,0,0,0]
[null,null,null,null,null,null,null,null,null,null,null,null,null,null,null,null,null,null,null,null,null,null,null,null,null,null,null,null,null,null,null,null,null,null,null,null,null,null,null,null,null,null,null,null,null,null,null,null,null,null,null,null,null,null,null,null,null,null,null,null,null,null,null,null,null,null,null,null,null,null,null,null,null,null,null,null,null,null,null,null,null,null,null,null,null,null,null,null,null,null,null,{"$f":"Grunddaten!B115","v":1006},{"$f":"Grunddaten!C115","v":"Reserve"},null,0,0,0,0,0,0,0,0,0,0,0,0,0,0,0,0,0,0,0,0,0,0,0,0,0,0,0,0,0,0,0,0,0,0,0,0,0,0,0,0,0,0,0,0,0,0,0,0,0,0,0,0,0,0,0,0,0,0,0,0,0,0,0,0,0,0,0,0,0,0,0,0,0,0,0,0,0,0,0,0,0,0,0,0,0,0,0,0,0,0,0,0,0,0,0,0,0,0,0,0]

{"sheet":"Erträge nach IBB-Kostenträger","index":7,"n_rows":39,"n_cols":12,"rows_kept":39,"cut":false,"hidden":false,"merged":[[3,0,3,3],[14,0,14,3],[27,1,27,4],[4,9,4,11],[15,9,15,11],[4,1,4,4],[4,5,4,8],[15,1,15,4],[15,5,15,8],[26,0,26,4]]}
["Aufteilung Erträge durch Leistungsabgeltungen"]
[]
[]
["IFEG: Innerkantonale Leistungsbeziehende"]
["Bedarfsstufe","Betreutes Wohnen",null,null,null,"Begleitete Tagesgestaltung",null,null,null,"Begleitete Arbeit"]
[null,"Gesamtpauschale","Kantonsbeitrag","Kostenbeteiligung","Hilflosenentschädigung","Gesamtpauschale","Kantonsbeitrag","Kostenbeteiligung","Hilflosenentschädigung","Gesamtpauschale","Kantonsbeitrag","Kostenbeteiligung"]
["IBB Stufe 0"]
["IBB Stufe 1"]
["IBB Stufe 2"]
["IBB Stufe 3"]
["IBB Stufe 4"]
["Total",{"$f":"IF(SUM(B7:B11)=0,\"\",SUM(B7:B11))","v":""},"","",null,"","","",null,"","",""]
["entsprechendes CURAVIVA Konto",null,6000,6020,6040,null,6000,6020,6040,null,6000,6020]
[]
["IFEG: Ausserkantonale Leistungsbeziehende"]
["Bedarfsstufe","Betreutes Wohnen",null,null,null,"Begleitete Tagesgestaltung",null,null,null,"Begleitete Arbeit"]
[null,"Gesamtpauschale","Kantonsbeitrag","Kostenbeteiligung","Hilflosenentschädigung","Gesamtpauschale","Kantonsbeitrag","Kostenbeteiligung","Hilflosenentschädigung","Gesamtpauschale","Kantonsbeitrag","Kostenbeteiligung"]
["IBB Stufe 0"]
["IBB Stufe 1"]
["IBB Stufe 2"]
["IBB Stufe 3"]
["IBB Stufe 4"]
["Total",{"$f":"IF(SUM(B18:B22)=0,\"\",SUM(B18:B22))","v":""},"","",null,"","","",null,"","",""]
["entsprechendes CURAVIVA Konto",null,6100,6120,6140,null,6100,6120,6140,null,6100,6120]
[]
[]
["Ambulante Wohnbegleitung: Innerkantonale Leistungsbeziehende"]
["Bedarfsstufe","Ambulantes Wohnen (Nicht IFEG Leistungen)"]
[null,"Gesamtpauschale","Kantonsbeitrag","Kostenbeteiligung","Hilflosenentschädigung"]
["AWB Stufe 1"]
["AWB Stufe 2"]
["AWB Stufe 3"]
["AWB Stufe 4"]
["iAWB Stufe 5"]
["iAWB Stufe 6"]
["iAWB Stufe 7"]
["iAWB Stufe 8"]
["Total",{"$f":"IF(SUM(B30:B37)=0,\"\",SUM(B30:B37))","v":""},{"$f":"IF(SUM(C30:C37)=0,\"\",SUM(C30:C37))","v":""},{"$f":"IF(SUM(D30:D37)=0,\"\",SUM(D30:D37))","v":""}]
["entsprechendes CURAVIVA Konto",null,6210,6210,6210]

{"sheet":"Lohnsplitt BW_TS","index":8,"n_rows":49,"n_cols":21,"rows_kept":49,"cut":false,"hidden":false,"merged":[[5,19,6,20],[6,5,6,6],[6,7,6,8],[6,9,6,10],[6,11,6,12],[6,13,6,14],[6,15,6,16],[6,17,6,18],[5,5,5,7],[5,9,5,11],[5,13,5,16],[5,17,5,18]]}
["Bsp. Lohnkostenaufteilung Behindertenhilfe BW und BT"]
[]
["Die Tabelle kann beliebig verändert und um weitere Kostenstellen erweitert werden."]
[]
[]
[null,null,null,null,null,"Betreutes Wohnen",null,null,null,"Betreute Tagesgestaltung ",null,null,null,"BA",null,null,null,"Produktion",null,"Kontrolle"]
[null,null,null,null,"Beschreibung der","Objektkostenanteil",null,"Betreuungskostenanteil",null,"Objektkostenanteil",null,"Betreuungskostenanteil",null,"Objektkostenanteil",null,"Betreuungskostenanteil",null,"Objektkostenanteil"]
["Funktion/Bereich","Name","Vorname","Lohn"," Methodik Verteilung Stellenprozente","in %","in Fr.","in %","in Fr.","in %","in Fr.","in %","in Fr.","in %","in Fr.","in %","in Fr.","in %","in Fr.","Pensum","Lohn"]
["Bereichsleitung",null,null,85000,"gemäss Stellenbeschreibung",0.4,{"$f":"(F9*D9)","v":34000},0,{"$f":"(H9*D9)","v":0},0.4,{"$f":"(J9*D9)","v":34000},0.2,{"$f":"(L9*D9)","v":17000},null,{"$f":"(N9*D9)","v":0},null,{"$f":"(P9*D9)","v":0},null,{"$f":"(R9*D9)","v":0},{"$f":"SUM(F9,H9,J9,L9,N9,P9,R9)","v":1},{"$f":"(G9+I9+K9+M9+O9+Q9+S9)","v":85000}]
["Teamleitung Werkstatt (Beispiele)",null,null,85000,"gemäss effektiver Tätigkeitserfassung",null,{"$f":"(F10*D10)","v":0},null,{"$f":"(H10*D10)","v":0},null,{"$f":"(J10*D10)","v":0},null,{"$f":"(L10*D10)","v":0},0.3,{"$f":"(N10*D10)","v":25500},0.4,{"$f":"(P10*D10)","v":34000},0.3,{"$f":"(R10*D10)","v":25500},{"$f":"SUM(F10,H10,J10,L10,N10,P10,R10)","v":1},{"$f":"(G10+I10+K10+M10+O10+Q10+S10)","v":85000}]
[null,null,null,null,null,null,0,null,0,null,0,null,0,null,0,null,{"$f":"(P11*D11)","v":0},null,{"$f":"(R11*D11)","v":0},0,{"$f":"(G11+I11+K11+M11+O11+Q11+S11)","v":0}]
[null,null,null,null,null,null,0,null,0,null,0,null,0,null,0,null,0,null,0,0,0]
[null,null,null,null,null,null,0,null,0,null,0,null,0,null,0,null,0,null,0,0,0]
[null,null,null,null,null,null,0,null,0,null,0,null,0,null,0,null,0,null,0,0,0]
[null,null,null,null,null,null,0,null,0,null,0,null,0,null,0,null,0,null,0,0,0]
[null,null,null,null,null,null,0,null,0,null,0,null,0,null,0,null,0,null,0,0,0]
[null,null,null,null,null,null,0,null,0,null,0,null,0,null,0,null,0,null,0,0,0]
[null,null,null,null,null,null,0,null,0,null,0,null,0,null,0,null,0,null,0,0,0]
[null,null,null,null,null,null,0,null,0,null,0,null,0,null,0,null,0,null,0,0,0]
[null,null,null,null,null,null,0,null,0,null,0,null,0,null,0,null,0,null,0,0,0]
[null,null,null,null,null,null,0,null,0,null,0,null,0,null,0,null,0,null,0,0,0]
[null,null,null,null,null,null,0,null,0,null,0,null,0,null,0,null,0,null,0,0,0]
[null,null,null,null,null,null,0,null,0,null,0,null,0,null,0,null,0,null,0,0,0]
[null,null,null,null,null,null,0,null,0,null,0,null,0,null,0,null,0,null,0,0,0]
[null,null,null,null,null,null,0,null,0,null,0,null,0,null,0,null,0,null,0,0,0]
[null,null,null,null,null,null,0,null,0,null,0,null,0,null,0,null,0,null,0,0,0]
[null,null,null,null,null,null,0,null,0,null,0,null,0,null,0,null,0,null,0,0,0]
[null,null,null,null,null,null,0,null,0,null,0,null,0,null,0,null,0,null,0,0,0]
[null,null,null,null,null,null,0,null,0,null,0,null,0,null,0,null,0,null,0,0,0]
[null,null,null,null,null,null,0,null,0,null,0,null,0,null,0,null,0,null,0,0,0]
[null,null,null,null,null,null,0,null,0,null,0,null,0,null,0,null,0,null,0,0,0]
[null,null,null,null,null,null,0,null,0,null,0,null,0,null,0,null,0,null,0,0,0]
[null,null,null,null,null,null,0,null,0,null,0,null,0,null,0,null,0,null,0,0,0]
[null,null,null,null,null,null,0,null,0,null,0,null,0,null,0,null,0,null,0,0,0]
[null,null,null,null,null,null,0,null,0,null,0,null,0,null,0,null,0,null,0,0,0]
[null,null,null,null,null,null,0,null,0,null,0,null,0,null,0,null,0,null,0,0,0]
[null,null,null,null,null,null,0,null,0,null,0,null,0,null,0,null,0,null,0,0,0]
[null,null,null,null,null,null,0,null,0,null,0,null,0,null,0,null,0,null,0,0,0]
[null,null,null,null,null,null,0,null,0,null,0,null,0,null,0,null,0,null,0,0,0]
[null,null,null,null,null,null,0,null,0,null,0,null,0,null,0,null,0,null,0,0,0]
[null,null,null,null,null,null,0,null,0,null,0,null,0,null,0,null,0,null,0,0,0]
[null,null,null,null,null,null,0,null,0,null,0,null,0,null,0,null,0,null,0,0,0]
[null,null,null,null,null,null,0,null,0,null,0,null,0,null,0,null,0,null,0,0,0]
[null,null,null,null,null,null,0,null,0,null,0,null,0,null,0,null,0,null,0,0,0]
[null,null,null,null,null,null,0,null,0,null,0,null,0,null,0,null,0,null,0,0,0]
[null,null,null,null,null,null,0,null,0,null,0,null,0,null,0,null,0,null,0,0,0]
[]
["Umlage Hilfkostenstellen BAB",null,null,{"$f":"SUM(D9:D46)","v":170000},null,0.4,34000,0,0,0.4,34000,0.2,17000,0.3,25500,0.4,34000,0.3,25500,2,170000]
["Anteil an totale Lohnkosten",null,null,null,null,{"$f":"F48/$T$48","v":0.2},null,{"$f":"H48/$T$48","v":0},null,{"$f":"J48/$T$48","v":0.2},null,{"$f":"L48/$T$48","v":0.1},null,{"$f":"N48/$T$48","v":0.15},null,{"$f":"P48/$T$48","v":0.2},null,{"$f":"R48/$T$48","v":0.15},null,{"$f":"T48/$T$48","v":1}]

{"sheet":"Changelog","index":9,"n_rows":0,"n_cols":0,"rows_kept":0,"cut":false,"hidden":true,"merged":[]}

{"sheet":"ToDo","index":10,"n_rows":4,"n_cols":5,"rows_kept":4,"cut":false,"hidden":true,"merged":[]}
["Institution","Beschrieb","Begründung","Lösung/neue Umsetzung","Ansicht/Meinung mad"]
[null,"neues Sheet, welches als Vorlage für Aufteilung indiv. Lohnkosten/Stellenprozente zu BK/OK und BW/BT/BA dienen kann",null,"von cl"]
[null,"neues Sheet \"Bestätigung testierte FiBu oder Kostenrechnung\" und \"Bestätigung Dokumentationen\"",null,"neues Sheet (Inhalt zu bestimmen)"]
["mad/xhi","neues Sheet \"Summary\" der wichtigsten Punkt aus Wegleitung im BAB in separatem Arbeitsblatt integrieren. ",null,"Zusammenfassung der wichtigsten Punkt aus Wegleitung im BAB integrieren (Wegleitung wird von cl im März 2015erstellt)"]

{"sheet":"System","index":11,"n_rows":0,"n_cols":0,"rows_kept":0,"cut":false,"hidden":true,"merged":[]}